From mboxrd@z Thu Jan 1 00:00:00 1970 Return-Path: Received: from mails.dpdk.org (mails.dpdk.org [217.70.189.124]) by inbox.dpdk.org (Postfix) with ESMTP id A9D8746BE5 for ; Tue, 22 Jul 2025 21:47:02 +0200 (CEST) Received: from mails.dpdk.org (localhost [127.0.0.1]) by mails.dpdk.org (Postfix) with ESMTP id A1C7E4003C; Tue, 22 Jul 2025 21:47:02 +0200 (CEST) Received: from mail-qt1-f225.google.com (mail-qt1-f225.google.com [209.85.160.225]) by mails.dpdk.org (Postfix) with ESMTP id 8BC564003C for ; Tue, 22 Jul 2025 21:47:01 +0200 (CEST) Received: by mail-qt1-f225.google.com with SMTP id d75a77b69052e-4ab82eb3417so60729201cf.2 for ; Tue, 22 Jul 2025 12:47:01 -0700 (PDT) DKIM-Signature: v=1; a=rsa-sha256; c=relaxed/relaxed; d=iol.unh.edu; s=unh-iol; t=1753213621; x=1753818421; darn=dpdk.org; h=references:in-reply-to:cc:to:from:subject:message-id:date:from:to :cc:subject:date:message-id:reply-to; bh=Ne+84igQWl60cnVs9IEA1S60x4fHb7acJQxLMsPwffw=; b=OZvucoBJQLqVpbSxX5/zw1eIbKCwM8hyORe533TXJqohSGUnrk7Ft6azIm2v8XiILR Hban8mdSatP814Y6GRTiG9YQAqJ2P8JurflNLZ3aJJlm63wZyPgctS4R6QMszALDPXQx 34vlw64jjkBWIJciczVfbvKxniiLdVy3WVUVU= X-Google-DKIM-Signature: v=1; a=rsa-sha256; c=relaxed/relaxed; d=1e100.net; s=20230601; t=1753213621; x=1753818421; h=references:in-reply-to:cc:to:from:subject:message-id:date :x-gm-message-state:from:to:cc:subject:date:message-id:reply-to; bh=Ne+84igQWl60cnVs9IEA1S60x4fHb7acJQxLMsPwffw=; b=qTyYewRwDLHDwD3L4xV49pVT10wKnFLCk+xUpml9q9YYKR64vXIwYEWMuJORcNu/wN s3WrBoJUsBkhhr6LhCBMz3e+JP7eKjFusjQfoD5mZ1WvBQBLg/3ISJ4jtPHHQfzFOWE3 uQjdF8ra02faxpeHDFAZyrwhlVJsaWpqRGPsYz1cnmGI6SAqm3MwQKBHY/eM3+1FwBcA KyfpOQGpkHcdkX7/msnie/hJ0jYQTcXjgkL3O8V6fzRvYuxW7iMeeN1hrt7fqU1xvqeO YNW6s/TjrTfEDE/FNw3GdTJ7+ylL+lml9EyYM404e2L6GUwHIj3O286qOreENnXVO2uI iMnQ== X-Gm-Message-State: AOJu0Yz5FExQhik9fZZJnFN//CR1My+8s+rUHASAdMr3MINdAZn06sgH 2XwTlgmRfTXgbtZwBCIHHS/tnipR1oe4IFPpcgIvYa1HnYqppZQevRkS7NuvXIXwMc9iYw2ZbHC WEqvQaFptUyNI++j1UDZcMS1wXa7TR5THHnD0k2Cm0Fe+Ou3VQe8zwZOlMdDx X-Gm-Gg: ASbGnct+sLiZqmOL9ugnMOom5w8JGZ4uxI3XYBPrqTgETv10oZ/Yhl/TPk2IIMIwCJS xuMx1OqvE6lbbYaSTZbxpBwA/o+Z6mYM6XSzcGm5jy/p6R4vdtXPQoxdaoXwFZ5xFktYwBm9c9R PGj6mKBIsa/ZluG7TLSERChrgZtBv2FDeSz6LO8Eq8K3FnjZBiYfFUbuANsMG3EdyE3hI3i5+Km O07ifv7Ax0akGDXlB6OKHR6NtzfMOUmJqz2iAM6x1n+sxyFQbk0GFBC3EUlVT/oFBeXiWc2HrXj /i5LpZfK/AkPvQ6PWBEPz4bDU1mlKGGSWVPNKJmJdlkpErwxRQ== X-Google-Smtp-Source: AGHT+IFk578nhnpPWFlh+SGuimiTUJobl62yoPRiOZPkVMpdiXMsdh62SvmuqCBvmJWa1a4Lue6/KubklSmb X-Received: by 2002:a05:6214:20ea:b0:705:16d9:16d8 with SMTP id 6a1803df08f44-707004b3614mr6199316d6.6.1753213620927; Tue, 22 Jul 2025 12:47:00 -0700 (PDT) Received: from postal.iol.unh.edu (postal.iol.unh.edu. [2606:4100:3880:1234::84]) by smtp-relay.gmail.com with ESMTPS id 6a1803df08f44-7051ba505f8sm5137636d6.16.2025.07.22.12.47.00 (version=TLS1_2 cipher=ECDHE-ECDSA-AES128-GCM-SHA256 bits=128/128); Tue, 22 Jul 2025 12:47:00 -0700 (PDT) X-Relaying-Domain: iol.unh.edu Date: Tue, 22 Jul 2025 12:47:00 -0700 (PDT) Message-ID: <687feab4.050a0220.9b968.9c86SMTPIN_ADDED_MISSING@mx.google.com> Received: from [172.21.0.2] (unknown [172.18.0.240]) by postal.iol.unh.edu (Postfix) with ESMTP id 9A5F4604D421; Tue, 22 Jul 2025 15:47:00 -0400 (EDT) Subject: |SUCCESS| pw155424 [PATCH] dumpcap: fix warnings when primary exits From: dpdklab@iol.unh.edu To: Test Report Cc: dpdk-test-reports@iol.unh.edu In-Reply-To: <20250722155319.168601-1-stephen@networkplumber.org> References: <20250722155319.168601-1-stephen@networkplumber.org> Content-Type: text/plain X-BeenThere: test-report@dpdk.org X-Mailman-Version: 2.1.29 Precedence: list List-Id: automatic DPDK test reports List-Unsubscribe: , List-Archive: List-Post: List-Help: List-Subscribe: , Errors-To: test-report-bounces@dpdk.org Test-Label: iol-abi-testing Test-Status: SUCCESS http://dpdk.org/patch/155424 _Testing PASS_ Submitter: Stephen Hemminger Date: Tuesday, July 22 2025 15:53:19 DPDK git baseline: Repo:dpdk Branch: master CommitID:b222395561638f89562e4ef42e1eabf2d6db43dd 155424 --> testing pass Upstream job id: Generic-DPDK-Compile-ABI#135288 Test environment and result as below: +-------------------------------+----------+ | Environment | abi_test | +===============================+==========+ | CentOS Stream 9 | PASS | +-------------------------------+----------+ | CentOS Stream 10 | PASS | +-------------------------------+----------+ | Debian GNU/Linux 12 | PASS | +-------------------------------+----------+ | Fedora Linux 40 | PASS | +-------------------------------+----------+ | Ubuntu 22.04 | PASS | +-------------------------------+----------+ | openSUSE Leap 15.6 | PASS | +-------------------------------+----------+ | Fedora Linux 41 | PASS | +-------------------------------+----------+ | Red Hat Enterprise Linux 9.5 | PASS | +-------------------------------+----------+ | Red Hat Enterprise Linux 8.10 | PASS | +-------------------------------+----------+ | Ubuntu 24.04 | PASS | +-------------------------------+----------+ CentOS Stream 9 Kernel: 5.15 Compiler: gcc gcc (GCC) 11.5.0 20240719 (Red Hat 11.5.0-7) CentOS Stream 10 Kernel: 5.15 Compiler: gcc gcc (GCC) 14.2.1 20250110 (Red Hat 14.2.1-8) Debian GNU/Linux 12 Kernel: 5.15 Compiler: gcc gcc (Debian 12.2.0-14+deb12u1) 12.2.0 Fedora Linux 40 Kernel: 5.15 Compiler: gcc gcc (GCC) 14.2.1 20240912 (Red Hat 14.2.1-3) Ubuntu 22.04 Kernel: 5.15 Compiler: gcc gcc (Ubuntu 11.4.0-1ubuntu1~22.04) 11.4.0 openSUSE Leap 15.6 Kernel: 5.15 Compiler: gcc gcc (SUSE Linux) 7.5.0 Fedora Linux 41 Kernel: 5.15 Compiler: gcc gcc (GCC) 14.3.1 20250523 (Red Hat 14.3.1-1) Red Hat Enterprise Linux 9.5 Kernel: 5.15 Compiler: gcc gcc (GCC) 11.5.0 20240719 (Red Hat 11.5.0-2) Red Hat Enterprise Linux 8.10 Kernel: 5.15 Compiler: gcc gcc (GCC) 8.5.0 20210514 (Red Hat 8.5.0-22) Ubuntu 24.04 Kernel: 5.15 Compiler: gcc gcc (Ubuntu 13.3.0-6ubuntu2~24.04) 13.3.0 To view detailed results, visit: https://lab.dpdk.org/results/dashboard/patchsets/33724/ UNH-IOL DPDK Community Lab To manage your email subscriptions, visit: https://lab.dpdk.org/results/dashboard/preferences/subscriptions/