From mboxrd@z Thu Jan 1 00:00:00 1970 Return-Path: Received: from mails.dpdk.org (mails.dpdk.org [217.70.189.124]) by inbox.dpdk.org (Postfix) with ESMTP id 7CCC546BE9 for ; Tue, 22 Jul 2025 22:24:18 +0200 (CEST) Received: from mails.dpdk.org (localhost [127.0.0.1]) by mails.dpdk.org (Postfix) with ESMTP id 608124003C; Tue, 22 Jul 2025 22:24:18 +0200 (CEST) Received: from mail-yw1-f226.google.com (mail-yw1-f226.google.com [209.85.128.226]) by mails.dpdk.org (Postfix) with ESMTP id C0F824003C for ; Tue, 22 Jul 2025 22:24:16 +0200 (CEST) Received: by mail-yw1-f226.google.com with SMTP id 00721157ae682-7184015180fso68717027b3.2 for ; Tue, 22 Jul 2025 13:24:16 -0700 (PDT) DKIM-Signature: v=1; a=rsa-sha256; c=relaxed/relaxed; d=iol.unh.edu; s=unh-iol; t=1753215856; x=1753820656; darn=dpdk.org; h=references:in-reply-to:cc:to:from:subject:message-id:date:from:to :cc:subject:date:message-id:reply-to; bh=huTyG0sPIkh+jIQQ1UfUM+G1wVNR/XBeovBNMuQ2PNU=; b=fCNmAV1vCuur9LCAdMiX+0DpunPv+Daq1ZPnBaqH9hJzwi//rDYdwzoSEv9Y9+wTUm AFGE9C249Pqk0t3kUlgeUSMvOKg1baueJ2dOC0kzugfgpYJEsGQb4jXDtGkocrrOgtwF SaR/TlP3xagFQnJSPODbt3ZtderhYGNfF0K/o= X-Google-DKIM-Signature: v=1; a=rsa-sha256; c=relaxed/relaxed; d=1e100.net; s=20230601; t=1753215856; x=1753820656; h=references:in-reply-to:cc:to:from:subject:message-id:date :x-gm-message-state:from:to:cc:subject:date:message-id:reply-to; bh=huTyG0sPIkh+jIQQ1UfUM+G1wVNR/XBeovBNMuQ2PNU=; b=JPFA/fY81srYoh4Fq1BKBnXY0uUl0wuFR3Omw6x/ThYWOO8GhJVwwz3bSSLQgTpXxs Gbb2LqlqT05Bz7BVSDRRh5pG8CfAGpCP+MUIF+SeVySgeKGTv0qHV74tkKWcSjR7/0KD ZDrwQduHpLKzk3OIuqAR1fx3MP2GBz6Sjtt8irLY7+uqMLwvnhwrD4o3SP+pGpJFRl8C 4QQ2mEG4H2ZRgEwEs+5TUUqlWu1tnv3/ldhuKDw5E19e4SuNGllO5nRjLMevO5zoDg6K V/6U/qC5lTS9flU4HEKvsD7q0OAdyeTKd3VIBvXGIo0IAGmnjEVgBdyW62SfxH5kBU5N by+w== X-Gm-Message-State: AOJu0YywdxRVz8YUVcAAHHhsxxeB7FxYYAiVwMdRp4OTzuhisyn+/rTH 7HizZAFyXPMaQbFrl5qKZahr4n2odSNpBcNBmkDaM7LDytJ15J9Wnlck2vlDzP8NjCb+qQl+Fh3 EvBpVhfQ+Q460/2/ApFrUjP9bHL0LxL/NeLCmwS8TG0MuF3JpC+N0Yo4arfnu X-Gm-Gg: ASbGncuvhljRam3FlAmpIJGATR5WqvTiBLLhbk91W2uzY5QO/m/teFgOhLhQYEgBIEe p8XqTtN2pLzrGe7RGXJGm0WvjqwoYPnVh1AQ89Oma1AFLf7XCFHKe7yrWgQrArXmbtmtgZQ7hP8 Xu8l5XArBn1NwuU+xStohJy3NewxUwsDd21/Ud0UPHCd2kkaqqJu3VLpapXf2vqrOFZ95BJYiC2 SpfeC5Uy08UfZc6jjozunrtjuKxH3kkyjM1q+OWN8B/etFmrSPbu4u2xNetYTN3mtI4zA5L2TJb s+NZdVONShCN6cUw1phmiKOJ8SSv2CLn2O0aK2BzaT+/sC2qyQ== X-Google-Smtp-Source: AGHT+IFICbf0XeCmwlK0bpam4H/rtZp8GgPj33Iokmi8oW7UZ/nL2RZmAxxDVdE1Pv9yl6wd2pfNUfmEVhV0 X-Received: by 2002:a05:690c:4b02:b0:70e:142d:9c6f with SMTP id 00721157ae682-719b4225307mr8997317b3.28.1753215856004; Tue, 22 Jul 2025 13:24:16 -0700 (PDT) Received: from postal.iol.unh.edu (postal.iol.unh.edu. [2606:4100:3880:1234::84]) by smtp-relay.gmail.com with ESMTPS id 00721157ae682-7195312b35esm2611127b3.17.2025.07.22.13.24.15 (version=TLS1_2 cipher=ECDHE-ECDSA-AES128-GCM-SHA256 bits=128/128); Tue, 22 Jul 2025 13:24:15 -0700 (PDT) X-Relaying-Domain: iol.unh.edu Date: Tue, 22 Jul 2025 13:24:15 -0700 (PDT) Message-ID: <687ff36f.050a0220.1f32d1.c6f8SMTPIN_ADDED_MISSING@mx.google.com> Received: from [172.21.0.4] (unknown [172.18.0.240]) by postal.iol.unh.edu (Postfix) with ESMTP id A71D46050A61; Tue, 22 Jul 2025 16:24:15 -0400 (EDT) Subject: |SUCCESS| pw155425 [PATCH] maintainers: update for DTS From: dpdklab@iol.unh.edu To: Test Report Cc: dpdk-test-reports@iol.unh.edu In-Reply-To: <20250722160529.2659392-1-luca.vizzarro@arm.com> References: <20250722160529.2659392-1-luca.vizzarro@arm.com> Content-Type: text/plain X-BeenThere: test-report@dpdk.org X-Mailman-Version: 2.1.29 Precedence: list List-Id: automatic DPDK test reports List-Unsubscribe: , List-Archive: List-Post: List-Help: List-Subscribe: , Errors-To: test-report-bounces@dpdk.org Test-Label: iol-unit-amd64-testing Test-Status: SUCCESS http://dpdk.org/patch/155425 _Testing PASS_ Submitter: Luca Vizzarro Date: Tuesday, July 22 2025 16:05:14 DPDK git baseline: Repo:dpdk Branch: master CommitID:b222395561638f89562e4ef42e1eabf2d6db43dd 155425 --> testing pass Upstream job id: Generic-VM-Unit-Test-DPDK#30105 Test environment and result as below: +-------------------------------+----------------+ | Environment | dpdk_unit_test | +===============================+================+ | Red Hat Enterprise Linux 8.10 | PASS | +-------------------------------+----------------+ | CentOS Stream 9 | PASS | +-------------------------------+----------------+ | CentOS Stream 10 | PASS | +-------------------------------+----------------+ | Fedora Linux 41 | PASS | +-------------------------------+----------------+ | Debian GNU/Linux 12 | PASS | +-------------------------------+----------------+ | Fedora Linux 40 | PASS | +-------------------------------+----------------+ | Ubuntu 22.04 | PASS | +-------------------------------+----------------+ | Red Hat Enterprise Linux 9.5 | PASS | +-------------------------------+----------------+ | Ubuntu 20.04 | PASS | +-------------------------------+----------------+ | Ubuntu 24.04 | PASS | +-------------------------------+----------------+ | Windows Server 2022 | PASS | +-------------------------------+----------------+ Red Hat Enterprise Linux 8.10 Kernel: 5.15 Compiler: gcc gcc (GCC) 8.5.0 20210514 (Red Hat 8.5.0-22) CentOS Stream 9 Kernel: 5.15 Compiler: gcc gcc (GCC) 11.5.0 20240719 (Red Hat 11.5.0-7) CentOS Stream 10 Kernel: 5.15 Compiler: gcc gcc (GCC) 14.2.1 20250110 (Red Hat 14.2.1-8) Fedora Linux 41 Kernel: 5.15 Compiler: clang gcc (GCC) 14.3.1 20250523 (Red Hat 14.3.1-1) Debian GNU/Linux 12 Kernel: 5.15 Compiler: gcc gcc (Debian 12.2.0-14+deb12u1) 12.2.0 Fedora Linux 40 Kernel: 5.15 Compiler: clang gcc (GCC) 14.2.1 20240912 (Red Hat 14.2.1-3) Ubuntu 22.04 Kernel: 5.15 Compiler: gcc gcc (Ubuntu 11.4.0-1ubuntu1~22.04) 11.4.0 Red Hat Enterprise Linux 9.5 Kernel: 5.15 Compiler: gcc gcc (GCC) 11.5.0 20240719 (Red Hat 11.5.0-2) Ubuntu 20.04 Kernel: 5.15 Compiler: gcc gcc (Ubuntu 9.4.0-1ubuntu1~20.04.2) 9.4.0 Ubuntu 24.04 Kernel: 5.15 Compiler: gcc gcc (Ubuntu 13.3.0-6ubuntu2~24.04) 13.3.0 Windows Server 2022 Kernel: 10.0.20348.2031 Compiler: clang 15.0.7, gcc 14.1.0 (MinGW), and MSVC VS 19.39.33521 To view detailed results, visit: https://lab.dpdk.org/results/dashboard/patchsets/33725/ UNH-IOL DPDK Community Lab To manage your email subscriptions, visit: https://lab.dpdk.org/results/dashboard/preferences/subscriptions/