From mboxrd@z Thu Jan 1 00:00:00 1970 Return-Path: Received: from mails.dpdk.org (mails.dpdk.org [217.70.189.124]) by inbox.dpdk.org (Postfix) with ESMTP id 12E4246BE9 for ; Tue, 22 Jul 2025 22:29:32 +0200 (CEST) Received: from mails.dpdk.org (localhost [127.0.0.1]) by mails.dpdk.org (Postfix) with ESMTP id E71344003C; Tue, 22 Jul 2025 22:29:31 +0200 (CEST) Received: from mail-qv1-f97.google.com (mail-qv1-f97.google.com [209.85.219.97]) by mails.dpdk.org (Postfix) with ESMTP id 629324003C for ; Tue, 22 Jul 2025 22:29:30 +0200 (CEST) Received: by mail-qv1-f97.google.com with SMTP id 6a1803df08f44-6fb1be9ba89so47301826d6.2 for ; Tue, 22 Jul 2025 13:29:30 -0700 (PDT) DKIM-Signature: v=1; a=rsa-sha256; c=relaxed/relaxed; d=iol.unh.edu; s=unh-iol; t=1753216169; x=1753820969; darn=dpdk.org; h=references:in-reply-to:cc:to:from:subject:message-id:date:from:to :cc:subject:date:message-id:reply-to; bh=WOf7U4DXtgOAvsUaOAXwBGznG36vu5DGc/1qGjIX7uk=; b=XvpI1kBerIsY75zytNW8MntDSdok3M0bv+YlB3ivTGjkHgJhBsexLt6Mqz3EKzUorT 1Yp1/6k30aYMJ2rfI9FveolKNdURor5HrwPwvAfuWHeDDPIFH+2dm/KGnJRJsEpvkROl hLTyToAG0UnftEVrfLhDnfqez//Y78UgPLJXo= X-Google-DKIM-Signature: v=1; a=rsa-sha256; c=relaxed/relaxed; d=1e100.net; s=20230601; t=1753216169; x=1753820969; h=references:in-reply-to:cc:to:from:subject:message-id:date :x-gm-message-state:from:to:cc:subject:date:message-id:reply-to; bh=WOf7U4DXtgOAvsUaOAXwBGznG36vu5DGc/1qGjIX7uk=; b=n/PJxd22B5xfkTb4YZ/XVrmfphC8OtZucYqkSmYelAS6Mdbsp63kMSAC/++TnVvdHh 5t2SaulG2H6RkpTxut0CGUh6uIqcVWP7mTciQpesHty9bBYkvhM6C5AGzMsXFYzADqGY M3BJtwh7+n8lMUPTkWTx/xiGntmpVXTdqTWnVctSlixN3xwSPj5W0eposjQ/r1kY20pg qQsiRzCxy3YJ6jjRcp4DAPHNks9endQigzWpvOxLPYaC7vi6FTGViPiHOfEBcFJ6iU5K tu5D848vLe32qPHahow4bk6uuHNvWwIMZn67Hw5EDf3NC1nj4vdwKUxsw+JPReNlYiVO RSPQ== X-Gm-Message-State: AOJu0Yy7XYHOAWHSxSDPGaShAcEl+g5AAjcp9bcWFkXwP/ABmWF32uWM oHGTF5XJR1oNSDdjFrN/5/Ld511/wAAwbxVyxxEAT8k/cIM7X6O1LWSOfH89/oAPnjaGCHfiM/l yaXlJU+lUIpHJ6E4BnhHrU9++Ao6HEqjB6+6egZkWGFBf X-Gm-Gg: ASbGncuXsiEkkm+N5HP/7LKJNICHdbPMsOA/0T0n594jYcF6vosKCdjmKt9mnT/IRWv sBDWRIbPoyaxQJ/8XFbmZD1I2+UmfOo3mdRuk5ast2fAY8CDyMBK1a0E9eS6nXmZyFnQkVqy5q4 4i6zBvLUYCrmHzxECGctZX8y9GuzjtzfWkYSsoU+GBMfqNXM8ogrYqgtueV6NZqiraRXnaO1xJ0 nZ3ihkVbfkPI231CQbUMSGQGoViIvEuuncDS6VLj5zNRiEoE3ZE5r7lAXhiHv6m+QBfRFOj6zjN wIId3leLRJTNDQRjTxqiCKHWNuLZ3+XqVbLPyAekvLdCya4V/FFqrU57CZatWCxp9SPvVRrH X-Google-Smtp-Source: AGHT+IHP+Yz72IlyjkhoHd/UARQCTX956F89VxZ5+54F+X8dvERbuv8Sy1ZK1lVxL+gdFRdFOQgnQpM7OMEX X-Received: by 2002:ad4:5de6:0:b0:6fb:33f7:5f34 with SMTP id 6a1803df08f44-707006ffbe4mr7550636d6.43.1753216169577; Tue, 22 Jul 2025 13:29:29 -0700 (PDT) Received: from postal.iol.unh.edu (postal.iol.unh.edu. [132.177.123.84]) by smtp-relay.gmail.com with ESMTPS id 6a1803df08f44-7051bcce17fsm5465326d6.31.2025.07.22.13.29.29 (version=TLS1_2 cipher=ECDHE-ECDSA-AES128-GCM-SHA256 bits=128/128); Tue, 22 Jul 2025 13:29:29 -0700 (PDT) X-Relaying-Domain: iol.unh.edu Date: Tue, 22 Jul 2025 13:29:29 -0700 (PDT) Message-ID: <687ff4a9.050a0220.81ec7.ae48SMTPIN_ADDED_MISSING@mx.google.com> Received: from [172.21.0.4] (unknown [172.18.0.240]) by postal.iol.unh.edu (Postfix) with ESMTP id 51AD26050A61; Tue, 22 Jul 2025 16:29:29 -0400 (EDT) Subject: |SUCCESS| pw155431-155432 [PATCH] [v1,2/2] dts: add exception handli From: dpdklab@iol.unh.edu To: Test Report Cc: dpdk-test-reports@iol.unh.edu In-Reply-To: <20250722172214.202308-2-dmarx@iol.unh.edu> References: <20250722172214.202308-2-dmarx@iol.unh.edu> Content-Type: text/plain X-BeenThere: test-report@dpdk.org X-Mailman-Version: 2.1.29 Precedence: list List-Id: automatic DPDK test reports List-Unsubscribe: , List-Archive: List-Post: List-Help: List-Subscribe: , Errors-To: test-report-bounces@dpdk.org Test-Label: iol-compile-amd64-testing Test-Status: SUCCESS http://dpdk.org/patch/155432 _Testing PASS_ Submitter: Dean Marx Date: Tuesday, July 22 2025 17:22:14 DPDK git baseline: Repo:dpdk Branch: master CommitID:f8fb19d5e2fc20798ed0caa292a1538fbbd98f96 155431-155432 --> testing pass Upstream job id: Windows-Compile-DPDK-VS#6434 Test environment and result as below: +---------------------+--------------------+-------------------+ | Environment | dpdk_meson_compile | dpdk_msvc_compile | +=====================+====================+===================+ | Ubuntu 20.04 | PASS | SKIPPED | +---------------------+--------------------+-------------------+ | FreeBSD 14.2 | PASS | SKIPPED | +---------------------+--------------------+-------------------+ | Windows Server 2022 | SKIPPED | PASS | +---------------------+--------------------+-------------------+ Ubuntu 20.04 Kernel: 4.19 Compiler: gcc gcc (Ubuntu 9.4.0-1ubuntu1~20.04.2) 9.4.0 FreeBSD 14.2 Kernel: 14.2-RELEASE Compiler: clang 18.1.6 Windows Server 2022 Kernel: 10.0.20348.2031 Compiler: clang 15.0.7, gcc 14.1.0 (MinGW), and MSVC VS 19.39.33521 To view detailed results, visit: https://lab.dpdk.org/results/dashboard/patchsets/33729/ UNH-IOL DPDK Community Lab To manage your email subscriptions, visit: https://lab.dpdk.org/results/dashboard/preferences/subscriptions/