From mboxrd@z Thu Jan 1 00:00:00 1970 Return-Path: Received: from mails.dpdk.org (mails.dpdk.org [217.70.189.124]) by inbox.dpdk.org (Postfix) with ESMTP id 7122146BE9 for ; Tue, 22 Jul 2025 22:33:52 +0200 (CEST) Received: from mails.dpdk.org (localhost [127.0.0.1]) by mails.dpdk.org (Postfix) with ESMTP id 6D4514003C; Tue, 22 Jul 2025 22:33:52 +0200 (CEST) Received: from mail-il1-f227.google.com (mail-il1-f227.google.com [209.85.166.227]) by mails.dpdk.org (Postfix) with ESMTP id 62C984003C for ; Tue, 22 Jul 2025 22:33:50 +0200 (CEST) Received: by mail-il1-f227.google.com with SMTP id e9e14a558f8ab-3df2dbe85d1so39860365ab.0 for ; Tue, 22 Jul 2025 13:33:50 -0700 (PDT) DKIM-Signature: v=1; a=rsa-sha256; c=relaxed/relaxed; d=iol.unh.edu; s=unh-iol; t=1753216430; x=1753821230; darn=dpdk.org; h=references:in-reply-to:cc:to:from:subject:message-id:date:from:to :cc:subject:date:message-id:reply-to; bh=ZGWx1IGxeq1KXLqe5S2YdnGX3iX9KbRuVxQLE53J5Q0=; b=BdlZ624tt4YIU4J1CbwxdH0NnWnsUsgWgirW/i2Vvjofyo+dW6QNMlmsIl0/QJBa9Q V2CG80WErrpRCFxIRG+AkgmolVv8QmVd6ZHuUWOVznMq6LTncHleNgYTRxvuaG5NODr2 Tz3NNKdK6469LA7fCPgECZwWBKgPKjzLBXEC4= X-Google-DKIM-Signature: v=1; a=rsa-sha256; c=relaxed/relaxed; d=1e100.net; s=20230601; t=1753216430; x=1753821230; h=references:in-reply-to:cc:to:from:subject:message-id:date :x-gm-message-state:from:to:cc:subject:date:message-id:reply-to; bh=ZGWx1IGxeq1KXLqe5S2YdnGX3iX9KbRuVxQLE53J5Q0=; b=NnUoikRAKswZnPnMBbo1GF7J0OINm9wSIHKHxAEr3f+QpwHp6wiJqGngpe1HUN8Bpo AQqw5ORh0E3iBmk7ASxSHSDIz3eTtHt3lALRWwYOX7satmsXghOYYAC4rhHtaxA+KbsE J8lD/X68SbUaTAVzS4qCxouT9HGTNNEOu97rR9bQwrW+xuhfqg59ah6moUN6eBO3hhrw HkjyjVJIkMf1QAZu3fU1NgGTVvCzwUd15S448QtHtkAq+rBYvGqhCOUeqitejkye2ks6 iYqzYKkaW12pFBt9usXVa+iakdn7MNrh+bOdvbyAGj6qI6rS0jc3UhMCBMl2zEvIJ6y9 yfGg== X-Gm-Message-State: AOJu0YwwUrDQRzaSpyIELmaogvgEuuUrimXbkSQO38dIUh43WrDQlw+p O+Mzmfu7r6V6u5oMQy4CEvyCFj9ueC3Q9D5TRWvIO60UhxNZe0Ax+90dbE/vgksGI/zy8UaTZGL C2WJuaetdKjv3qCwO0Z8Sc33wNBhkvGC1LAShR2sFCWOX X-Gm-Gg: ASbGncsuQqnoXr9iivo3TFRCVxmjAhM0vr8Bc/WN6nQbrJU9EcDFY2tC7iIdc4Sg9oK HLo9QqPmVTvT94qOZfAZr6B6s6leasnoLdSS7roXztRDXaA76HD7LnVzbdzhCnWTIr7tJpgMgR0 a5RxvyJXjxfVoNaxg3Uzt41KjqNmI48mNGbZMMFXPSLqmRZ15wgRro3wuvjaceb3U9sucra0LDe iu5TNYZS+20+nYo1Wejjn3AZ+5AWU0M59LmHXUCHiwjqqYxtO4z75q7lyjmH1ERqrYcYDK1eR7S sKjJ8zuSvCPoxY5vUaJRPa6NmJghzEdMzX/x1j7g9KhE8O+ImgNVlyj0Th+EmvjXr96lbpFu X-Google-Smtp-Source: AGHT+IFpn01NK2Sbr9Uo7CBwwjyMMZLohpwEl2DrlpnL0VxZ4B2qW5W7nQJiCaBlpxsengL32PrGvUMf21Y/ X-Received: by 2002:a05:6e02:17c8:b0:3e2:c5de:5fb with SMTP id e9e14a558f8ab-3e33555d490mr10046175ab.18.1753216429428; Tue, 22 Jul 2025 13:33:49 -0700 (PDT) Received: from postal.iol.unh.edu (postal.iol.unh.edu. [132.177.123.84]) by smtp-relay.gmail.com with ESMTPS id 8926c6da1cb9f-5084c93a2b2sm498526173.58.2025.07.22.13.33.49 (version=TLS1_2 cipher=ECDHE-ECDSA-AES128-GCM-SHA256 bits=128/128); Tue, 22 Jul 2025 13:33:49 -0700 (PDT) X-Relaying-Domain: iol.unh.edu Date: Tue, 22 Jul 2025 13:33:49 -0700 (PDT) Message-ID: <687ff5ad.050a0220.3b7561.97a4SMTPIN_ADDED_MISSING@mx.google.com> Received: from [172.21.0.3] (unknown [172.18.0.240]) by postal.iol.unh.edu (Postfix) with ESMTP id E5FD96051830; Tue, 22 Jul 2025 16:33:48 -0400 (EDT) Subject: |SUCCESS| pw155426-155427 [PATCH] [v3,2/2] test/strsep: add tests fo From: dpdklab@iol.unh.edu To: Test Report Cc: dpdk-test-reports@iol.unh.edu In-Reply-To: <1753202334-27615-2-git-send-email-andremue@linux.microsoft.com> References: <1753202334-27615-2-git-send-email-andremue@linux.microsoft.com> Content-Type: text/plain X-BeenThere: test-report@dpdk.org X-Mailman-Version: 2.1.29 Precedence: list List-Id: automatic DPDK test reports List-Unsubscribe: , List-Archive: List-Post: List-Help: List-Subscribe: , Errors-To: test-report-bounces@dpdk.org Test-Label: iol-compile-amd64-testing Test-Status: SUCCESS http://dpdk.org/patch/155427 _Testing PASS_ Submitter: Andre Muezerie Date: Tuesday, July 22 2025 16:38:54 DPDK git baseline: Repo:dpdk Branch: master CommitID:b222395561638f89562e4ef42e1eabf2d6db43dd 155426-155427 --> testing pass Upstream job id: Windows-Compile-DPDK-Native#29946 Test environment and result as below: +---------------------+--------------------+-------------------+-------------------------+ | Environment | dpdk_meson_compile | dpdk_msvc_compile | dpdk_llvm_clang_compile | +=====================+====================+===================+=========================+ | Ubuntu 20.04 | PASS | SKIPPED | SKIPPED | +---------------------+--------------------+-------------------+-------------------------+ | FreeBSD 14.2 | PASS | SKIPPED | SKIPPED | +---------------------+--------------------+-------------------+-------------------------+ | Windows Server 2022 | SKIPPED | PASS | PASS | +---------------------+--------------------+-------------------+-------------------------+ Ubuntu 20.04 Kernel: 4.19 Compiler: gcc gcc (Ubuntu 9.4.0-1ubuntu1~20.04.2) 9.4.0 FreeBSD 14.2 Kernel: 14.2-RELEASE Compiler: clang 18.1.6 Windows Server 2022 Kernel: 10.0.20348.2031 Compiler: clang 15.0.7, gcc 14.1.0 (MinGW), and MSVC VS 19.39.33521 To view detailed results, visit: https://lab.dpdk.org/results/dashboard/patchsets/33726/ UNH-IOL DPDK Community Lab To manage your email subscriptions, visit: https://lab.dpdk.org/results/dashboard/preferences/subscriptions/