From mboxrd@z Thu Jan 1 00:00:00 1970 Return-Path: Received: from mails.dpdk.org (mails.dpdk.org [217.70.189.124]) by inbox.dpdk.org (Postfix) with ESMTP id 0C45346BE9 for ; Tue, 22 Jul 2025 22:49:34 +0200 (CEST) Received: from mails.dpdk.org (localhost [127.0.0.1]) by mails.dpdk.org (Postfix) with ESMTP id 085E14003C; Tue, 22 Jul 2025 22:49:34 +0200 (CEST) Received: from mail-il1-f225.google.com (mail-il1-f225.google.com [209.85.166.225]) by mails.dpdk.org (Postfix) with ESMTP id 05F794003C for ; Tue, 22 Jul 2025 22:49:33 +0200 (CEST) Received: by mail-il1-f225.google.com with SMTP id e9e14a558f8ab-3e057f2c8d8so45864545ab.1 for ; Tue, 22 Jul 2025 13:49:32 -0700 (PDT) DKIM-Signature: v=1; a=rsa-sha256; c=relaxed/relaxed; d=iol.unh.edu; s=unh-iol; t=1753217372; x=1753822172; darn=dpdk.org; h=references:in-reply-to:cc:to:from:subject:message-id:date:from:to :cc:subject:date:message-id:reply-to; bh=ZMXIuFpMmzpkwC+wsgD5POK4LvQ/BjDmZ0m7o/1yPSI=; b=Epbomx0PUa8wHaQ5E5sI2QLqC/mCPH07ZY9W4d3qcxSuGRqEbcRPYhj75qwIyW/Zd9 n3Wz0l5KG5/izHbeD7BP8O7koLFItvySvJIHiT+0rDh1T5D0VfaBpRD+/JPUIwNOzuOd cTeLIHpZbLffDfluMw9hHf8/Ma+i3Phl0uNhY= X-Google-DKIM-Signature: v=1; a=rsa-sha256; c=relaxed/relaxed; d=1e100.net; s=20230601; t=1753217372; x=1753822172; h=references:in-reply-to:cc:to:from:subject:message-id:date :x-gm-message-state:from:to:cc:subject:date:message-id:reply-to; bh=ZMXIuFpMmzpkwC+wsgD5POK4LvQ/BjDmZ0m7o/1yPSI=; b=OKvPvuK4jhRbaYwOlQOpMN1T1TMZcysRGLa7muzt040z9kuYIjsCWbgT9xZ1ppRMF0 9KjMm73uLfkgEXjkRdSBWDyjnP5+tPMNe5rfSmFkN8lVJKLF3UBSinYDzi5VX+rvlVU2 1lyAcirIWGKyxx+p8kS4jrr1gp5Vos0wm4ibftfqnqzubf45cKo/WquQM6HRumElE+R1 KGgMdJTfaPK8k5C4JFYv1qNwDHJkjH3od+NFjWktP4LoGdzOArRUFQj399IpG9NJpO31 y+JBRxmY5djg8Q/CjRkGfQHnwAchOad3sZM9n4bRl1oEZ192JG8imJGChNY0pn7vQEng 9Thw== X-Gm-Message-State: AOJu0YxV16SU1qGf58FvRd7OZTwSNdg6utwbjGHMHck8C1LqUmPDoIVo OxFHSEDCWdT4utZbzv3u/rjgehISD/DHh0puD3jGNCyJMoJLOccE6yNCMA683B9FzAgD7apEuBY qDLIgZmLkQVOgN6b9WNEGfNLVrXjWmUiV+T3Ti3SIKH/kNehfvKLCtdlCp5Uz X-Gm-Gg: ASbGncvxqca5KMYQJnbZMjsY37ZtyMobybZnEm0+dDViQipjoYg9YS7DP1DpetVfzSa mo+LTjUTmYUYqRfjbUg4d/S8I4Mk/eESPBhOoVu9uG4mMNLufPCPxzPC17sNsiKCNn+SlyN0lbb 1c+/mOZsd9V15DYapbG56UPzUBbGk92vJ+8OyEGoaFSCLpJZO1BDy4nb+41cIGp4pQFgvzXYpcl 8RoaAwOt0IuuJf43SRub8iGgWXlG9+44nHEI0KG0iACnau2ke8ad83GaAkbazdu6aCwyS2EAuvB BXd/CUcdLcA9c58e2nocCqzoMW3zzoq2CzyifTeA4NI5KTaOXw== X-Google-Smtp-Source: AGHT+IEALwVewbkYdNu/thhrz83m0V95ZP+vLrm7AbBGdvcKkErVBnJaEQJ2hdaMukmgJHjoYVPIk2EI9nqm X-Received: by 2002:a05:6e02:1a86:b0:3dd:89b0:8e1b with SMTP id e9e14a558f8ab-3e335535943mr9265435ab.15.1753217372360; Tue, 22 Jul 2025 13:49:32 -0700 (PDT) Received: from postal.iol.unh.edu (postal.iol.unh.edu. [2606:4100:3880:1234::84]) by smtp-relay.gmail.com with ESMTPS id e9e14a558f8ab-3e29821cb32sm6838185ab.18.2025.07.22.13.49.32 (version=TLS1_2 cipher=ECDHE-ECDSA-AES128-GCM-SHA256 bits=128/128); Tue, 22 Jul 2025 13:49:32 -0700 (PDT) X-Relaying-Domain: iol.unh.edu Date: Tue, 22 Jul 2025 13:49:32 -0700 (PDT) Message-ID: <687ff95c.050a0220.256dd6.3805SMTPIN_ADDED_MISSING@mx.google.com> Received: from [172.21.0.2] (unknown [172.18.0.240]) by postal.iol.unh.edu (Postfix) with ESMTP id DF8BA604D420; Tue, 22 Jul 2025 16:49:31 -0400 (EDT) Subject: |SUCCESS| pw155431-155432 [PATCH] [v1,2/2] dts: add exception handli From: dpdklab@iol.unh.edu To: Test Report Cc: dpdk-test-reports@iol.unh.edu In-Reply-To: <20250722172214.202308-2-dmarx@iol.unh.edu> References: <20250722172214.202308-2-dmarx@iol.unh.edu> Content-Type: text/plain X-BeenThere: test-report@dpdk.org X-Mailman-Version: 2.1.29 Precedence: list List-Id: automatic DPDK test reports List-Unsubscribe: , List-Archive: List-Post: List-Help: List-Subscribe: , Errors-To: test-report-bounces@dpdk.org Test-Label: iol-compile-amd64-testing Test-Status: SUCCESS http://dpdk.org/patch/155432 _Testing PASS_ Submitter: Dean Marx Date: Tuesday, July 22 2025 17:22:14 DPDK git baseline: Repo:dpdk Branch: master CommitID:f8fb19d5e2fc20798ed0caa292a1538fbbd98f96 155431-155432 --> testing pass Upstream job id: Windows-Compile-DPDK-VS#6435 Test environment and result as below: +---------------------+--------------------+-------------------+ | Environment | dpdk_meson_compile | dpdk_msvc_compile | +=====================+====================+===================+ | FreeBSD 14.2 | PASS | SKIPPED | +---------------------+--------------------+-------------------+ | Ubuntu 20.04 | PASS | SKIPPED | +---------------------+--------------------+-------------------+ | Windows Server 2022 | SKIPPED | PASS | +---------------------+--------------------+-------------------+ FreeBSD 14.2 Kernel: 14.2-RELEASE Compiler: clang 18.1.6 Ubuntu 20.04 Kernel: 4.19 Compiler: gcc gcc (Ubuntu 9.4.0-1ubuntu1~20.04.2) 9.4.0 Windows Server 2022 Kernel: 10.0.20348.2031 Compiler: clang 15.0.7, gcc 14.1.0 (MinGW), and MSVC VS 19.39.33521 To view detailed results, visit: https://lab.dpdk.org/results/dashboard/patchsets/33729/ UNH-IOL DPDK Community Lab To manage your email subscriptions, visit: https://lab.dpdk.org/results/dashboard/preferences/subscriptions/