From mboxrd@z Thu Jan 1 00:00:00 1970 Return-Path: Received: from mails.dpdk.org (mails.dpdk.org [217.70.189.124]) by inbox.dpdk.org (Postfix) with ESMTP id 251C246BE9 for ; Tue, 22 Jul 2025 22:50:24 +0200 (CEST) Received: from mails.dpdk.org (localhost [127.0.0.1]) by mails.dpdk.org (Postfix) with ESMTP id 205994003C; Tue, 22 Jul 2025 22:50:24 +0200 (CEST) Received: from mail-qv1-f97.google.com (mail-qv1-f97.google.com [209.85.219.97]) by mails.dpdk.org (Postfix) with ESMTP id 89BCB4003C for ; Tue, 22 Jul 2025 22:50:23 +0200 (CEST) Received: by mail-qv1-f97.google.com with SMTP id 6a1803df08f44-6facacf521eso54388576d6.3 for ; Tue, 22 Jul 2025 13:50:23 -0700 (PDT) DKIM-Signature: v=1; a=rsa-sha256; c=relaxed/relaxed; d=iol.unh.edu; s=unh-iol; t=1753217423; x=1753822223; darn=dpdk.org; h=references:in-reply-to:cc:to:from:subject:message-id:date:from:to :cc:subject:date:message-id:reply-to; bh=6UKh9KMLmg/Jb5GHCd9o74VIJi8YQL9agSAcdVOuoUU=; b=eQ/y9/YV1yzj8tFKDEHZZ905tSeBZJuJNHo0M4Kji3mSjEv59D7hxpRKuCmXGncFVm 4YhShJp9TS/+TGQGpK3P0bbuVq0nX7cjpvrOyZ57Fd+RJ0j1s9jEairBaVsVkVOUbv6d RaJzvvCkNBfyUJRLCXTlc618cNkmBf54NsVGw= X-Google-DKIM-Signature: v=1; a=rsa-sha256; c=relaxed/relaxed; d=1e100.net; s=20230601; t=1753217423; x=1753822223; h=references:in-reply-to:cc:to:from:subject:message-id:date :x-gm-message-state:from:to:cc:subject:date:message-id:reply-to; bh=6UKh9KMLmg/Jb5GHCd9o74VIJi8YQL9agSAcdVOuoUU=; b=m7yU/tpM+GUye5fP3g95/fO0imcxhIHmYLMeYTQoeaYhv5zUEmuPVTA3tKUpDXi0Vq ZKr1o9eXFdwLeS9mnh14DjSFvk8b+KC3+JcakK9knKM27Lg3mO7lUutJpTPvlfkwktXt Cnqy+ic7Awbo+IZsNAaSLsY976rkI4XVakMubzIkaTt+ZfzQISMJ57Ms0GhCrb3385jk e/clXApqExU/ymI7Tcg2NT9Fa7HzRWre2m79EY1Kn4YRrObZKqjYga3tJYPLMbBtsphf Stb9d4hyL0GTsOqD2gs9Vw/2BZUcftuDX49SwXptINATYZE2t33q5KK13B5VJRvMe/WS E78A== X-Gm-Message-State: AOJu0YxbE26rg+HqMZTIDGwjEeaftac3cfttQC79rMGY4AuEGiWYQkDV x/dBtDKQSWu8aRvNSnB5sdeqHB2U27VcaZ4gFdoWvrsWyNyjXHYCPrN+ObSGRlQA4v5UBywcEUe AjT5DG5+1WoCv8q5bgrLdX9RblRbjtpbV/Y4qZPP5iO86ApX1V+486rKlIi16 X-Gm-Gg: ASbGncvjWjAuAsoMn2/N5xFrQWCRDXgU72XdpqxCVoVyfHOqDUI9XDgez8kqUrLA2Xj n3RScEPME24NC8rvzzmWRD4dxpFIkukp7p2oGdi+ireeVdfqWIsfLD6xHKHuLEL3MZzhJ4eNlP2 uYaEGtDt0HHdascosTnATA0GamiMDYXU6E7aHFe00ZuHBK3cDRF/OSLv9OOF3axIQha20upjFFl OE8k87bapY4Ky5TTJ+1qwkkrceiIHXkGT/cRGf1NangdjGA7y8MujuMFtEQkMs4hLGw8okA0Z2p zmHxsRQ4/cby8TdfJ5eCRVPMIIg1V/r2JkPJ+IuPZFZCgNm7Dg== X-Google-Smtp-Source: AGHT+IFPBz0Yqw20Ps7Ge3ym9bvKqRIx/gOYCTY0fOBsEMPZFcgFPO8tolzCn9dtvppTM4h5dV55xBZpkJkS X-Received: by 2002:a05:6214:300f:b0:706:c5c9:3ffa with SMTP id 6a1803df08f44-707002f49a4mr9001556d6.0.1753217422939; Tue, 22 Jul 2025 13:50:22 -0700 (PDT) Received: from postal.iol.unh.edu (postal.iol.unh.edu. [2606:4100:3880:1234::84]) by smtp-relay.gmail.com with ESMTPS id 6a1803df08f44-7051ba2c7d0sm5590926d6.6.2025.07.22.13.50.22 (version=TLS1_2 cipher=ECDHE-ECDSA-AES128-GCM-SHA256 bits=128/128); Tue, 22 Jul 2025 13:50:22 -0700 (PDT) X-Relaying-Domain: iol.unh.edu Date: Tue, 22 Jul 2025 13:50:22 -0700 (PDT) Message-ID: <687ff98e.d40a0220.25e087.c09fSMTPIN_ADDED_MISSING@mx.google.com> Received: from [172.21.0.2] (unknown [172.18.0.240]) by postal.iol.unh.edu (Postfix) with ESMTP id ABD19604D420; Tue, 22 Jul 2025 16:50:22 -0400 (EDT) Subject: |SUCCESS| pw155426-155427 [PATCH] [v3,2/2] test/strsep: add tests fo From: dpdklab@iol.unh.edu To: Test Report Cc: dpdk-test-reports@iol.unh.edu In-Reply-To: <1753202334-27615-2-git-send-email-andremue@linux.microsoft.com> References: <1753202334-27615-2-git-send-email-andremue@linux.microsoft.com> Content-Type: text/plain X-BeenThere: test-report@dpdk.org X-Mailman-Version: 2.1.29 Precedence: list List-Id: automatic DPDK test reports List-Unsubscribe: , List-Archive: List-Post: List-Help: List-Subscribe: , Errors-To: test-report-bounces@dpdk.org Test-Label: iol-compile-amd64-testing Test-Status: SUCCESS http://dpdk.org/patch/155427 _Testing PASS_ Submitter: Andre Muezerie Date: Tuesday, July 22 2025 16:38:54 DPDK git baseline: Repo:dpdk Branch: master CommitID:b222395561638f89562e4ef42e1eabf2d6db43dd 155426-155427 --> testing pass Upstream job id: Windows-Compile-DPDK-Native#29947 Test environment and result as below: +---------------------+--------------------+-------------------+-------------------------+----------------------+ | Environment | dpdk_meson_compile | dpdk_msvc_compile | dpdk_llvm_clang_compile | dpdk_mingw64_compile | +=====================+====================+===================+=========================+======================+ | Ubuntu 20.04 | PASS | SKIPPED | SKIPPED | SKIPPED | +---------------------+--------------------+-------------------+-------------------------+----------------------+ | FreeBSD 14.2 | PASS | SKIPPED | SKIPPED | SKIPPED | +---------------------+--------------------+-------------------+-------------------------+----------------------+ | Windows Server 2022 | SKIPPED | PASS | PASS | PASS | +---------------------+--------------------+-------------------+-------------------------+----------------------+ Ubuntu 20.04 Kernel: 4.19 Compiler: gcc gcc (Ubuntu 9.4.0-1ubuntu1~20.04.2) 9.4.0 FreeBSD 14.2 Kernel: 14.2-RELEASE Compiler: clang 18.1.6 Windows Server 2022 Kernel: 10.0.20348.2031 Compiler: clang 15.0.7, gcc 14.1.0 (MinGW), and MSVC VS 19.39.33521 To view detailed results, visit: https://lab.dpdk.org/results/dashboard/patchsets/33726/ UNH-IOL DPDK Community Lab To manage your email subscriptions, visit: https://lab.dpdk.org/results/dashboard/preferences/subscriptions/