From mboxrd@z Thu Jan 1 00:00:00 1970 Return-Path: Received: from mails.dpdk.org (mails.dpdk.org [217.70.189.124]) by inbox.dpdk.org (Postfix) with ESMTP id 2A9B546BE9 for ; Tue, 22 Jul 2025 23:01:10 +0200 (CEST) Received: from mails.dpdk.org (localhost [127.0.0.1]) by mails.dpdk.org (Postfix) with ESMTP id 068274003C; Tue, 22 Jul 2025 23:01:10 +0200 (CEST) Received: from mail-pl1-f226.google.com (mail-pl1-f226.google.com [209.85.214.226]) by mails.dpdk.org (Postfix) with ESMTP id CE4244003C for ; Tue, 22 Jul 2025 23:01:08 +0200 (CEST) Received: by mail-pl1-f226.google.com with SMTP id d9443c01a7336-235e1d710d8so64759645ad.1 for ; Tue, 22 Jul 2025 14:01:08 -0700 (PDT) DKIM-Signature: v=1; a=rsa-sha256; c=relaxed/relaxed; d=iol.unh.edu; s=unh-iol; t=1753218068; x=1753822868; darn=dpdk.org; h=references:in-reply-to:cc:to:from:subject:message-id:date:from:to :cc:subject:date:message-id:reply-to; bh=akujihoS/kYlioKQArKpVvvSlcOiy6NLG7mknOoYZow=; b=Xe1OpJcKZRVhZKECHtd6f/bh7Uxl7LqcsG0GRdiMIxQrEoB0EpeB/Dg2koonWdaN1W HuruXQg4AnzADP+/0TCYYK6rC010DymB5YwDxGbuT8R+6FWX6zDBGLfzm6DshEQW30cQ zXog0dcLRc5lKNUCKRqSoN/9Hj1s0OIPkWvy4= X-Google-DKIM-Signature: v=1; a=rsa-sha256; c=relaxed/relaxed; d=1e100.net; s=20230601; t=1753218068; x=1753822868; h=references:in-reply-to:cc:to:from:subject:message-id:date :x-gm-message-state:from:to:cc:subject:date:message-id:reply-to; bh=akujihoS/kYlioKQArKpVvvSlcOiy6NLG7mknOoYZow=; b=XW0ljxVj29sB5umFNMlPvS+ILzms121Di+YK1w3Ic+AXk9OW8ac/Y4qGv032kSjd+N 3BVuM1jPsIfKNnuL5/F0inFn4Lzr96ZMBSkdurlnvaWh2OFXkg/TxsxHdEoR8nDBmh53 P7JNHOhKSlQU4fZrkaV8a1wlO2JI3nP9dW7Y0broDfdDdFtODCKa2eR5hbogqZMTlqis XU+immVvfIsIaXzDDr47BZOlSxEyjFCrEeJiEiADSLTlDtVGVfGEqWFWjIv9AwUl8oFz yU9QjXNJE7M8E8D6AFYBI4A5EardyMeQLjR2B2LpRfK9QXaRuXxvTLJEhDGJ752f5USA /3Ng== X-Gm-Message-State: AOJu0YxLVnGAuon/nqciorWTO8JIWt6kyrAzWWR/iaCIVM/3eg7GNlFP srhkLWQxIHRKkTR0Ryf99XZQqjqPPUewCrWXdnj96xXzhj8+3ulwhaUuNuFe0pS7lLF2C9qlHvs 4s8X1GXr+A/l/Aog4dw3FE/CwhG3u0AY5xr++/yd6SrfI X-Gm-Gg: ASbGncvG2SqW0T8mKQSC5QLU7ALnRWmxUT3FhuhcAamHYa9H1vziJZcKp+4suHmxeE4 cjuoaVqkainzInz/6V6/tCAsuiq7Evfbg5Gq9mEvrTjgti6IKPAa7DOgNKUNzAr0H/H9w7F6Vi/ GNtDK8Qv4p2YTyVEALjFLHwB17Vw+j2esy7yprySju17Tug+pnWqKocR37moNJDa4USZQklr0Uc duLow5J57Z8bA++docnD05dLLIWiK8XuKmXUIN1wRNoPrXDU4r5dGnDThc/soCGJVDN01HrjK05 oPZCzgFqyYx29VItMcAqG7wJMwYDBtemxuQcPHJB1bexFR8J3dnXqxIkCEdZw5HG4fFQei/I X-Google-Smtp-Source: AGHT+IE0fAlvbHbWtMftdjqP4tYhznPXi7hOT6ZFK/5U91kJWqkDqfqsd6MaNzh1ABi8hvzBAK32jW99hGJq X-Received: by 2002:a17:902:dacd:b0:23d:ce98:6110 with SMTP id d9443c01a7336-23f9812c147mr7227605ad.10.1753218067903; Tue, 22 Jul 2025 14:01:07 -0700 (PDT) Received: from postal.iol.unh.edu (postal.iol.unh.edu. [132.177.123.84]) by smtp-relay.gmail.com with ESMTPS id d9443c01a7336-23f8da7c9a1sm1224615ad.53.2025.07.22.14.01.07 (version=TLS1_2 cipher=ECDHE-ECDSA-AES128-GCM-SHA256 bits=128/128); Tue, 22 Jul 2025 14:01:07 -0700 (PDT) X-Relaying-Domain: iol.unh.edu Date: Tue, 22 Jul 2025 14:01:07 -0700 (PDT) Message-ID: <687ffc13.170a0220.163f9e.6cacSMTPIN_ADDED_MISSING@mx.google.com> Received: from [172.21.0.6] (unknown [172.18.0.240]) by postal.iol.unh.edu (Postfix) with ESMTP id 27D006050A61; Tue, 22 Jul 2025 17:01:07 -0400 (EDT) Subject: |SUCCESS| pw155426-155427 [PATCH] [v3,2/2] test/strsep: add tests fo From: dpdklab@iol.unh.edu To: Test Report Cc: dpdk-test-reports@iol.unh.edu In-Reply-To: <1753202334-27615-2-git-send-email-andremue@linux.microsoft.com> References: <1753202334-27615-2-git-send-email-andremue@linux.microsoft.com> Content-Type: text/plain X-BeenThere: test-report@dpdk.org X-Mailman-Version: 2.1.29 Precedence: list List-Id: automatic DPDK test reports List-Unsubscribe: , List-Archive: List-Post: List-Help: List-Subscribe: , Errors-To: test-report-bounces@dpdk.org Test-Label: iol-unit-amd64-testing Test-Status: SUCCESS http://dpdk.org/patch/155427 _Testing PASS_ Submitter: Andre Muezerie Date: Tuesday, July 22 2025 16:38:54 DPDK git baseline: Repo:dpdk Branch: master CommitID:b222395561638f89562e4ef42e1eabf2d6db43dd 155426-155427 --> testing pass Upstream job id: Generic-VM-Unit-Test-DPDK#30106 Test environment and result as below: +-------------------------------+----------------+ | Environment | dpdk_unit_test | +===============================+================+ | Debian GNU/Linux 12 | PASS | +-------------------------------+----------------+ | Fedora Linux 40 | PASS | +-------------------------------+----------------+ | CentOS Stream 10 | PASS | +-------------------------------+----------------+ | Red Hat Enterprise Linux 8.10 | PASS | +-------------------------------+----------------+ | Fedora Linux 41 | PASS | +-------------------------------+----------------+ | CentOS Stream 9 | PASS | +-------------------------------+----------------+ | Red Hat Enterprise Linux 9.5 | PASS | +-------------------------------+----------------+ | Ubuntu 20.04 | PASS | +-------------------------------+----------------+ | Ubuntu 22.04 | PASS | +-------------------------------+----------------+ | Ubuntu 24.04 | PASS | +-------------------------------+----------------+ | Windows Server 2022 | PASS | +-------------------------------+----------------+ Debian GNU/Linux 12 Kernel: 5.15 Compiler: gcc gcc (Debian 12.2.0-14+deb12u1) 12.2.0 Fedora Linux 40 Kernel: 5.15 Compiler: gcc gcc (GCC) 14.2.1 20240912 (Red Hat 14.2.1-3) CentOS Stream 10 Kernel: 5.15 Compiler: gcc gcc (GCC) 14.2.1 20250110 (Red Hat 14.2.1-8) Red Hat Enterprise Linux 8.10 Kernel: 5.15 Compiler: gcc gcc (GCC) 8.5.0 20210514 (Red Hat 8.5.0-22) Fedora Linux 41 Kernel: 5.15 Compiler: clang gcc (GCC) 14.3.1 20250523 (Red Hat 14.3.1-1) CentOS Stream 9 Kernel: 5.15 Compiler: gcc gcc (GCC) 11.5.0 20240719 (Red Hat 11.5.0-7) Red Hat Enterprise Linux 9.5 Kernel: 5.15 Compiler: gcc gcc (GCC) 11.5.0 20240719 (Red Hat 11.5.0-2) Ubuntu 20.04 Kernel: 5.15 Compiler: gcc gcc (Ubuntu 9.4.0-1ubuntu1~20.04.2) 9.4.0 Ubuntu 22.04 Kernel: 5.15 Compiler: gcc gcc (Ubuntu 11.4.0-1ubuntu1~22.04) 11.4.0 Ubuntu 24.04 Kernel: 5.15 Compiler: gcc gcc (Ubuntu 13.3.0-6ubuntu2~24.04) 13.3.0 Windows Server 2022 Kernel: 10.0.20348.2031 Compiler: clang 15.0.7, gcc 14.1.0 (MinGW), and MSVC VS 19.39.33521 To view detailed results, visit: https://lab.dpdk.org/results/dashboard/patchsets/33726/ UNH-IOL DPDK Community Lab To manage your email subscriptions, visit: https://lab.dpdk.org/results/dashboard/preferences/subscriptions/