From mboxrd@z Thu Jan 1 00:00:00 1970 Return-Path: Received: from mails.dpdk.org (mails.dpdk.org [217.70.189.124]) by inbox.dpdk.org (Postfix) with ESMTP id 8F72346BE9 for ; Tue, 22 Jul 2025 23:25:51 +0200 (CEST) Received: from mails.dpdk.org (localhost [127.0.0.1]) by mails.dpdk.org (Postfix) with ESMTP id 6B9A04003C; Tue, 22 Jul 2025 23:25:51 +0200 (CEST) Received: from mail-pl1-f225.google.com (mail-pl1-f225.google.com [209.85.214.225]) by mails.dpdk.org (Postfix) with ESMTP id 3DB474003C for ; Tue, 22 Jul 2025 23:25:50 +0200 (CEST) Received: by mail-pl1-f225.google.com with SMTP id d9443c01a7336-23649faf69fso48869005ad.0 for ; Tue, 22 Jul 2025 14:25:50 -0700 (PDT) DKIM-Signature: v=1; a=rsa-sha256; c=relaxed/relaxed; d=iol.unh.edu; s=unh-iol; t=1753219549; x=1753824349; darn=dpdk.org; h=references:in-reply-to:cc:to:from:subject:message-id:date:from:to :cc:subject:date:message-id:reply-to; bh=Cs2EPgeooOPkNOdmEXPu/mIydgCeYUsERwJ2v3f4vKA=; b=DbY51Br16HhtC6sEgfsljQlh9sw0+J5m+mNZfisTlTxqVMT8J4RiHRw0peGBU8vX4F yZFsbXhwF0UIiivM/Flqe4Fg4+99s0wgGCcwuOktNjsP1NSRxfUKH05WZsTTduS4CmRX vo/oikLFzy0XWvkjT84lUveoh1O/uB1UGtgbE= X-Google-DKIM-Signature: v=1; a=rsa-sha256; c=relaxed/relaxed; d=1e100.net; s=20230601; t=1753219549; x=1753824349; h=references:in-reply-to:cc:to:from:subject:message-id:date :x-gm-message-state:from:to:cc:subject:date:message-id:reply-to; bh=Cs2EPgeooOPkNOdmEXPu/mIydgCeYUsERwJ2v3f4vKA=; b=YqBfEUBrDziUVl8CtdBW+lnsZfMt/RPUQj1Zq1Phi+2rJOYbH851psJjvGRrSNAxwn Fd8CMJ7XaXfyRBSH0hDhTuK79viYvqKRnEx2byq+teaEQOAMsEq5L8oStLqo6NS1tCgM 6Z3S+te92LMIMrTUPpZTUKcutiVmCnujIoYuhTWcQBqJzLJdVodkhuUBff0VFCmrN03V DwfUOcO51hW7TKDOW2Wwod44lSKuZG7bEEFOjdfPafLw3F/1fZrywHkl89BnuvgQj3p3 oowywYzNpaYJQZWz2DOx76PmRyfG8sAGinwSq4HpjXS4fOnxNp3lGiKyT+/K6oW0tc2S 9Y+g== X-Gm-Message-State: AOJu0Yyn/ptVgyjzXd3aRocQFzZZpLmKIUcb9a2mM5PhVbybFE2GR9wU c3BmBPz9t0evRWge4yU8pmaiSxAs/4pN0wKnHPGE1vIi1+Ly9qS4sRyQpa3WGtYF0KSd0okTmZX kuVHAmK977UYwIyWn+aYt0HzjGo/EafGh69mVa56UiGnGDQTF8hPr3UeZI+ak X-Gm-Gg: ASbGnct24UaggSKE+OCUzvVfOSw1JzhHoj71D0j7uLIrTMT56mI0Q7uvZ5fnXf+CAMe jad7YHnNrl1TEe+n07jWA3+I4Bk/Ac4NxnfmUg4BgYVNpOhOkK1EM/+rq5SLq3R2lLGps1PpmLl 2w463Q/M/+09LynRXPMZhZL7k3uY7CiKSts1azeL6H1oVoY+iDYX2s2qGFv6LhCe1iMRUxUuFBD laqd+UIsksxDTBjnzSHSLOd21Xs/2+Ey0EH1ccgUne80/mJwGc7ObVDPnKs1+hh5kwMXi07otG3 xN9Ttzv7/pNWJxjnKUORyJD3v+liVYU/EuKw2y8zmElpr7NvUw== X-Google-Smtp-Source: AGHT+IF6+0ewmwQy4ssdHv+o1rN1BbdsExP9GmX+MqLZg+FXmL1gqdfIS4lnb7OegI0ooKRzPNXuk15OXBwN X-Received: by 2002:a17:902:e546:b0:234:d10d:9f9f with SMTP id d9443c01a7336-23f981cd512mr5785715ad.40.1753219549283; Tue, 22 Jul 2025 14:25:49 -0700 (PDT) Received: from postal.iol.unh.edu (postal.iol.unh.edu. [2606:4100:3880:1234::84]) by smtp-relay.gmail.com with ESMTPS id d9443c01a7336-23e3b6f2474sm5955925ad.109.2025.07.22.14.25.49 (version=TLS1_2 cipher=ECDHE-ECDSA-AES128-GCM-SHA256 bits=128/128); Tue, 22 Jul 2025 14:25:49 -0700 (PDT) X-Relaying-Domain: iol.unh.edu Date: Tue, 22 Jul 2025 14:25:49 -0700 (PDT) Message-ID: <688001dd.170a0220.31cc86.ee17SMTPIN_ADDED_MISSING@mx.google.com> Received: from [172.21.0.3] (unknown [172.18.0.240]) by postal.iol.unh.edu (Postfix) with ESMTP id 8542D6051830; Tue, 22 Jul 2025 17:25:48 -0400 (EDT) Subject: |SUCCESS| pw155431-155432 [PATCH] [v1,2/2] dts: add exception handli From: dpdklab@iol.unh.edu To: Test Report Cc: dpdk-test-reports@iol.unh.edu In-Reply-To: <20250722172214.202308-2-dmarx@iol.unh.edu> References: <20250722172214.202308-2-dmarx@iol.unh.edu> Content-Type: text/plain X-BeenThere: test-report@dpdk.org X-Mailman-Version: 2.1.29 Precedence: list List-Id: automatic DPDK test reports List-Unsubscribe: , List-Archive: List-Post: List-Help: List-Subscribe: , Errors-To: test-report-bounces@dpdk.org Test-Label: iol-compile-amd64-testing Test-Status: SUCCESS http://dpdk.org/patch/155432 _Testing PASS_ Submitter: Dean Marx Date: Tuesday, July 22 2025 17:22:14 DPDK git baseline: Repo:dpdk Branch: master CommitID:f8fb19d5e2fc20798ed0caa292a1538fbbd98f96 155431-155432 --> testing pass Upstream job id: Windows-Compile-DPDK-Native#29950 Test environment and result as below: +---------------------+--------------------+-------------------+-------------------------+ | Environment | dpdk_meson_compile | dpdk_msvc_compile | dpdk_llvm_clang_compile | +=====================+====================+===================+=========================+ | Ubuntu 20.04 | PASS | SKIPPED | SKIPPED | +---------------------+--------------------+-------------------+-------------------------+ | FreeBSD 14.2 | PASS | SKIPPED | SKIPPED | +---------------------+--------------------+-------------------+-------------------------+ | Windows Server 2022 | SKIPPED | PASS | PASS | +---------------------+--------------------+-------------------+-------------------------+ Ubuntu 20.04 Kernel: 4.19 Compiler: gcc gcc (Ubuntu 9.4.0-1ubuntu1~20.04.2) 9.4.0 FreeBSD 14.2 Kernel: 14.2-RELEASE Compiler: clang 18.1.6 Windows Server 2022 Kernel: 10.0.20348.2031 Compiler: clang 15.0.7, gcc 14.1.0 (MinGW), and MSVC VS 19.39.33521 To view detailed results, visit: https://lab.dpdk.org/results/dashboard/patchsets/33729/ UNH-IOL DPDK Community Lab To manage your email subscriptions, visit: https://lab.dpdk.org/results/dashboard/preferences/subscriptions/