From mboxrd@z Thu Jan 1 00:00:00 1970 Return-Path: Received: from mails.dpdk.org (mails.dpdk.org [217.70.189.124]) by inbox.dpdk.org (Postfix) with ESMTP id CBA9046BE9 for ; Tue, 22 Jul 2025 23:29:07 +0200 (CEST) Received: from mails.dpdk.org (localhost [127.0.0.1]) by mails.dpdk.org (Postfix) with ESMTP id B38A94003C; Tue, 22 Jul 2025 23:29:07 +0200 (CEST) Received: from mail-pg1-f228.google.com (mail-pg1-f228.google.com [209.85.215.228]) by mails.dpdk.org (Postfix) with ESMTP id 832414003C for ; Tue, 22 Jul 2025 23:29:06 +0200 (CEST) Received: by mail-pg1-f228.google.com with SMTP id 41be03b00d2f7-b3226307787so4695899a12.1 for ; Tue, 22 Jul 2025 14:29:06 -0700 (PDT) DKIM-Signature: v=1; a=rsa-sha256; c=relaxed/relaxed; d=iol.unh.edu; s=unh-iol; t=1753219745; x=1753824545; darn=dpdk.org; h=references:in-reply-to:cc:to:from:subject:message-id:date:from:to :cc:subject:date:message-id:reply-to; bh=W5Uh6SFKHHo1ABz9KTfSbVwbTNw081/CwX278cKkM7Y=; b=LL6Djcnn0U5WohEFITbKHzCkAUzUkziauj5oYcgM3qgP+7WnMtDonbZ9eSab15lVm4 ylf71I7LFcSqfE10K39EB7gb3xxA1qzGDhlqEczadOMHhlOiiIsGMfX1XWfrApQfZ0Xn a4mHIxwYTV5g4dmyYtON7hPOm7ADiDgRW7sNk= X-Google-DKIM-Signature: v=1; a=rsa-sha256; c=relaxed/relaxed; d=1e100.net; s=20230601; t=1753219745; x=1753824545; h=references:in-reply-to:cc:to:from:subject:message-id:date :x-gm-message-state:from:to:cc:subject:date:message-id:reply-to; bh=W5Uh6SFKHHo1ABz9KTfSbVwbTNw081/CwX278cKkM7Y=; b=d+AlD/T2no5Sb/jGZvkD0IwGb0Sk350aRsCBhqYFh2gvIVb/PkNnbpn/Tgk1+pLK5R sRR9dANN6wzalK3rS6mEGGsiVcNqqqHog4gDU15GsdHQr3dWBrrh45LwWyvhuRp5cI8i x9LmARODcRELx3RhEyX11xRYKUFt+U8IIZ6+fvC1mu8SbB8HQAhZ9vumlH7Ptal55slG RsVRQUjzpX8vVzVOeneVxxA9S+Ar0Ceh/q5p4VrTchF3QBOLJtD12YnoT/oWlUY70lHq P45VgnaelGmfM0ORoJc7NRzk7nu0jcusJJ5phzldCo4V4DfWPVsFVmlkVkJv/mNCmeZD /U0w== X-Gm-Message-State: AOJu0Yz+5ojCGumbHS2UA/LEWnhFXyJUX/lO0mD9CMD0+9cp1/cn9eWy qT4LGTzuVSP+P1ZIDOvoKMdy5srZjFVvWpRLZCU0Yerb8Hs0MEG3akJ5tMdtiJE7fFRT9zLJEB2 yv2ecuKFvAooTtZjeKygXA+Y6jaZSJcrRKH4bR7bjn8gM X-Gm-Gg: ASbGnctAvhY42AHVq0NApQe8MkO7r4AEiIt/Ssz8bukc3p8Bt07us7UQbjYvLrSyY4o iq83T+b5VDAkD4ffoH4o2HzGig1BLJsDbbRxMsPG6nAAnVu7QqxTRMeZKzkCSOJaEM5bVLW9JJV 1HiU2GnZna84f/Jy9DMtFA5BhY3IDguxJi/VzO9KCMIXJPVHJXgCxG8/fr6lj0GNQUrjA+Z1cSS HQh38j5RgoQQap4XvlVNSvf+2j4haDemTpDzfOy7Q9SO4JDPgwyHOozYHoZUS4tHr/PNuSY2/Qu AYDFlFUDuRjTijr/gQpoTyv/TW72NWoyA4Hzx+HBL5E93wtNnH1MnvGy5+jZPn942k1MvK7k X-Google-Smtp-Source: AGHT+IHTCh0NTBU9OWxch56Y3F6bTvS5XinXqqpgutsOt3ZqJtLq3a83PpGGT5D2FZOhR1B9+9MQHMv01JiQ X-Received: by 2002:a17:90b:4b4d:b0:312:e731:5a6b with SMTP id 98e67ed59e1d1-31e50859ad4mr838030a91.32.1753219745576; Tue, 22 Jul 2025 14:29:05 -0700 (PDT) Received: from postal.iol.unh.edu (postal.iol.unh.edu. [132.177.123.84]) by smtp-relay.gmail.com with ESMTPS id 98e67ed59e1d1-31e519dff1bsm9319a91.4.2025.07.22.14.29.05 (version=TLS1_2 cipher=ECDHE-ECDSA-AES128-GCM-SHA256 bits=128/128); Tue, 22 Jul 2025 14:29:05 -0700 (PDT) X-Relaying-Domain: iol.unh.edu Date: Tue, 22 Jul 2025 14:29:05 -0700 (PDT) Message-ID: <688002a1.170a0220.45644.0772SMTPIN_ADDED_MISSING@mx.google.com> Received: from [172.21.0.2] (unknown [172.18.0.240]) by postal.iol.unh.edu (Postfix) with ESMTP id A15916051830; Tue, 22 Jul 2025 17:29:04 -0400 (EDT) Subject: |SUCCESS| pw155425 [PATCH] maintainers: update for DTS From: dpdklab@iol.unh.edu To: Test Report Cc: dpdk-test-reports@iol.unh.edu In-Reply-To: <20250722160529.2659392-1-luca.vizzarro@arm.com> References: <20250722160529.2659392-1-luca.vizzarro@arm.com> Content-Type: text/plain X-BeenThere: test-report@dpdk.org X-Mailman-Version: 2.1.29 Precedence: list List-Id: automatic DPDK test reports List-Unsubscribe: , List-Archive: List-Post: List-Help: List-Subscribe: , Errors-To: test-report-bounces@dpdk.org Test-Label: iol-abi-testing Test-Status: SUCCESS http://dpdk.org/patch/155425 _Testing PASS_ Submitter: Luca Vizzarro Date: Tuesday, July 22 2025 16:05:14 DPDK git baseline: Repo:dpdk Branch: master CommitID:b222395561638f89562e4ef42e1eabf2d6db43dd 155425 --> testing pass Upstream job id: Generic-DPDK-Compile-ABI#135300 Test environment and result as below: +-------------------------------+----------+ | Environment | abi_test | +===============================+==========+ | CentOS Stream 9 | PASS | +-------------------------------+----------+ | CentOS Stream 10 | PASS | +-------------------------------+----------+ | Fedora Linux 40 | PASS | +-------------------------------+----------+ | Debian GNU/Linux 12 | PASS | +-------------------------------+----------+ | Fedora Linux 41 | PASS | +-------------------------------+----------+ | openSUSE Leap 15.6 | PASS | +-------------------------------+----------+ | Red Hat Enterprise Linux 9.5 | PASS | +-------------------------------+----------+ | Ubuntu 22.04 | PASS | +-------------------------------+----------+ | Red Hat Enterprise Linux 8.10 | PASS | +-------------------------------+----------+ | Ubuntu 24.04 | PASS | +-------------------------------+----------+ CentOS Stream 9 Kernel: 5.15 Compiler: gcc gcc (GCC) 11.5.0 20240719 (Red Hat 11.5.0-7) CentOS Stream 10 Kernel: 5.15 Compiler: gcc gcc (GCC) 14.2.1 20250110 (Red Hat 14.2.1-8) Fedora Linux 40 Kernel: 5.15 Compiler: gcc gcc (GCC) 14.2.1 20240912 (Red Hat 14.2.1-3) Debian GNU/Linux 12 Kernel: 5.15 Compiler: gcc gcc (Debian 12.2.0-14+deb12u1) 12.2.0 Fedora Linux 41 Kernel: 5.15 Compiler: clang gcc (GCC) 14.3.1 20250523 (Red Hat 14.3.1-1) openSUSE Leap 15.6 Kernel: 5.15 Compiler: gcc gcc (SUSE Linux) 7.5.0 Red Hat Enterprise Linux 9.5 Kernel: 5.15 Compiler: gcc gcc (GCC) 11.5.0 20240719 (Red Hat 11.5.0-2) Ubuntu 22.04 Kernel: 5.15 Compiler: gcc gcc (Ubuntu 11.4.0-1ubuntu1~22.04) 11.4.0 Red Hat Enterprise Linux 8.10 Kernel: 5.15 Compiler: gcc gcc (GCC) 8.5.0 20210514 (Red Hat 8.5.0-22) Ubuntu 24.04 Kernel: 5.15 Compiler: gcc gcc (Ubuntu 13.3.0-6ubuntu2~24.04) 13.3.0 To view detailed results, visit: https://lab.dpdk.org/results/dashboard/patchsets/33725/ UNH-IOL DPDK Community Lab To manage your email subscriptions, visit: https://lab.dpdk.org/results/dashboard/preferences/subscriptions/