From mboxrd@z Thu Jan 1 00:00:00 1970 Return-Path: Received: from mails.dpdk.org (mails.dpdk.org [217.70.189.124]) by inbox.dpdk.org (Postfix) with ESMTP id 63FA646BE9 for ; Tue, 22 Jul 2025 23:35:29 +0200 (CEST) Received: from mails.dpdk.org (localhost [127.0.0.1]) by mails.dpdk.org (Postfix) with ESMTP id 418BE4003C; Tue, 22 Jul 2025 23:35:29 +0200 (CEST) Received: from mail-pf1-f225.google.com (mail-pf1-f225.google.com [209.85.210.225]) by mails.dpdk.org (Postfix) with ESMTP id CCD2E4003C for ; Tue, 22 Jul 2025 23:35:27 +0200 (CEST) Received: by mail-pf1-f225.google.com with SMTP id d2e1a72fcca58-7426c44e014so5526754b3a.3 for ; Tue, 22 Jul 2025 14:35:27 -0700 (PDT) DKIM-Signature: v=1; a=rsa-sha256; c=relaxed/relaxed; d=iol.unh.edu; s=unh-iol; t=1753220127; x=1753824927; darn=dpdk.org; h=references:in-reply-to:cc:to:from:subject:message-id:date:from:to :cc:subject:date:message-id:reply-to; bh=B7d5pimnKNQhSPsPYAloGrruybI5xwkqCZU4Dv2+2Ys=; b=P7ar/txAp7B3dEoibL25stzrbSlYAMkIEXtcUHA0ruFClUEI6/0SAs0HAkEy22rWhe NUL4RFskmHREh3zYQaZQcVF5e+d4DVZP5+KDaB5hjo4hgy34LaD+Fz+fcQ0Ybwetgqh2 b3UzB4IFIXJ8hA4TAp42xqCulrjPKJ/dr3P0o= X-Google-DKIM-Signature: v=1; a=rsa-sha256; c=relaxed/relaxed; d=1e100.net; s=20230601; t=1753220127; x=1753824927; h=references:in-reply-to:cc:to:from:subject:message-id:date :x-gm-message-state:from:to:cc:subject:date:message-id:reply-to; bh=B7d5pimnKNQhSPsPYAloGrruybI5xwkqCZU4Dv2+2Ys=; b=eA926++uAazpDm7LNi+h8kbNYS3fhuPhXcXyhub35gZFf1OK3I6yhvnlPbtzOwGYWs 05KdPRLxw6wm2DiglJ/eZYKPCgTGWlOBeQ+/COmlfsQjFnHW+61v6oU/YolMGCGwALYW D17q5w881F643BHV4uJkZYvUKxXtym3ZvjRwY6Pf6lrXDOu9Upa981QmIJAHtJQMq9bF cKnKU9rwc1Pzj+fiHe9y69c0d2/pAS14qgnfjDlsG3CimOFqDuHD3qrpqwZ+4XFORVpZ Cvu1GJwDKXkYuG/wm5RBL4REy/zbz3DS/VVxUZEngXkH4kEApadCe4rSQGyxlhESzngX 7vkQ== X-Gm-Message-State: AOJu0YzXbqHq8zERFdv1UlKRtJxyIVyAhHF0xf24i7DQglQBedYTWU4+ r5R+k44mSPXuQoOLuOyoTBPriEirvWaD1bWFEhuhYf1FpgKgu2eVanfh6lM0LiSiRhXOw7R4hpZ g4AI5l5hOyU2OAJpPfOqXNvbIVDiTQq5zSUNGNPovuQSG X-Gm-Gg: ASbGnctX95LBBDpbbSvbhNP/Puzh+E8kzQGm/QrZWNywYJ+8OLNvPTLuEgq8HowVlHm VchDgieyYeBH7+QASNBRDm7IJhb1x+qHeoUbCJZwNe1yQ49aUrL80up/XXAX2a085E4blXng7Py p026FKjdMPOo//zAPI3vj63kR9JupFIhpKtVjM+oGrSI8TSs8nvGHDt0NzNTwzTTZjiFH2VFFrJ TlMqMYB4LGYo8wKSBTU+rZhLGDn0/OnapEu9EQQJ6YeKQZaYM4ChRJie5h4C6A49pAIlmCXR1TF psNgwZGEaha1S5+UDOE/BbH9QDC/o4LjmTc2aUqsAn4p/jrbVsVi77RfXnBHmXuzNWxETeSM X-Google-Smtp-Source: AGHT+IGQ/lXpbB0WVVeKC2mbvvQHuN8oLrFrKMbSlciAFnfXvvOguuawQ3z5bTe5GeEWEQBHdQrVxfCrbo4b X-Received: by 2002:a05:6a21:6da7:b0:231:bac6:7027 with SMTP id adf61e73a8af0-23d4904221dmr597803637.11.1753220126889; Tue, 22 Jul 2025 14:35:26 -0700 (PDT) Received: from postal.iol.unh.edu (postal.iol.unh.edu. [132.177.123.84]) by smtp-relay.gmail.com with ESMTPS id d2e1a72fcca58-759c84dae2dsm639183b3a.5.2025.07.22.14.35.26 (version=TLS1_2 cipher=ECDHE-ECDSA-AES128-GCM-SHA256 bits=128/128); Tue, 22 Jul 2025 14:35:26 -0700 (PDT) X-Relaying-Domain: iol.unh.edu Date: Tue, 22 Jul 2025 14:35:26 -0700 (PDT) Message-ID: <6880041e.050a0220.332f5d.0e62SMTPIN_ADDED_MISSING@mx.google.com> Received: from [172.21.0.5] (unknown [172.18.0.240]) by postal.iol.unh.edu (Postfix) with ESMTP id 245D06051830; Tue, 22 Jul 2025 17:35:26 -0400 (EDT) Subject: |SUCCESS| pw155431-155432 [PATCH] [v1,2/2] dts: add exception handli From: dpdklab@iol.unh.edu To: Test Report Cc: dpdk-test-reports@iol.unh.edu In-Reply-To: <20250722172214.202308-2-dmarx@iol.unh.edu> References: <20250722172214.202308-2-dmarx@iol.unh.edu> Content-Type: text/plain X-BeenThere: test-report@dpdk.org X-Mailman-Version: 2.1.29 Precedence: list List-Id: automatic DPDK test reports List-Unsubscribe: , List-Archive: List-Post: List-Help: List-Subscribe: , Errors-To: test-report-bounces@dpdk.org Test-Label: iol-compile-amd64-testing Test-Status: SUCCESS http://dpdk.org/patch/155432 _Testing PASS_ Submitter: Dean Marx Date: Tuesday, July 22 2025 17:22:14 DPDK git baseline: Repo:dpdk Branch: master CommitID:f8fb19d5e2fc20798ed0caa292a1538fbbd98f96 155431-155432 --> testing pass Upstream job id: Windows-Compile-DPDK-Native#29951 Test environment and result as below: +---------------------+--------------------+-------------------+-------------------------+----------------------+ | Environment | dpdk_meson_compile | dpdk_msvc_compile | dpdk_llvm_clang_compile | dpdk_mingw64_compile | +=====================+====================+===================+=========================+======================+ | Ubuntu 20.04 | PASS | SKIPPED | SKIPPED | SKIPPED | +---------------------+--------------------+-------------------+-------------------------+----------------------+ | FreeBSD 14.2 | PASS | SKIPPED | SKIPPED | SKIPPED | +---------------------+--------------------+-------------------+-------------------------+----------------------+ | Windows Server 2022 | SKIPPED | PASS | PASS | PASS | +---------------------+--------------------+-------------------+-------------------------+----------------------+ Ubuntu 20.04 Kernel: 4.19 Compiler: gcc gcc (Ubuntu 9.4.0-1ubuntu1~20.04.2) 9.4.0 FreeBSD 14.2 Kernel: 14.2-RELEASE Compiler: clang 18.1.6 Windows Server 2022 Kernel: 10.0.20348.2031 Compiler: clang 15.0.7, gcc 14.1.0 (MinGW), and MSVC VS 19.39.33521 To view detailed results, visit: https://lab.dpdk.org/results/dashboard/patchsets/33729/ UNH-IOL DPDK Community Lab To manage your email subscriptions, visit: https://lab.dpdk.org/results/dashboard/preferences/subscriptions/