From mboxrd@z Thu Jan 1 00:00:00 1970 Return-Path: Received: from mails.dpdk.org (mails.dpdk.org [217.70.189.124]) by inbox.dpdk.org (Postfix) with ESMTP id C03BA46BE9 for ; Tue, 22 Jul 2025 23:39:51 +0200 (CEST) Received: from mails.dpdk.org (localhost [127.0.0.1]) by mails.dpdk.org (Postfix) with ESMTP id A13D34003C; Tue, 22 Jul 2025 23:39:51 +0200 (CEST) Received: from mail-il1-f228.google.com (mail-il1-f228.google.com [209.85.166.228]) by mails.dpdk.org (Postfix) with ESMTP id A6CCD4003C for ; Tue, 22 Jul 2025 23:39:50 +0200 (CEST) Received: by mail-il1-f228.google.com with SMTP id e9e14a558f8ab-3e28bf4a350so31421875ab.1 for ; Tue, 22 Jul 2025 14:39:50 -0700 (PDT) DKIM-Signature: v=1; a=rsa-sha256; c=relaxed/relaxed; d=iol.unh.edu; s=unh-iol; t=1753220390; x=1753825190; darn=dpdk.org; h=references:in-reply-to:cc:to:from:subject:message-id:date:from:to :cc:subject:date:message-id:reply-to; bh=5sXxtDJjXT8eLHk3IqQe4KXo5kzsOYd/2FY7RtIbh+8=; b=M0Eq02fMVFoa/CfAq3GSwo2RnYIJymcfSmzZ6b/HgaY+d+jE57wE2DZPU15NCDY3zv rKzt5Cd2Cn7X2Jg5imRjFN+pom9US+pQNLd3TupkgS/c7fxOACaSLYpUeI3jIeCJjHOj D4M8s1odONIPIbFJtSo4O6zvEFR5p55g9Tw4g= X-Google-DKIM-Signature: v=1; a=rsa-sha256; c=relaxed/relaxed; d=1e100.net; s=20230601; t=1753220390; x=1753825190; h=references:in-reply-to:cc:to:from:subject:message-id:date :x-gm-message-state:from:to:cc:subject:date:message-id:reply-to; bh=5sXxtDJjXT8eLHk3IqQe4KXo5kzsOYd/2FY7RtIbh+8=; b=Y2j5kYDzyZEgym7V248DZrPQNL9Ex4s6P1Wa+4LAcSBF+dwGt9HJLldY4xt9MtBhKC Yb5f1LWxho4oxFiFkRQzqhhPCiJqJgdQMTs92FQDW8DM3Sbbv7/DvYofDrXyzWcR611Z WQ0jTbTR0FJwNa56mRcGCeHwVziity0hUqy4x3heJadTdBWHeasqN++ezHqnkRmmfcFL yJa4eRfl4kzXdOXxJv1o1ss3pglFvxg2rLPg4y2WkfZ8HN00TaGvcF2NBU1H5Oegn+Kc 1NmNqZI7fhr9OrhtiYwJgkZ2cko4Y13hraSxuTe+YngWUlwpOcaB3uZZv5l2rHkPTtib L+aw== X-Gm-Message-State: AOJu0YzV9usCk3bfErIPtC8zkBouTgtxXz4RAVsIi/9Qh+cGt55G3FhS Ts/H/tM072sXC8DTDzbZ+uhig6cavRYNF/DsmQQ/AssdEUifII0IKZrsRJDJdBX3Wp5kfrbBVc/ oaZRVwznz9WUCqx9MDGfRXp4IvZ0YeqgG4/AX3XgOdAgu X-Gm-Gg: ASbGncvaZZPo4onSlobeBhMfDcOrv5z2m7UhDqfiRWs7k4jxVSDtxxaZn0rLtS0DdCC C3i6Ab6Uryy3q5f1Ze7mVv9WqchC2IornjFSM14JF3fW4m9wOj6sUSGiQJY8zgcdKhLb9BRnYAh tK43g8C6wIkgbcBlcfyuioCAFI9nsQBtSrYCOOfCczqNCwBC234Yj9rm3QNYMhjXflVpCwflW4o bL4O1g6e8wJya1+2m27UQS07FklMWLgwsbvBu/xaRLxnVIWaZP0OYVF+u3/kxq/o6VKRxBAJLNp JEny7Wf5MLT1sv2PHWW6xieync6u18YBtKATNm8BPfJ0SjxpQJsgsgY/oATQ9suwNnIcIicv X-Google-Smtp-Source: AGHT+IHXnuGQKJqOy7OOkPyJprVKQzel8MW7k96ce46sFaKjB5eVKamXp7U4vSee5Bl6RRtSQG04yk6RV63F X-Received: by 2002:a05:6e02:3604:b0:3e2:a749:250b with SMTP id e9e14a558f8ab-3e32fc9ac94mr12555605ab.14.1753220389912; Tue, 22 Jul 2025 14:39:49 -0700 (PDT) Received: from postal.iol.unh.edu (postal.iol.unh.edu. [132.177.123.84]) by smtp-relay.gmail.com with ESMTPS id 8926c6da1cb9f-5084c9381efsm534299173.45.2025.07.22.14.39.49 (version=TLS1_2 cipher=ECDHE-ECDSA-AES128-GCM-SHA256 bits=128/128); Tue, 22 Jul 2025 14:39:49 -0700 (PDT) X-Relaying-Domain: iol.unh.edu Date: Tue, 22 Jul 2025 14:39:49 -0700 (PDT) Message-ID: <68800525.050a0220.31b22f.bebaSMTPIN_ADDED_MISSING@mx.google.com> Received: from [172.21.0.3] (unknown [172.18.0.240]) by postal.iol.unh.edu (Postfix) with ESMTP id 785326051830; Tue, 22 Jul 2025 17:39:49 -0400 (EDT) Subject: |SUCCESS| pw155431-155432 [PATCH] [v1,2/2] dts: add exception handli From: dpdklab@iol.unh.edu To: Test Report Cc: dpdk-test-reports@iol.unh.edu In-Reply-To: <20250722172214.202308-2-dmarx@iol.unh.edu> References: <20250722172214.202308-2-dmarx@iol.unh.edu> Content-Type: text/plain X-BeenThere: test-report@dpdk.org X-Mailman-Version: 2.1.29 Precedence: list List-Id: automatic DPDK test reports List-Unsubscribe: , List-Archive: List-Post: List-Help: List-Subscribe: , Errors-To: test-report-bounces@dpdk.org Test-Label: iol-compile-amd64-testing Test-Status: SUCCESS http://dpdk.org/patch/155432 _Testing PASS_ Submitter: Dean Marx Date: Tuesday, July 22 2025 17:22:14 DPDK git baseline: Repo:dpdk Branch: master CommitID:f8fb19d5e2fc20798ed0caa292a1538fbbd98f96 155431-155432 --> testing pass Upstream job id: Windows-Compile-DPDK-Native#29952 Test environment and result as below: +---------------------+--------------------+-------------------+-------------------------+ | Environment | dpdk_meson_compile | dpdk_msvc_compile | dpdk_llvm_clang_compile | +=====================+====================+===================+=========================+ | FreeBSD 14.2 | PASS | SKIPPED | SKIPPED | +---------------------+--------------------+-------------------+-------------------------+ | Ubuntu 20.04 | PASS | SKIPPED | SKIPPED | +---------------------+--------------------+-------------------+-------------------------+ | Windows Server 2022 | SKIPPED | PASS | PASS | +---------------------+--------------------+-------------------+-------------------------+ FreeBSD 14.2 Kernel: 14.2-RELEASE Compiler: clang 18.1.6 Ubuntu 20.04 Kernel: 4.19 Compiler: gcc gcc (Ubuntu 9.4.0-1ubuntu1~20.04.2) 9.4.0 Windows Server 2022 Kernel: 10.0.20348.2031 Compiler: clang 15.0.7, gcc 14.1.0 (MinGW), and MSVC VS 19.39.33521 To view detailed results, visit: https://lab.dpdk.org/results/dashboard/patchsets/33729/ UNH-IOL DPDK Community Lab To manage your email subscriptions, visit: https://lab.dpdk.org/results/dashboard/preferences/subscriptions/