From mboxrd@z Thu Jan 1 00:00:00 1970 Return-Path: Received: from mails.dpdk.org (mails.dpdk.org [217.70.189.124]) by inbox.dpdk.org (Postfix) with ESMTP id 1447946BE9 for ; Tue, 22 Jul 2025 23:42:28 +0200 (CEST) Received: from mails.dpdk.org (localhost [127.0.0.1]) by mails.dpdk.org (Postfix) with ESMTP id E8C7F4003C; Tue, 22 Jul 2025 23:42:27 +0200 (CEST) Received: from mail-vs1-f100.google.com (mail-vs1-f100.google.com [209.85.217.100]) by mails.dpdk.org (Postfix) with ESMTP id D32F44003C for ; Tue, 22 Jul 2025 23:42:26 +0200 (CEST) Received: by mail-vs1-f100.google.com with SMTP id ada2fe7eead31-4e7f4adaedaso683996137.3 for ; Tue, 22 Jul 2025 14:42:26 -0700 (PDT) DKIM-Signature: v=1; a=rsa-sha256; c=relaxed/relaxed; d=iol.unh.edu; s=unh-iol; t=1753220546; x=1753825346; darn=dpdk.org; h=references:in-reply-to:cc:to:from:subject:message-id:date:from:to :cc:subject:date:message-id:reply-to; bh=w2iKPYLjBr2ZjmEaWTleulyTsxSv02a+NM9kzPPcr1s=; b=IJGQYHjGF7nhGQCTz28TlBrbD2brasnfFbmljoEDoTi+d/E35IV0yBggnX/kOLrQzn ZcarQLlPYDFdUAVRAqH/WVjLbPO9CA7vs1N1roUiNAcUCMa9ej+Ew62ORdTr4bxIQ5o8 0RZc2rYbtW4hgijhr4jI4B0tbKPuWPdZ2FvYM= X-Google-DKIM-Signature: v=1; a=rsa-sha256; c=relaxed/relaxed; d=1e100.net; s=20230601; t=1753220546; x=1753825346; h=references:in-reply-to:cc:to:from:subject:message-id:date :x-gm-message-state:from:to:cc:subject:date:message-id:reply-to; bh=w2iKPYLjBr2ZjmEaWTleulyTsxSv02a+NM9kzPPcr1s=; b=RHiJgjXXlkO6FDXNgZPnPqwUSVoBS6TO18ZJkweNUIPTq7Y0JxC3zCaKN3+n7MJV0F NTlL/86Ad7i8uwQlEGyOFpVjiYcN2ePDiu1yAibgCapwLZsZbp8LBtjt/te18q+epbqa bq5xF+pTU/aG5cNXDWhXvfsIn7II5W4iiFijtx03xq0vNZ0X9ClkCYE1roFsi6u7zRHc wzHBRBqHbxp0F1l5jFMb9HyHFR8BIXCb5E1vPlfGJhb1SIK/ZTqE4X6KNMhMEl00W48y XBer7814KeSHeui7vR3swHA5K+zCpu8CdJ9o9sfwut++4lXjwfR3EEhlnTF1VVBYIYW3 Bbxg== X-Gm-Message-State: AOJu0YzWHCVKI/h3t+io/n8LtxvWWHNe6gknep1howhQRbEKH2ZzmeDR wdoWJ+NqCiJ2eZ1tAofTgXlc9i7IeGtrNpYzeBYaxEeMWbm8zEFKypFVvwDEBrHoGJlx+OH/Wd3 7TTSy4DQx7spNq21WjuutE1OpVl2V9sAKm80ePfMHV2fH X-Gm-Gg: ASbGncuKa2r947HPiK1bc5WDK0WXfg50JWH07xpqzylLcekOGTzmfApV48pSYxbZg3P hY+U99W4bNIxvDrXEJumxUJOdXhN1XlThIKfse0guTr19TY/YBIJDLFoXe4r/u4uboFZAGqWrsr SDHiONHEfypkg8IPIJQLUKBq7PYfsKjTnSYIfyHBzfLIq36+RwKgMPy7PGu0HQ9yoGyYJkVXdoM L/BYnKoD2qamAXhhjLbEFjLJsAB9AyETJHGamu/QJLrGmscfVR9VlzoKHmcgsjXVI9//ztIrcDC +N/K3x1aPgFafffMn505jRoOqi1+G5BxJ0OYghBWjOIE7NGZDLLfS2kKaQdt8/6xIAdOd++r X-Google-Smtp-Source: AGHT+IG0q2Me/GVL/YSo/m/kPmedBW21I9bSU7jjgwBGuRiQjRNhoK+neGQKm9SmfC18BtTGDoni4HNLx/sj X-Received: by 2002:a05:6102:2ac2:b0:4e5:9380:9c25 with SMTP id ada2fe7eead31-4fa14ff1d4dmr290703137.3.1753220546169; Tue, 22 Jul 2025 14:42:26 -0700 (PDT) Received: from postal.iol.unh.edu (postal.iol.unh.edu. [132.177.123.84]) by smtp-relay.gmail.com with ESMTPS id ada2fe7eead31-4f9ad0170d7sm397364137.2.2025.07.22.14.42.26 (version=TLS1_2 cipher=ECDHE-ECDSA-AES128-GCM-SHA256 bits=128/128); Tue, 22 Jul 2025 14:42:26 -0700 (PDT) X-Relaying-Domain: iol.unh.edu Date: Tue, 22 Jul 2025 14:42:26 -0700 (PDT) Message-ID: <688005c2.050a0220.b9ffd.3f71SMTPIN_ADDED_MISSING@mx.google.com> Received: from [172.21.0.2] (unknown [172.18.0.240]) by postal.iol.unh.edu (Postfix) with ESMTP id CEBBA6051830; Tue, 22 Jul 2025 17:42:25 -0400 (EDT) Subject: |SUCCESS| pw155431-155432 [PATCH] [v1,2/2] dts: add exception handli From: dpdklab@iol.unh.edu To: Test Report Cc: dpdk-test-reports@iol.unh.edu In-Reply-To: <20250722172214.202308-2-dmarx@iol.unh.edu> References: <20250722172214.202308-2-dmarx@iol.unh.edu> Content-Type: text/plain X-BeenThere: test-report@dpdk.org X-Mailman-Version: 2.1.29 Precedence: list List-Id: automatic DPDK test reports List-Unsubscribe: , List-Archive: List-Post: List-Help: List-Subscribe: , Errors-To: test-report-bounces@dpdk.org Test-Label: iol-compile-amd64-testing Test-Status: SUCCESS http://dpdk.org/patch/155432 _Testing PASS_ Submitter: Dean Marx Date: Tuesday, July 22 2025 17:22:14 DPDK git baseline: Repo:dpdk Branch: master CommitID:f8fb19d5e2fc20798ed0caa292a1538fbbd98f96 155431-155432 --> testing pass Upstream job id: Windows-Compile-DPDK-Native#29953 Test environment and result as below: +---------------------+--------------------+-------------------+-------------------------+----------------------+ | Environment | dpdk_meson_compile | dpdk_msvc_compile | dpdk_llvm_clang_compile | dpdk_mingw64_compile | +=====================+====================+===================+=========================+======================+ | FreeBSD 14.2 | PASS | SKIPPED | SKIPPED | SKIPPED | +---------------------+--------------------+-------------------+-------------------------+----------------------+ | Ubuntu 20.04 | PASS | SKIPPED | SKIPPED | SKIPPED | +---------------------+--------------------+-------------------+-------------------------+----------------------+ | Windows Server 2022 | SKIPPED | PASS | PASS | PASS | +---------------------+--------------------+-------------------+-------------------------+----------------------+ FreeBSD 14.2 Kernel: 14.2-RELEASE Compiler: clang 18.1.6 Ubuntu 20.04 Kernel: 4.19 Compiler: gcc gcc (Ubuntu 9.4.0-1ubuntu1~20.04.2) 9.4.0 Windows Server 2022 Kernel: 10.0.20348.2031 Compiler: clang 15.0.7, gcc 14.1.0 (MinGW), and MSVC VS 19.39.33521 To view detailed results, visit: https://lab.dpdk.org/results/dashboard/patchsets/33729/ UNH-IOL DPDK Community Lab To manage your email subscriptions, visit: https://lab.dpdk.org/results/dashboard/preferences/subscriptions/