From mboxrd@z Thu Jan 1 00:00:00 1970 Return-Path: Received: from mails.dpdk.org (mails.dpdk.org [217.70.189.124]) by inbox.dpdk.org (Postfix) with ESMTP id 75ECD46BE9 for ; Tue, 22 Jul 2025 23:46:29 +0200 (CEST) Received: from mails.dpdk.org (localhost [127.0.0.1]) by mails.dpdk.org (Postfix) with ESMTP id 4A6054003C; Tue, 22 Jul 2025 23:46:29 +0200 (CEST) Received: from mail-pj1-f100.google.com (mail-pj1-f100.google.com [209.85.216.100]) by mails.dpdk.org (Postfix) with ESMTP id A04734003C for ; Tue, 22 Jul 2025 23:46:27 +0200 (CEST) Received: by mail-pj1-f100.google.com with SMTP id 98e67ed59e1d1-31c4a546cc2so4981714a91.2 for ; Tue, 22 Jul 2025 14:46:27 -0700 (PDT) DKIM-Signature: v=1; a=rsa-sha256; c=relaxed/relaxed; d=iol.unh.edu; s=unh-iol; t=1753220786; x=1753825586; darn=dpdk.org; h=references:in-reply-to:cc:to:from:subject:message-id:date:from:to :cc:subject:date:message-id:reply-to; bh=wDS2OtRW9Bj6SLWsvYtgDxwG5yDhmOqOB5RZYE7dqqU=; b=JwiwxudDJOeKLzIbrmIrAITiyuLjy+HyJ8Ol5K+LwFqV5NcZRVOy3tBkU/oF3x47HB uvR8wK+YO3lSCUZ+Wzzs8L4fFqKrO4Iv/35/LDggikAkIFFk3xr8nkOKHYWbGcf9X9QV zljDM0AE1r4WXZ8H7PJ2uMAA30HlIYcdmRkBs= X-Google-DKIM-Signature: v=1; a=rsa-sha256; c=relaxed/relaxed; d=1e100.net; s=20230601; t=1753220786; x=1753825586; h=references:in-reply-to:cc:to:from:subject:message-id:date :x-gm-message-state:from:to:cc:subject:date:message-id:reply-to; bh=wDS2OtRW9Bj6SLWsvYtgDxwG5yDhmOqOB5RZYE7dqqU=; b=uOQHm1OwVXRAdiBSZ89ycubrftkPqD0HL2pnSzvjihq83gSoQAF3tT2quUmmMY9+4Y pYHSuHKqzVaQJQ3KKRMQhQ+fApTUE6qvKn3lMrxhFb3u0JIFYiqOvDe1lLO6GG/Nuonn ji8wzxZmq3JY0OrVqa+cU1VrasAeg1swupK5I/bc6cyinPyVy30MNeq5y9nqag5U/iGP yWEj0Iyclvd7zodUVWqfHjSPQi7G2c9xnSoJyhlL/G0HbeY8EmojPLa6JZuYCsGS65cJ hCX6CNHNJ3G3uEKShgo0TDSOSZKmArdUmKdbH70Zpz818IXiz6rWSrDfGASCfaDsYON8 5pcg== X-Gm-Message-State: AOJu0YzD1meIO9D/vrL/s8uUejY/esjz3hVd31wDHB96hJTHbRsgj3Xv M36LV/WxV1C6OyhhqTtiMHCYRn+KtmiloKIajG0EldsHlu6bYofszRFTe4T+RBTSbiCcjVHngQy pcDi+dQ7jocZBF13q0tjT+y6kcpcR3PufkBee185sWUYp1Lo54sHwiQW6ckva X-Gm-Gg: ASbGnctQdfe6Nf/KTlVzj/S3vBrZaroGWQ+GSH2zws30H5Oog0Xnwe/Qavf9NA7yKhf /xO3gV/QR2Vh8jKPvmC1r6v/W7yn5FG/TkudPgdkeXN1vIxYZU1i8Ftr0L8jdYIK1dtnNA//8sL UoGK0INGZuRkq3baFLk3hWXqjzn8QEICToSGen+eIYsMl78Ds6EzwKEpl9z7DDx+2ufGNLOipUW vd3VSWjlxp1YUBv5I/Z89AwCk3AFRXl0NWoGR1qMTX8Zt/Cfk/hBE6J+PO3Kfvyv1gQum/xVCvr c01vZexfvp9Riaq6ucuCcjilBpJ/q4Xt8Zdpv3DeYDQ6uWTe4A== X-Google-Smtp-Source: AGHT+IGjN2rH9CekUGQhPShbfdGzZlvXKEvEbjLvzCXR4IQ7q1q2Gj77CAeicskqMySUxWNeHhhvxu01zURT X-Received: by 2002:a17:90b:5281:b0:311:e4ff:1810 with SMTP id 98e67ed59e1d1-31e5079f5c9mr1089494a91.3.1753220786642; Tue, 22 Jul 2025 14:46:26 -0700 (PDT) Received: from postal.iol.unh.edu (postal.iol.unh.edu. [2606:4100:3880:1234::84]) by smtp-relay.gmail.com with ESMTPS id 98e67ed59e1d1-31e519acef6sm11189a91.3.2025.07.22.14.46.26 (version=TLS1_2 cipher=ECDHE-ECDSA-AES128-GCM-SHA256 bits=128/128); Tue, 22 Jul 2025 14:46:26 -0700 (PDT) X-Relaying-Domain: iol.unh.edu Date: Tue, 22 Jul 2025 14:46:26 -0700 (PDT) Message-ID: <688006b2.170a0220.147d47.08a9SMTPIN_ADDED_MISSING@mx.google.com> Received: from [172.21.0.2] (unknown [172.18.0.240]) by postal.iol.unh.edu (Postfix) with ESMTP id DCE386051830; Tue, 22 Jul 2025 17:46:25 -0400 (EDT) Subject: |SUCCESS| pw155429-155430 [PATCH] [v1,2/2] dts: add steps and verify From: dpdklab@iol.unh.edu To: Test Report Cc: dpdk-test-reports@iol.unh.edu In-Reply-To: <20250722171957.200698-2-dmarx@iol.unh.edu> References: <20250722171957.200698-2-dmarx@iol.unh.edu> Content-Type: text/plain X-BeenThere: test-report@dpdk.org X-Mailman-Version: 2.1.29 Precedence: list List-Id: automatic DPDK test reports List-Unsubscribe: , List-Archive: List-Post: List-Help: List-Subscribe: , Errors-To: test-report-bounces@dpdk.org Test-Label: iol-compile-amd64-testing Test-Status: SUCCESS http://dpdk.org/patch/155430 _Testing PASS_ Submitter: Dean Marx Date: Tuesday, July 22 2025 17:19:57 DPDK git baseline: Repo:dpdk Branch: master CommitID:f8fb19d5e2fc20798ed0caa292a1538fbbd98f96 155429-155430 --> testing pass Upstream job id: Windows-Compile-DPDK-Native#29954 Test environment and result as below: +---------------------+--------------------+-------------------+-------------------------+ | Environment | dpdk_meson_compile | dpdk_msvc_compile | dpdk_llvm_clang_compile | +=====================+====================+===================+=========================+ | Ubuntu 20.04 | PASS | SKIPPED | SKIPPED | +---------------------+--------------------+-------------------+-------------------------+ | FreeBSD 14.2 | PASS | SKIPPED | SKIPPED | +---------------------+--------------------+-------------------+-------------------------+ | Windows Server 2022 | SKIPPED | PASS | PASS | +---------------------+--------------------+-------------------+-------------------------+ Ubuntu 20.04 Kernel: 4.19 Compiler: gcc gcc (Ubuntu 9.4.0-1ubuntu1~20.04.2) 9.4.0 FreeBSD 14.2 Kernel: 14.2-RELEASE Compiler: clang 18.1.6 Windows Server 2022 Kernel: 10.0.20348.2031 Compiler: clang 15.0.7, gcc 14.1.0 (MinGW), and MSVC VS 19.39.33521 To view detailed results, visit: https://lab.dpdk.org/results/dashboard/patchsets/33728/ UNH-IOL DPDK Community Lab To manage your email subscriptions, visit: https://lab.dpdk.org/results/dashboard/preferences/subscriptions/