From mboxrd@z Thu Jan 1 00:00:00 1970 Return-Path: Received: from mails.dpdk.org (mails.dpdk.org [217.70.189.124]) by inbox.dpdk.org (Postfix) with ESMTP id BF24A46BE9 for ; Tue, 22 Jul 2025 23:49:37 +0200 (CEST) Received: from mails.dpdk.org (localhost [127.0.0.1]) by mails.dpdk.org (Postfix) with ESMTP id 9AD024003C; Tue, 22 Jul 2025 23:49:37 +0200 (CEST) Received: from mail-pf1-f228.google.com (mail-pf1-f228.google.com [209.85.210.228]) by mails.dpdk.org (Postfix) with ESMTP id DF82D4003C for ; Tue, 22 Jul 2025 23:49:35 +0200 (CEST) Received: by mail-pf1-f228.google.com with SMTP id d2e1a72fcca58-75b5be236deso2633754b3a.0 for ; Tue, 22 Jul 2025 14:49:35 -0700 (PDT) DKIM-Signature: v=1; a=rsa-sha256; c=relaxed/relaxed; d=iol.unh.edu; s=unh-iol; t=1753220975; x=1753825775; darn=dpdk.org; h=references:in-reply-to:cc:to:from:subject:message-id:date:from:to :cc:subject:date:message-id:reply-to; bh=9X/UM0zM6hLGAJb+6P7P3TXCm4gqX9G0DPpa8A+s9iE=; b=AoKh5CSnwHqh6Xu9DkCOj0nyEITP74wV0pMBLwV4JGCfV+yRCZCf+S3dDjGnJ+kfWf VBNFW7NNdL3HYPFTVWeMSBCCVCh6XLc5b8KVd427PKsaUNH4jE/8jJ88h4whx8ztq6Cp Rku1dI1imEPkI3LfKOimyvQRlJAF4/UYxW/TQ= X-Google-DKIM-Signature: v=1; a=rsa-sha256; c=relaxed/relaxed; d=1e100.net; s=20230601; t=1753220975; x=1753825775; h=references:in-reply-to:cc:to:from:subject:message-id:date :x-gm-message-state:from:to:cc:subject:date:message-id:reply-to; bh=9X/UM0zM6hLGAJb+6P7P3TXCm4gqX9G0DPpa8A+s9iE=; b=WW8WVhMbLuv/gVjz3xQR0KbVGVclHJI40Et+ny8j0jUe0J9DIVktX1i+k0fnbfJ+vV I3Qja45RegN8wlglXyjwi6PsjThsm1lS0Go9LdBv2T8bkr0jZzfZD+mzy6lTBVQAtLbA i2H2NE0zE6003ub35Tv7kywwO/6Ga5z8LQGFPY4+SJYu/3cON7cIVxW57FMw8pxYfzwY 7vy2pHqGsGaNwr/vQEa9bkssZ33Gsn1b9FM4KoA1KCs5xTD/0JFyO+p4aH7QXI4G9DNi vmhMdszby5UsHoXMm5mGE9iTGrsYKnNmsv9ViTAxiolpiKIqMoj9TzFRb3Ky1IaksF0n lzUw== X-Gm-Message-State: AOJu0YyMZwQlFfiQWBtjENFqgKQFIe38Uc14qt+92wuEjoLqunLLLl2n fMAllUaIpLeMZTFxrAG6XueeBDOSLiauHE2HEBbrwex/DNHpFAWbxh1J/Uyfu1p7Wd/FA13vSrQ gaPcbwjwHsx+RhixFhbUIw+cbzGjKQ7IO1UFEJDorK9mrB6YPHQnhpbdiLJyi X-Gm-Gg: ASbGncv9BmVmrMzCxIRe+NKadVizOQ2L8ibIiW/Ku2J+8KPBgt1sv9wBb2vxyDr9hYm AaBsI6lZ63UPvAL2Afs8HKxfW/R4+BlvN6eiXdakaPgOXiIHZWvyYCy8uS3SURP6fRchTSuBQsp ievs9dVbewduuRsnz72kGJsb81xQr/sIhnxHeM8KnALdgQ6xzmjGyQgXlL0pXEGVjlofSjBzYLe JcgawvEJ8HmTgSoS6MbLHwCqXEXcSombHXyLcMse/8YI+EShF6nXNX6J/sNY3MSI6RESd9BHZhu XwUgNdzBAPWaPA/xTaXXOmVdubOQKcO9uj+8pl3wzQwffbZ9OQ== X-Google-Smtp-Source: AGHT+IHmQCJWh8SAMRUsfQboicHluU3rk9rrBSnZYUHP3ONnNXzabJ4akbPw2C5ItaJ5hsOHq8f02ineiIWG X-Received: by 2002:a05:6a00:ad0:b0:748:33f3:8da8 with SMTP id d2e1a72fcca58-7603450a7camr1159401b3a.5.1753220974938; Tue, 22 Jul 2025 14:49:34 -0700 (PDT) Received: from postal.iol.unh.edu (postal.iol.unh.edu. [2606:4100:3880:1234::84]) by smtp-relay.gmail.com with ESMTPS id d2e1a72fcca58-759c84dae44sm645957b3a.4.2025.07.22.14.49.34 (version=TLS1_2 cipher=ECDHE-ECDSA-AES128-GCM-SHA256 bits=128/128); Tue, 22 Jul 2025 14:49:34 -0700 (PDT) X-Relaying-Domain: iol.unh.edu Date: Tue, 22 Jul 2025 14:49:34 -0700 (PDT) Message-ID: <6880076e.050a0220.399f0b.10ffSMTPIN_ADDED_MISSING@mx.google.com> Received: from [172.21.0.2] (unknown [172.18.0.240]) by postal.iol.unh.edu (Postfix) with ESMTP id 6C10F6051830; Tue, 22 Jul 2025 17:49:34 -0400 (EDT) Subject: |SUCCESS| pw155413-155414 [PATCH] [2/2] net: remove v25 ABI compatib From: dpdklab@iol.unh.edu To: Test Report Cc: dpdk-test-reports@iol.unh.edu In-Reply-To: <20250722132441.3700305-2-david.marchand@redhat.com> References: <20250722132441.3700305-2-david.marchand@redhat.com> Content-Type: text/plain X-BeenThere: test-report@dpdk.org X-Mailman-Version: 2.1.29 Precedence: list List-Id: automatic DPDK test reports List-Unsubscribe: , List-Archive: List-Post: List-Help: List-Subscribe: , Errors-To: test-report-bounces@dpdk.org Test-Label: iol-compile-arm64-testing Test-Status: SUCCESS http://dpdk.org/patch/155414 _Testing PASS_ Submitter: David Marchand Date: Tuesday, July 22 2025 13:24:41 DPDK git baseline: Repo:dpdk Branch: master CommitID:b222395561638f89562e4ef42e1eabf2d6db43dd 155413-155414 --> testing pass Upstream job id: Generic-DPDK-Compile-Meson#410982 Test environment and result as below: +------------------------------+--------------------+ | Environment | dpdk_meson_compile | +==============================+====================+ | Red Hat Enterprise Linux 9.5 | PASS | +------------------------------+--------------------+ | Ubuntu 20.04 | PASS | +------------------------------+--------------------+ | Debian GNU/Linux 12 | PASS | +------------------------------+--------------------+ | Fedora Linux 40 | PASS | +------------------------------+--------------------+ | Ubuntu 24.04 | PASS | +------------------------------+--------------------+ | Ubuntu 22.04 | PASS | +------------------------------+--------------------+ | CentOS Stream 9 | PASS | +------------------------------+--------------------+ | Fedora Linux 41 | PASS | +------------------------------+--------------------+ | CentOS Stream 10 | PASS | +------------------------------+--------------------+ Red Hat Enterprise Linux 9.5 Kernel: 5.4 Compiler: gcc gcc (GCC) 11.5.0 20240719 (Red Hat 11.5.0-2) Ubuntu 20.04 Kernel: 5.15 Compiler: aarch64-linux-gnu-gcc gcc (Ubuntu 9.4.0-1ubuntu1~20.04.2) 9.4.0 Debian GNU/Linux 12 Kernel: 5.4 Compiler: gcc gcc (Debian 12.2.0-14+deb12u1) 12.2.0 Fedora Linux 40 Kernel: 5.4 Compiler: gcc gcc (GCC) 14.2.1 20240912 (Red Hat 14.2.1-3) Ubuntu 24.04 Kernel: 5.4 Compiler: gcc gcc (Ubuntu 13.3.0-6ubuntu2~24.04) 13.3.0 Ubuntu 22.04 Kernel: 5.4 Compiler: gcc gcc (Ubuntu 11.4.0-1ubuntu1~22.04) 11.4.0 CentOS Stream 9 Kernel: 5.4 Compiler: gcc gcc (GCC) 11.5.0 20240719 (Red Hat 11.5.0-7) Fedora Linux 41 Kernel: 5.4 Compiler: clang gcc (GCC) 14.3.1 20250523 (Red Hat 14.3.1-1) CentOS Stream 10 Kernel: 5.4 Compiler: gcc gcc (GCC) 14.2.1 20250110 (Red Hat 14.2.1-8) To view detailed results, visit: https://lab.dpdk.org/results/dashboard/patchsets/33722/ UNH-IOL DPDK Community Lab To manage your email subscriptions, visit: https://lab.dpdk.org/results/dashboard/preferences/subscriptions/