From mboxrd@z Thu Jan 1 00:00:00 1970 Return-Path: Received: from mails.dpdk.org (mails.dpdk.org [217.70.189.124]) by inbox.dpdk.org (Postfix) with ESMTP id AF37C46BE9 for ; Tue, 22 Jul 2025 23:49:42 +0200 (CEST) Received: from mails.dpdk.org (localhost [127.0.0.1]) by mails.dpdk.org (Postfix) with ESMTP id A9CD64003C; Tue, 22 Jul 2025 23:49:42 +0200 (CEST) Received: from mail-vk1-f228.google.com (mail-vk1-f228.google.com [209.85.221.228]) by mails.dpdk.org (Postfix) with ESMTP id 44CF54003C for ; Tue, 22 Jul 2025 23:49:41 +0200 (CEST) Received: by mail-vk1-f228.google.com with SMTP id 71dfb90a1353d-5315ebfd92cso204225e0c.0 for ; Tue, 22 Jul 2025 14:49:41 -0700 (PDT) DKIM-Signature: v=1; a=rsa-sha256; c=relaxed/relaxed; d=iol.unh.edu; s=unh-iol; t=1753220980; x=1753825780; darn=dpdk.org; h=references:in-reply-to:cc:to:from:subject:message-id:date:from:to :cc:subject:date:message-id:reply-to; bh=gmoptigm25sRhA7RQKxmK1CDfXZKfl2tJjvQWxNw7gE=; b=Abe4yg19jt2rr0bQsgjGCiZsBZKVFR8g8kpf6F+VQaYbNYwGBN/+2mAjWfOk+a8WOX XP0f3GZzQjyr9DhUHS9QmX+pi3LmgsYrSL/HKqcnj6IcBi1pSFEdVcUVLyCmhyfEeLS/ nlCaYmgkLOsWLoMBC+cI8gszMb9eZEsiARPko= X-Google-DKIM-Signature: v=1; a=rsa-sha256; c=relaxed/relaxed; d=1e100.net; s=20230601; t=1753220980; x=1753825780; h=references:in-reply-to:cc:to:from:subject:message-id:date :x-gm-message-state:from:to:cc:subject:date:message-id:reply-to; bh=gmoptigm25sRhA7RQKxmK1CDfXZKfl2tJjvQWxNw7gE=; b=X/4rIn4Pb2hfZl3WSWBG1bin/yBPwX69YlaaGPFPefECqA7Q6OZIru33MZf+8ax4Zr aDb5+ZE+rLazypvCc17a1K51D1umdJ+tOzt1udizkitdJIYwy2caOGkQac/267s6VYYz tYnfjyG+XNyAtDJBzBpmPNYYjHl2T8nUy2Dor6iUtkkS5TJKZ+YZqLxu3HWCw+/CbAZ1 cfsDJ/gbJ/qaDZ8A6loFi5yZrkp0qs3TLVEy3QBk1/WLxACHVYkJ3dZeGCUMK26sOjy0 mlhu4eUKHlDVXlhxRHXJoC2vAu3BETUwVzDE1Gku7wMDB1ZUIv5vFRiO3yGaFdYjwg+P 9nNA== X-Gm-Message-State: AOJu0Yw/VumqQ7MrG5u3vOUqPAk80Pa4NDF5OLswezyEiqxV/E+2An2O kdERa5imE4VJJBeXIYbBpP11a6Gw+5oB6mLTJPdFXfmEOdfHqH5bOINQ9lVnBBFP42MLNMpscZu cZusq38/ddtPSgyF3uFFVFlemNbkmhJOx9lxy+agJ0Q6uBBJ7+/mTHgwGAdzP X-Gm-Gg: ASbGncvBW0hazDusZsCDj6Y67qCcOm8ytBIVGdvtsWvyc+Euo0IzbmtOPsUmpsD674J q3fG731ZRz9gi87l+/XmsI7y+K4TxwYH3A/FRoUcxx/97zbEKPySCoXLTalZvI71N6bbj1erYGR 17YujobKfXJXeshUfuC1UTlt/klyczDQuxTh9pw2Zd1GgXGZ2YWCA27XdygvueY41dTKhiIp2ns KyGT8n6L4/34ML9Lv9NyXlbtt+ZyBt1FdkYmFrFigV+UedbL0QESy4tJ72Jqjb7FzktaNAK1Q2a 2C1vUF/krHKjX0w5zZFvhQ06VGmQ7Z3A/jeJebD0hBs4y2JsGw== X-Google-Smtp-Source: AGHT+IEFi2ZaIv1HnhoP9Ua6JrZqwII+F1e2kB+mvSyaz3det8WSvza6Vl0v6jGCxUqk9WSl/1NPn8vsOgwj X-Received: by 2002:a05:6122:25ca:b0:534:7e7d:e70b with SMTP id 71dfb90a1353d-5379f25dc16mr2353495e0c.2.1753220980645; Tue, 22 Jul 2025 14:49:40 -0700 (PDT) Received: from postal.iol.unh.edu (postal.iol.unh.edu. [2606:4100:3880:1234::84]) by smtp-relay.gmail.com with ESMTPS id a1e0cc1a2514c-88b0aaa68absm342520241.5.2025.07.22.14.49.40 (version=TLS1_2 cipher=ECDHE-ECDSA-AES128-GCM-SHA256 bits=128/128); Tue, 22 Jul 2025 14:49:40 -0700 (PDT) X-Relaying-Domain: iol.unh.edu Date: Tue, 22 Jul 2025 14:49:40 -0700 (PDT) Message-ID: <68800774.050a0220.3c5044.1102SMTPIN_ADDED_MISSING@mx.google.com> Received: from [172.21.0.4] (unknown [172.18.0.240]) by postal.iol.unh.edu (Postfix) with ESMTP id 5648B6051830; Tue, 22 Jul 2025 17:49:40 -0400 (EDT) Subject: |SUCCESS| pw155413-155414 [PATCH] [2/2] net: remove v25 ABI compatib From: dpdklab@iol.unh.edu To: Test Report Cc: dpdk-test-reports@iol.unh.edu In-Reply-To: <20250722132441.3700305-2-david.marchand@redhat.com> References: <20250722132441.3700305-2-david.marchand@redhat.com> Content-Type: text/plain X-BeenThere: test-report@dpdk.org X-Mailman-Version: 2.1.29 Precedence: list List-Id: automatic DPDK test reports List-Unsubscribe: , List-Archive: List-Post: List-Help: List-Subscribe: , Errors-To: test-report-bounces@dpdk.org Test-Label: iol-compile-arm64-testing Test-Status: SUCCESS http://dpdk.org/patch/155414 _Testing PASS_ Submitter: David Marchand Date: Tuesday, July 22 2025 13:24:41 DPDK git baseline: Repo:dpdk Branch: master CommitID:b222395561638f89562e4ef42e1eabf2d6db43dd 155413-155414 --> testing pass Upstream job id: Generic-DPDK-Compile-Meson#410984 Test environment and result as below: +------------------------------+--------------------+ | Environment | dpdk_meson_compile | +==============================+====================+ | Red Hat Enterprise Linux 9.5 | PASS | +------------------------------+--------------------+ | Ubuntu 20.04 | PASS | +------------------------------+--------------------+ | Debian GNU/Linux 12 | PASS | +------------------------------+--------------------+ | Fedora Linux 40 | PASS | +------------------------------+--------------------+ | Ubuntu 24.04 | PASS | +------------------------------+--------------------+ | Ubuntu 22.04 | PASS | +------------------------------+--------------------+ | CentOS Stream 9 | PASS | +------------------------------+--------------------+ | Fedora Linux 41 | PASS | +------------------------------+--------------------+ | CentOS Stream 10 | PASS | +------------------------------+--------------------+ Red Hat Enterprise Linux 9.5 Kernel: 5.4 Compiler: gcc gcc (GCC) 11.5.0 20240719 (Red Hat 11.5.0-2) Ubuntu 20.04 Kernel: 5.15 Compiler: aarch64-linux-gnu-gcc gcc (Ubuntu 9.4.0-1ubuntu1~20.04.2) 9.4.0 Debian GNU/Linux 12 Kernel: 5.4 Compiler: gcc gcc (Debian 12.2.0-14+deb12u1) 12.2.0 Fedora Linux 40 Kernel: 5.4 Compiler: gcc gcc (GCC) 14.2.1 20240912 (Red Hat 14.2.1-3) Ubuntu 24.04 Kernel: 5.4 Compiler: gcc gcc (Ubuntu 13.3.0-6ubuntu2~24.04) 13.3.0 Ubuntu 22.04 Kernel: 5.4 Compiler: gcc gcc (Ubuntu 11.4.0-1ubuntu1~22.04) 11.4.0 CentOS Stream 9 Kernel: 5.4 Compiler: gcc gcc (GCC) 11.5.0 20240719 (Red Hat 11.5.0-7) Fedora Linux 41 Kernel: 5.4 Compiler: clang gcc (GCC) 14.3.1 20250523 (Red Hat 14.3.1-1) CentOS Stream 10 Kernel: 5.4 Compiler: gcc gcc (GCC) 14.2.1 20250110 (Red Hat 14.2.1-8) To view detailed results, visit: https://lab.dpdk.org/results/dashboard/patchsets/33722/ UNH-IOL DPDK Community Lab To manage your email subscriptions, visit: https://lab.dpdk.org/results/dashboard/preferences/subscriptions/