From mboxrd@z Thu Jan 1 00:00:00 1970 Return-Path: Received: from mails.dpdk.org (mails.dpdk.org [217.70.189.124]) by inbox.dpdk.org (Postfix) with ESMTP id C86FD46BE9 for ; Tue, 22 Jul 2025 23:50:08 +0200 (CEST) Received: from mails.dpdk.org (localhost [127.0.0.1]) by mails.dpdk.org (Postfix) with ESMTP id C143C4003C; Tue, 22 Jul 2025 23:50:08 +0200 (CEST) Received: from mail-io1-f97.google.com (mail-io1-f97.google.com [209.85.166.97]) by mails.dpdk.org (Postfix) with ESMTP id 9595B4003C for ; Tue, 22 Jul 2025 23:50:07 +0200 (CEST) Received: by mail-io1-f97.google.com with SMTP id ca18e2360f4ac-87c3e35b3cbso188143239f.2 for ; Tue, 22 Jul 2025 14:50:07 -0700 (PDT) DKIM-Signature: v=1; a=rsa-sha256; c=relaxed/relaxed; d=iol.unh.edu; s=unh-iol; t=1753221007; x=1753825807; darn=dpdk.org; h=references:in-reply-to:cc:to:from:subject:message-id:date:from:to :cc:subject:date:message-id:reply-to; bh=ID0FF6xQmWCSZTBKLsTPOvvmi1VwVbAtTXdv/HHgHT0=; b=dwxB0+fwb661H6+gfx3OihRZsLGWgLyo8nqNfaGaJ2B9ZIYTxm0SuxT0WZBvuEh17I B2eo4DGlXXLNaSuvMmwni2s5rwRReLFa6xMcmcXou8MdUMZQTp6UQQ6e44D9KpqecHZS hY5U4bqPJjx+s+tnwWGyqFZEF4sS8d/EOZJRo= X-Google-DKIM-Signature: v=1; a=rsa-sha256; c=relaxed/relaxed; d=1e100.net; s=20230601; t=1753221007; x=1753825807; h=references:in-reply-to:cc:to:from:subject:message-id:date :x-gm-message-state:from:to:cc:subject:date:message-id:reply-to; bh=ID0FF6xQmWCSZTBKLsTPOvvmi1VwVbAtTXdv/HHgHT0=; b=kH0BXg32IMQpDh3WgpeY9zTXu//YZL4od7rxOE39OzSrCkKUI8qBiU0JDZAprN+ppI wcT8G7s5EbLQUYcY2iiD1Flu23dLjfqR3mpkzrk0rcSIWMRcRwdC+KwCaPQvGx+A2IJE AvMxrwLhOn7O7yNHMwGDwJz0VBtijzHnLv7C8gdoPQ0eVLvsPchhQwEzahBmdsqfOnhF o6WfeviXglyPQJAiFwN/filA+CcEgnWlKgoXnNvbhpfwbsSI0hyyT9Bh4dVssWd9Sxzk N8t2hfQ19oNrL1FeatuRUkH54bFje+7GxuyZH1pFdIvNJxY/a/nuFM8qW/GwVpKrVP9F FI4A== X-Gm-Message-State: AOJu0YzXnQzcvs3JJXSxtY5C9/HCFGMHor4BV1z1M51m2tIR/b6hq2U0 Ztr6eXuRKHl5Pss4FDA8+yFkDWyIbA84+FCNd/OWk9qPZ2DT08kdU3R5Ue/BNS3uhaCzOxC+3WI MAMMhpMUSKWD95TnnGnuGdGGXC3zNyYVVSFJ26ow/T/y0 X-Gm-Gg: ASbGnctibwGEydT9Ub8hJx6lYqXrAjO8UGx6Bgxa8cJtmy7ljdE6EWNFBiJRIlEgh7U bdEozsFWtZGxcxXagpaANQbmdk+bzZNQtF/is9VlQMvEOhuPvFWFWYfMIV8ba2F8Geey4SRGeLV lX/B/DZRsoAEb6f0Sli3KO1PMatSajHfJ+13iTW5DtP1+5xQEOosbh7e+z3vAmDNT3oehUdRyvF HHtKjbjsvJiMhpbLA8CbiFom9f1/xiru6kUabTb9wLSfKvmJY1FJoY4uUVLq1DyCbTakkfEX8f6 jDBDjRFq3pjpItIyjsTXgihqVqIRMbGjySWaApK0OrJP+ez+Cp5K53UEfdSQkAGR4pyS7kJT X-Google-Smtp-Source: AGHT+IEnw7jqNbmOlyxN5/JnMIPbgmZI67K316dwoddvzySJYfyqYcrE48XBREMq6GPYHiwp6VixeuFWEXUV X-Received: by 2002:a05:6e02:144c:b0:3dd:b7ea:c3d9 with SMTP id e9e14a558f8ab-3e32fc4b05fmr13918415ab.7.1753221006831; Tue, 22 Jul 2025 14:50:06 -0700 (PDT) Received: from postal.iol.unh.edu (postal.iol.unh.edu. [132.177.123.84]) by smtp-relay.gmail.com with ESMTPS id e9e14a558f8ab-3e2983547b7sm6946475ab.41.2025.07.22.14.50.06 (version=TLS1_2 cipher=ECDHE-ECDSA-AES128-GCM-SHA256 bits=128/128); Tue, 22 Jul 2025 14:50:06 -0700 (PDT) X-Relaying-Domain: iol.unh.edu Date: Tue, 22 Jul 2025 14:50:06 -0700 (PDT) Message-ID: <6880078e.050a0220.123f2b.328aSMTPIN_ADDED_MISSING@mx.google.com> Received: from [172.21.0.2] (unknown [172.18.0.240]) by postal.iol.unh.edu (Postfix) with ESMTP id 652CE6051830; Tue, 22 Jul 2025 17:50:06 -0400 (EDT) Subject: |SUCCESS| pw155403 [PATCH] [v3] mbuf: de-inline sanity checking a re From: dpdklab@iol.unh.edu To: Test Report Cc: dpdk-test-reports@iol.unh.edu In-Reply-To: <20250722093431.555214-1-mb@smartsharesystems.com> References: <20250722093431.555214-1-mb@smartsharesystems.com> Content-Type: text/plain X-BeenThere: test-report@dpdk.org X-Mailman-Version: 2.1.29 Precedence: list List-Id: automatic DPDK test reports List-Unsubscribe: , List-Archive: List-Post: List-Help: List-Subscribe: , Errors-To: test-report-bounces@dpdk.org Test-Label: iol-compile-arm64-testing Test-Status: SUCCESS http://dpdk.org/patch/155403 _Testing PASS_ Submitter: Morten Brorup Date: Tuesday, July 22 2025 09:34:31 DPDK git baseline: Repo:dpdk Branch: master CommitID:b222395561638f89562e4ef42e1eabf2d6db43dd 155403 --> testing pass Upstream job id: Generic-DPDK-Compile-Meson#410944 Test environment and result as below: +------------------------------+--------------------+ | Environment | dpdk_meson_compile | +==============================+====================+ | Ubuntu 20.04 | PASS | +------------------------------+--------------------+ | Debian GNU/Linux 12 | PASS | +------------------------------+--------------------+ | Fedora Linux 40 | PASS | +------------------------------+--------------------+ | Fedora Linux 41 | PASS | +------------------------------+--------------------+ | CentOS Stream 10 | PASS | +------------------------------+--------------------+ | Ubuntu 24.04 | PASS | +------------------------------+--------------------+ | Ubuntu 22.04 | PASS | +------------------------------+--------------------+ | CentOS Stream 9 | PASS | +------------------------------+--------------------+ | Red Hat Enterprise Linux 9.5 | PASS | +------------------------------+--------------------+ Ubuntu 20.04 Kernel: 5.4 Compiler: gcc gcc (Ubuntu 9.4.0-1ubuntu1~20.04.2) 9.4.0 Debian GNU/Linux 12 Kernel: 5.4 Compiler: gcc gcc (Debian 12.2.0-14+deb12u1) 12.2.0 Fedora Linux 40 Kernel: 5.4 Compiler: gcc gcc (GCC) 14.2.1 20240912 (Red Hat 14.2.1-3) Fedora Linux 41 Kernel: 5.4 Compiler: gcc gcc (GCC) 14.3.1 20250523 (Red Hat 14.3.1-1) CentOS Stream 10 Kernel: 5.4 Compiler: gcc gcc (GCC) 14.2.1 20250110 (Red Hat 14.2.1-8) Ubuntu 24.04 Kernel: 5.4 Compiler: gcc gcc (Ubuntu 13.3.0-6ubuntu2~24.04) 13.3.0 Ubuntu 22.04 Kernel: 5.4 Compiler: gcc gcc (Ubuntu 11.4.0-1ubuntu1~22.04) 11.4.0 CentOS Stream 9 Kernel: 5.4 Compiler: gcc gcc (GCC) 11.5.0 20240719 (Red Hat 11.5.0-7) Red Hat Enterprise Linux 9.5 Kernel: 5.4 Compiler: gcc gcc (GCC) 11.5.0 20240719 (Red Hat 11.5.0-2) To view detailed results, visit: https://lab.dpdk.org/results/dashboard/patchsets/33719/ UNH-IOL DPDK Community Lab To manage your email subscriptions, visit: https://lab.dpdk.org/results/dashboard/preferences/subscriptions/