From mboxrd@z Thu Jan 1 00:00:00 1970 Return-Path: Received: from mails.dpdk.org (mails.dpdk.org [217.70.189.124]) by inbox.dpdk.org (Postfix) with ESMTP id E883F46BE9 for ; Tue, 22 Jul 2025 23:51:24 +0200 (CEST) Received: from mails.dpdk.org (localhost [127.0.0.1]) by mails.dpdk.org (Postfix) with ESMTP id E169C4003C; Tue, 22 Jul 2025 23:51:24 +0200 (CEST) Received: from mail-yb1-f228.google.com (mail-yb1-f228.google.com [209.85.219.228]) by mails.dpdk.org (Postfix) with ESMTP id 818C64003C for ; Tue, 22 Jul 2025 23:51:23 +0200 (CEST) Received: by mail-yb1-f228.google.com with SMTP id 3f1490d57ef6-e8bd2eaf8ccso5479281276.2 for ; Tue, 22 Jul 2025 14:51:23 -0700 (PDT) DKIM-Signature: v=1; a=rsa-sha256; c=relaxed/relaxed; d=iol.unh.edu; s=unh-iol; t=1753221083; x=1753825883; darn=dpdk.org; h=references:in-reply-to:cc:to:from:subject:message-id:date:from:to :cc:subject:date:message-id:reply-to; bh=IFARvgEh7bM1pxobP9NwhrdV/J5h8dNk0f1OyJehmGg=; b=DUDPVJ1GUAVMLrSactse9kXKhiFfPY3Pbu7sRKsRGYAEMYFwDKW12yq68IXnkQHiHP RcCMrX5b3x8rgjDzxQ2aLXG3Rcrxct6ny7YeaiZZ8wHg8XjaQYtC35ejmJvk67hoyanv hSaLYCn4E6jhvDCOeStHVUWYtDSPe5i31H6mw= X-Google-DKIM-Signature: v=1; a=rsa-sha256; c=relaxed/relaxed; d=1e100.net; s=20230601; t=1753221083; x=1753825883; h=references:in-reply-to:cc:to:from:subject:message-id:date :x-gm-message-state:from:to:cc:subject:date:message-id:reply-to; bh=IFARvgEh7bM1pxobP9NwhrdV/J5h8dNk0f1OyJehmGg=; b=GYtxj6eZZj+dQbBBxEl597oy7AwwAnRllrKyk6whpfdkhmidkUiDPrWistaL7XkPUW oOmjCI36Uxf8t0bmmGYrcAFNuxk8202ca3tq1Hpyn1gyy7mOAQDEYVBaBrfVnW+a/sZF LUKWgnnTS5cdy1Fw4HIF8DAaqToP+6CUjm+mKNnC3Ic4D3/5/kTPapTTnpmmO0YpDhIx XMBSi7r45Hz6oCuN7ZXZ/K7s4MUjkNAvxKzVyfMphBrHn56rrJMXaDAkm+CKcL2PIhQC crXenT9z+Y5zRkm3jtqgB10+cnPIGUFUsoAKdH5EFPmpoCnIccqxDvvzPvd6/ZiWTKev 7G/w== X-Gm-Message-State: AOJu0YxsoSBVjBuAd478wAqAmyh4tYmOYoWgndkGz/Z/MgxNQ/HopD9O TmXl3UMb7ifsJIVHFlPairNtuP8Cm8i8pv93PbVQHsvhSc20qtbB5rzkoLu6JJDQR4P+kurr/ZD UGiuJa9Tb9p3AE4kAJhmYsI1Fdn8mNL7N6g6dv9FIpH3q X-Gm-Gg: ASbGncsWRQpsKchRE9pQ9LTB926J5U7h3P6Qjj5glEGYv+3sZnfBArC9mhj834ZwqKz 1v4WzMBanJ1A0md98nXOJEGYKgmp34BE/FUJAY4oF+HuCqG7SsQrDhTnGOOlzYZUWiPrvoV71V/ k56uzQN0OhzNZpO8SOPPuN9jn5n07yvZZrmQH3rOLbrSUfR39cLS+bfM/tuzBtsYrJvh3tcKbGk RR3GMKQeP87uzn2Ei+6aQL8qF8WvR9zNlb+f7IbOQnKHOSvnfewqswe4QLeWRMKeND0JcrRpxa2 pTwAqKM7wnnOkOXQmblyAJzuDaPsgBTCcEMSFJeioBqbAd2U+cGZ3emNVNRkB9UhgJKsbpHH X-Google-Smtp-Source: AGHT+IFrFxLqS+mMR+4QFnYnfp2ypV/rRpo7H2g2NGIZb3P/XT53WFLuYlBkhcSzgY1wini8B7jZ1zA4jxaw X-Received: by 2002:a05:6902:5409:b0:e8d:b028:4572 with SMTP id 3f1490d57ef6-e8dc5b961c3mr1263985276.44.1753221082870; Tue, 22 Jul 2025 14:51:22 -0700 (PDT) Received: from postal.iol.unh.edu (postal.iol.unh.edu. [132.177.123.84]) by smtp-relay.gmail.com with ESMTPS id 3f1490d57ef6-e8dbff76085sm90178276.7.2025.07.22.14.51.22 (version=TLS1_2 cipher=ECDHE-ECDSA-AES128-GCM-SHA256 bits=128/128); Tue, 22 Jul 2025 14:51:22 -0700 (PDT) X-Relaying-Domain: iol.unh.edu Date: Tue, 22 Jul 2025 14:51:22 -0700 (PDT) Message-ID: <688007da.050a0220.4b2d3.4cceSMTPIN_ADDED_MISSING@mx.google.com> Received: from [172.21.0.3] (unknown [172.18.0.240]) by postal.iol.unh.edu (Postfix) with ESMTP id 8A0CE6051830; Tue, 22 Jul 2025 17:51:22 -0400 (EDT) Subject: |SUCCESS| pw155429-155430 [PATCH] [v1,2/2] dts: add steps and verify From: dpdklab@iol.unh.edu To: Test Report Cc: dpdk-test-reports@iol.unh.edu In-Reply-To: <20250722171957.200698-2-dmarx@iol.unh.edu> References: <20250722171957.200698-2-dmarx@iol.unh.edu> Content-Type: text/plain X-BeenThere: test-report@dpdk.org X-Mailman-Version: 2.1.29 Precedence: list List-Id: automatic DPDK test reports List-Unsubscribe: , List-Archive: List-Post: List-Help: List-Subscribe: , Errors-To: test-report-bounces@dpdk.org Test-Label: iol-compile-amd64-testing Test-Status: SUCCESS http://dpdk.org/patch/155430 _Testing PASS_ Submitter: Dean Marx Date: Tuesday, July 22 2025 17:19:57 DPDK git baseline: Repo:dpdk Branch: master CommitID:f8fb19d5e2fc20798ed0caa292a1538fbbd98f96 155429-155430 --> testing pass Upstream job id: Windows-Compile-DPDK-Native#29955 Test environment and result as below: +---------------------+--------------------+-------------------+-------------------------+----------------------+ | Environment | dpdk_meson_compile | dpdk_msvc_compile | dpdk_llvm_clang_compile | dpdk_mingw64_compile | +=====================+====================+===================+=========================+======================+ | Ubuntu 20.04 | PASS | SKIPPED | SKIPPED | SKIPPED | +---------------------+--------------------+-------------------+-------------------------+----------------------+ | FreeBSD 14.2 | PASS | SKIPPED | SKIPPED | SKIPPED | +---------------------+--------------------+-------------------+-------------------------+----------------------+ | Windows Server 2022 | SKIPPED | PASS | PASS | PASS | +---------------------+--------------------+-------------------+-------------------------+----------------------+ Ubuntu 20.04 Kernel: 4.19 Compiler: gcc gcc (Ubuntu 9.4.0-1ubuntu1~20.04.2) 9.4.0 FreeBSD 14.2 Kernel: 14.2-RELEASE Compiler: clang 18.1.6 Windows Server 2022 Kernel: 10.0.20348.2031 Compiler: clang 15.0.7, gcc 14.1.0 (MinGW), and MSVC VS 19.39.33521 To view detailed results, visit: https://lab.dpdk.org/results/dashboard/patchsets/33728/ UNH-IOL DPDK Community Lab To manage your email subscriptions, visit: https://lab.dpdk.org/results/dashboard/preferences/subscriptions/