From mboxrd@z Thu Jan 1 00:00:00 1970 Return-Path: Received: from mails.dpdk.org (mails.dpdk.org [217.70.189.124]) by inbox.dpdk.org (Postfix) with ESMTP id A992746BE9 for ; Tue, 22 Jul 2025 23:59:27 +0200 (CEST) Received: from mails.dpdk.org (localhost [127.0.0.1]) by mails.dpdk.org (Postfix) with ESMTP id A236C4003C; Tue, 22 Jul 2025 23:59:27 +0200 (CEST) Received: from mail-yb1-f226.google.com (mail-yb1-f226.google.com [209.85.219.226]) by mails.dpdk.org (Postfix) with ESMTP id B51654003C for ; Tue, 22 Jul 2025 23:59:25 +0200 (CEST) Received: by mail-yb1-f226.google.com with SMTP id 3f1490d57ef6-e8d96ff2dfaso2873439276.2 for ; Tue, 22 Jul 2025 14:59:25 -0700 (PDT) DKIM-Signature: v=1; a=rsa-sha256; c=relaxed/relaxed; d=iol.unh.edu; s=unh-iol; t=1753221565; x=1753826365; darn=dpdk.org; h=references:in-reply-to:cc:to:from:subject:message-id:date:from:to :cc:subject:date:message-id:reply-to; bh=5GOoB7nbAHtsU70OJgSlPpxG6jP1aaZUYwQ7zg2oke8=; b=Z25shkCMf+o4hZCXE2M1kc2VHr8fvqKNQCGo+NHoBpHbgSVKjqMSBrB9O0AmrFHHfC z1dUsTPbVm4H2TlkHJHRReN/zh6sXEpHmwG2pPJgoKGenyeN6M8ASXea6bCkWZVLBgnQ bYpNO44MBeRGOlaMlJAq/iYamwFLCn4IIMcmI= X-Google-DKIM-Signature: v=1; a=rsa-sha256; c=relaxed/relaxed; d=1e100.net; s=20230601; t=1753221565; x=1753826365; h=references:in-reply-to:cc:to:from:subject:message-id:date :x-gm-message-state:from:to:cc:subject:date:message-id:reply-to; bh=5GOoB7nbAHtsU70OJgSlPpxG6jP1aaZUYwQ7zg2oke8=; b=FeEUMschV2Tuo6wYS7xoyZ/6IGL0Lh/47eRgSdnWIeM35oaexAmS0AbqHBq9BtP+Zn jXQ9S7f6u/TXql1GHuFVnNYB0EBKSkpSyejM6toi8NwnO7zgFi2XjNuR2L9BWf9QsH+A 3zLF6MF3x0s9H/yGJODclGpn1JcytQ/tQ++rLyrYJA4a9sNrI5adQLjk4zOyHdrgqGF5 6vwpnBC3SStLnYGMYh81I9RxubcrNCT+0YW5gfLhVh4aBUsRJpF4DrWOxxqAUrB8gbdu t29RA65dTJ+rxZtt9CqQofbbQflB/ZCf3/VciXLLgEUHmy9MJHlchJGf7cIdbtbEyawa nQOg== X-Gm-Message-State: AOJu0YxglO7Cbp0P8+rjJReQ8aWvkzOsgEGhCgvB+LZuO352xHkahngn ptVbJJKnV8VIcsio5l5dXgclqFYRGhvExbW5Xz15yiVQhGhiiMDHqHctOjbQvqjjLjf0MWtPtPY dJL0pEm+IUP46vUCwezYr+VsrVm6JIJ7dRDtPAyxz259O X-Gm-Gg: ASbGncsWaquOcxVmgI7dHG/E0Cib1KKuOCl9g8WyD5/5UcjZe+vpNlbiCnaVjnurWQu 47qAivrkZkD6m2mD1sWiMPeVCpOv296KQH7yMP/MutnPlaNIUGsoQx6u1PN2LqbO83Fn6zxnIXa oSmwrpIW3jSuFu4tn+xWSmdqOivbjlilK6+JzlSAEIvWSrv1dnOkDgwOmZfJvaYjl34Dix8QTZF mVgiIn29ByVZdgm4VUkorS9MbiMR+jpRGN14nisfxaFTHq6QQ+xK+0qabG+IFPiMVxrTwIahqf3 OoOQKBfLSG55kwgABJUcKkeUCazFH6ZN1BvPTWc0W88GyDJDWHCgBmf7C5DTG6khYJxOB/q1 X-Google-Smtp-Source: AGHT+IHPFKG2q2YiGXiH2TexH9IchurWkIiFFTw+3wC4onRPhhBQgQXWudCppnLlZn8pd8BjMwNpwfaEADVB X-Received: by 2002:a05:6902:288f:b0:e8b:d2ea:f491 with SMTP id 3f1490d57ef6-e8dc5a6e498mr1067993276.49.1753221565107; Tue, 22 Jul 2025 14:59:25 -0700 (PDT) Received: from postal.iol.unh.edu (postal.iol.unh.edu. [132.177.123.84]) by smtp-relay.gmail.com with ESMTPS id 3f1490d57ef6-e8d7cc0ee58sm637222276.3.2025.07.22.14.59.25 (version=TLS1_2 cipher=ECDHE-ECDSA-AES128-GCM-SHA256 bits=128/128); Tue, 22 Jul 2025 14:59:25 -0700 (PDT) X-Relaying-Domain: iol.unh.edu Date: Tue, 22 Jul 2025 14:59:25 -0700 (PDT) Message-ID: <688009bd.050a0220.3ad8bc.0ff1SMTPIN_ADDED_MISSING@mx.google.com> Received: from [172.21.0.2] (unknown [172.18.0.240]) by postal.iol.unh.edu (Postfix) with ESMTP id C62106051830; Tue, 22 Jul 2025 17:59:24 -0400 (EDT) Subject: |SUCCESS| pw155433-155445 [PATCH] [v6,13/13] pdump: mark API and app From: dpdklab@iol.unh.edu To: Test Report Cc: dpdk-test-reports@iol.unh.edu In-Reply-To: <20250722173552.184141-14-stephen@networkplumber.org> References: <20250722173552.184141-14-stephen@networkplumber.org> Content-Type: text/plain X-BeenThere: test-report@dpdk.org X-Mailman-Version: 2.1.29 Precedence: list List-Id: automatic DPDK test reports List-Unsubscribe: , List-Archive: List-Post: List-Help: List-Subscribe: , Errors-To: test-report-bounces@dpdk.org Test-Label: iol-unit-amd64-testing Test-Status: SUCCESS http://dpdk.org/patch/155445 _Testing PASS_ Submitter: Stephen Hemminger Date: Tuesday, July 22 2025 17:34:44 DPDK git baseline: Repo:dpdk Branch: master CommitID:b222395561638f89562e4ef42e1eabf2d6db43dd 155433-155445 --> testing pass Upstream job id: Generic-Unit-Test-DPDK#357431 Test environment and result as below: +-------------------------------+----------------+ | Environment | dpdk_unit_test | +===============================+================+ | Debian GNU/Linux 12 | PASS | +-------------------------------+----------------+ | Fedora Linux 41 | PASS | +-------------------------------+----------------+ | CentOS Stream 9 | PASS | +-------------------------------+----------------+ | Fedora Linux 40 | PASS | +-------------------------------+----------------+ | Red Hat Enterprise Linux 9.5 | PASS | +-------------------------------+----------------+ | CentOS Stream 10 | PASS | +-------------------------------+----------------+ | Ubuntu 24.04 | PASS | +-------------------------------+----------------+ | Ubuntu 20.04 | PASS | +-------------------------------+----------------+ | Red Hat Enterprise Linux 8.10 | PASS | +-------------------------------+----------------+ | Ubuntu 22.04 | PASS | +-------------------------------+----------------+ | Windows Server 2022 | PASS | +-------------------------------+----------------+ Debian GNU/Linux 12 Kernel: 5.15 Compiler: gcc gcc (Debian 12.2.0-14+deb12u1) 12.2.0 Fedora Linux 41 Kernel: 5.15 Compiler: gcc gcc (GCC) 14.3.1 20250523 (Red Hat 14.3.1-1) CentOS Stream 9 Kernel: 5.15 Compiler: gcc gcc (GCC) 11.5.0 20240719 (Red Hat 11.5.0-7) Fedora Linux 40 Kernel: 5.15 Compiler: gcc gcc (GCC) 14.2.1 20240912 (Red Hat 14.2.1-3) Red Hat Enterprise Linux 9.5 Kernel: 5.15 Compiler: gcc gcc (GCC) 11.5.0 20240719 (Red Hat 11.5.0-2) CentOS Stream 10 Kernel: 5.15 Compiler: gcc gcc (GCC) 14.2.1 20250110 (Red Hat 14.2.1-8) Ubuntu 24.04 Kernel: 5.15 Compiler: gcc gcc (Ubuntu 13.3.0-6ubuntu2~24.04) 13.3.0 Ubuntu 20.04 Kernel: 5.15 Compiler: gcc gcc (Ubuntu 9.4.0-1ubuntu1~20.04.2) 9.4.0 Red Hat Enterprise Linux 8.10 Kernel: 5.15 Compiler: gcc gcc (GCC) 8.5.0 20210514 (Red Hat 8.5.0-22) Ubuntu 22.04 Kernel: 5.15 Compiler: gcc gcc (Ubuntu 11.4.0-1ubuntu1~22.04) 11.4.0 Windows Server 2022 Kernel: 10.0.20348.2031 Compiler: clang 15.0.7, gcc 14.1.0 (MinGW), and MSVC VS 19.39.33521 To view detailed results, visit: https://lab.dpdk.org/results/dashboard/patchsets/33730/ UNH-IOL DPDK Community Lab To manage your email subscriptions, visit: https://lab.dpdk.org/results/dashboard/preferences/subscriptions/