From mboxrd@z Thu Jan 1 00:00:00 1970 Return-Path: Received: from mails.dpdk.org (mails.dpdk.org [217.70.189.124]) by inbox.dpdk.org (Postfix) with ESMTP id E5B5446BE9 for ; Wed, 23 Jul 2025 00:32:27 +0200 (CEST) Received: from mails.dpdk.org (localhost [127.0.0.1]) by mails.dpdk.org (Postfix) with ESMTP id BDEE44003C; Wed, 23 Jul 2025 00:32:27 +0200 (CEST) Received: from mail-yb1-f227.google.com (mail-yb1-f227.google.com [209.85.219.227]) by mails.dpdk.org (Postfix) with ESMTP id D63CF4003C for ; Wed, 23 Jul 2025 00:32:26 +0200 (CEST) Received: by mail-yb1-f227.google.com with SMTP id 3f1490d57ef6-e8d713e64c5so5684068276.0 for ; Tue, 22 Jul 2025 15:32:26 -0700 (PDT) DKIM-Signature: v=1; a=rsa-sha256; c=relaxed/relaxed; d=iol.unh.edu; s=unh-iol; t=1753223546; x=1753828346; darn=dpdk.org; h=references:in-reply-to:cc:to:from:subject:message-id:date:from:to :cc:subject:date:message-id:reply-to; bh=9nVT9Rznj0/mEq3HoIyPWgxdj17QsG543xwrS/w1F38=; b=U9eR84XO2ggY3w10CE46WwNWZiCiMA5ILbXXk+55CNey2gnB/8tstae9lv8Rvmn0fg Gto21KaYfNHpeuDPgYyu1lVMsQWSHj38lWSOIFhnQlJOwIa514NrtIasQny5ch7rL1kJ 54k9J3Z/0ivshs/k897yG12DZ7TXzx56JhXFs= X-Google-DKIM-Signature: v=1; a=rsa-sha256; c=relaxed/relaxed; d=1e100.net; s=20230601; t=1753223546; x=1753828346; h=references:in-reply-to:cc:to:from:subject:message-id:date :x-gm-message-state:from:to:cc:subject:date:message-id:reply-to; bh=9nVT9Rznj0/mEq3HoIyPWgxdj17QsG543xwrS/w1F38=; b=Ac5h8et2HescR6mFbj5SuplcTS0Y/ceGPGEE3DjicOFCB/8lt8coklKFy+nqo9okc9 B9EEBygO9Ei2sQG5Oq/Up4L23EVS1nGrHMZjdrTOyqHL7HVM/+Wz3a9m9eZL5k1fdhY1 MJ9Smx4MLwFVNzEX6lKKJE8/8DhCFTWoCQQMIVUcU8jqdlSzRaUsLg/W3u6KMdNVEl9j KB7aXFV99HPoW3c0by16fVArUznoCyvZRDldljcR6gCaMcT6myajIStQSgDFpuTW8MC9 Dm3c3wrYXqOoJBWqKAweX3UzFoR5vel6lRHUIwXKRni/2G57/SV/zD1Aysi3GcYV8iJX XwWQ== X-Gm-Message-State: AOJu0YyRTf7cDKYE/UgxoFaaXQ8ZDi4NM+diwfvZjiRxezr6kfZTpyxZ wl49SJC66MjnY7ioys+iKoDLi/PiQynYJOlO3lRar3N1/L3/kGkbF0eYnNLARj+8mCkuAN9sVWv By23d0D1djucn1ag2RarVc0Gu4t91YFknK2ElknbubJXCP7NRZvrhM70AQvke X-Gm-Gg: ASbGncuFQZbM1jIuDEo3pAhaggBZZUrlM38M15oUgvOvAqu0EqKDYMn3jZJr6a4Sktt RoADqLsn+ycPlgqTYyf/HO7IYcEEtPTHBpCV8zaVOvmOlAbC1Ahs0t2WoSBVGvIQCZK1NRbRpPU IuK41m44+OpMF8CszCB2Ej1JAEtJATBbZpl+b6YRxVL8j7C2K8ZkJGkBxEcjzKjqQM1VjaS9Am0 b2glSiR4IXnZ1QKJyUSZZ0wF0ey/kA6SxdwddwH/X2oNV5vtnPnPwfd/KlCFbgYSQ/Odl/cfyCe Rqz4jyDhCK7A2EkO4Z+m0sOfcMT5iWxAt6oA/aaKkfai3GDk8g== X-Google-Smtp-Source: AGHT+IG8bfxxTaMCi5OeSIi4NDBOFFcJuhUaFLQnsjK7gtTJ4pl20nldCOZtJ1xiuXgg9IYfDPVrcJeSLHvg X-Received: by 2002:a05:690c:f13:b0:710:f46d:cec3 with SMTP id 00721157ae682-719b4209a94mr9857887b3.5.1753223546220; Tue, 22 Jul 2025 15:32:26 -0700 (PDT) Received: from postal.iol.unh.edu (postal.iol.unh.edu. [2606:4100:3880:1234::84]) by smtp-relay.gmail.com with ESMTPS id 00721157ae682-7195335e51asm2696737b3.53.2025.07.22.15.32.26 (version=TLS1_2 cipher=ECDHE-ECDSA-AES128-GCM-SHA256 bits=128/128); Tue, 22 Jul 2025 15:32:26 -0700 (PDT) X-Relaying-Domain: iol.unh.edu Date: Tue, 22 Jul 2025 15:32:26 -0700 (PDT) Message-ID: <6880117a.050a0220.29c9d3.c410SMTPIN_ADDED_MISSING@mx.google.com> Received: from [172.21.0.2] (unknown [172.18.0.240]) by postal.iol.unh.edu (Postfix) with ESMTP id D43716051830; Tue, 22 Jul 2025 18:32:25 -0400 (EDT) Subject: |SUCCESS| pw155431-155432 [PATCH] [v1,2/2] dts: add exception handli From: dpdklab@iol.unh.edu To: Test Report Cc: dpdk-test-reports@iol.unh.edu In-Reply-To: <20250722172214.202308-2-dmarx@iol.unh.edu> References: <20250722172214.202308-2-dmarx@iol.unh.edu> Content-Type: text/plain X-BeenThere: test-report@dpdk.org X-Mailman-Version: 2.1.29 Precedence: list List-Id: automatic DPDK test reports List-Unsubscribe: , List-Archive: List-Post: List-Help: List-Subscribe: , Errors-To: test-report-bounces@dpdk.org Test-Label: iol-unit-amd64-testing Test-Status: SUCCESS http://dpdk.org/patch/155432 _Testing PASS_ Submitter: Dean Marx Date: Tuesday, July 22 2025 17:22:14 DPDK git baseline: Repo:dpdk Branch: master CommitID:f8fb19d5e2fc20798ed0caa292a1538fbbd98f96 155431-155432 --> testing pass Upstream job id: Generic-Unit-Test-DPDK#357450 Test environment and result as below: +-------------------------------+----------------+ | Environment | dpdk_unit_test | +===============================+================+ | CentOS Stream 9 | PASS | +-------------------------------+----------------+ | Ubuntu 22.04 | PASS | +-------------------------------+----------------+ | Fedora Linux 40 | PASS | +-------------------------------+----------------+ | Ubuntu 24.04 | PASS | +-------------------------------+----------------+ | Debian GNU/Linux 12 | PASS | +-------------------------------+----------------+ | CentOS Stream 10 | PASS | +-------------------------------+----------------+ | Ubuntu 20.04 | PASS | +-------------------------------+----------------+ | Fedora Linux 41 | PASS | +-------------------------------+----------------+ | Red Hat Enterprise Linux 8.10 | PASS | +-------------------------------+----------------+ | Red Hat Enterprise Linux 9.5 | PASS | +-------------------------------+----------------+ | Windows Server 2022 | PASS | +-------------------------------+----------------+ CentOS Stream 9 Kernel: 5.15 Compiler: gcc gcc (GCC) 11.5.0 20240719 (Red Hat 11.5.0-7) Ubuntu 22.04 Kernel: 5.15 Compiler: gcc gcc (Ubuntu 11.4.0-1ubuntu1~22.04) 11.4.0 Fedora Linux 40 Kernel: 5.15 Compiler: gcc gcc (GCC) 14.2.1 20240912 (Red Hat 14.2.1-3) Ubuntu 24.04 Kernel: 5.15 Compiler: gcc gcc (Ubuntu 13.3.0-6ubuntu2~24.04) 13.3.0 Debian GNU/Linux 12 Kernel: 5.15 Compiler: gcc gcc (Debian 12.2.0-14+deb12u1) 12.2.0 CentOS Stream 10 Kernel: 5.15 Compiler: gcc gcc (GCC) 14.2.1 20250110 (Red Hat 14.2.1-8) Ubuntu 20.04 Kernel: 5.15 Compiler: gcc gcc (Ubuntu 9.4.0-1ubuntu1~20.04.2) 9.4.0 Fedora Linux 41 Kernel: 5.15 Compiler: gcc gcc (GCC) 14.3.1 20250523 (Red Hat 14.3.1-1) Red Hat Enterprise Linux 8.10 Kernel: 5.15 Compiler: gcc gcc (GCC) 8.5.0 20210514 (Red Hat 8.5.0-22) Red Hat Enterprise Linux 9.5 Kernel: 5.15 Compiler: gcc gcc (GCC) 11.5.0 20240719 (Red Hat 11.5.0-2) Windows Server 2022 Kernel: 10.0.20348.2031 Compiler: clang 15.0.7, gcc 14.1.0 (MinGW), and MSVC VS 19.39.33521 To view detailed results, visit: https://lab.dpdk.org/results/dashboard/patchsets/33729/ UNH-IOL DPDK Community Lab To manage your email subscriptions, visit: https://lab.dpdk.org/results/dashboard/preferences/subscriptions/