From mboxrd@z Thu Jan 1 00:00:00 1970 Return-Path: Received: from mails.dpdk.org (mails.dpdk.org [217.70.189.124]) by inbox.dpdk.org (Postfix) with ESMTP id D3B0346BE9 for ; Wed, 23 Jul 2025 00:43:47 +0200 (CEST) Received: from mails.dpdk.org (localhost [127.0.0.1]) by mails.dpdk.org (Postfix) with ESMTP id B96404003C; Wed, 23 Jul 2025 00:43:47 +0200 (CEST) Received: from mail-il1-f227.google.com (mail-il1-f227.google.com [209.85.166.227]) by mails.dpdk.org (Postfix) with ESMTP id 18BB44003C for ; Wed, 23 Jul 2025 00:43:46 +0200 (CEST) Received: by mail-il1-f227.google.com with SMTP id e9e14a558f8ab-3de1875bf9dso49059285ab.2 for ; Tue, 22 Jul 2025 15:43:46 -0700 (PDT) DKIM-Signature: v=1; a=rsa-sha256; c=relaxed/relaxed; d=iol.unh.edu; s=unh-iol; t=1753224225; x=1753829025; darn=dpdk.org; h=references:in-reply-to:cc:to:from:subject:message-id:date:from:to :cc:subject:date:message-id:reply-to; bh=coW0zx5Fjjcq0wB7Ppk+9aj/e7LBJigYqXpajPYd2ag=; b=V8Sks6qj1QSVr5XszJCiEDwn5FR+jSIW0wthISsStAgwX43zfSETqKmYBwBhKuAcWr JLEEgE72DewXkoV4tJRs+ha8QsAiH1tmOrsPx4YN8vAcdBs9AKOd0+f01yxLOOKe/Oqo ZjgkAZnT9gp7K7FVE96YYMURFNfi+k22RwFe0= X-Google-DKIM-Signature: v=1; a=rsa-sha256; c=relaxed/relaxed; d=1e100.net; s=20230601; t=1753224225; x=1753829025; h=references:in-reply-to:cc:to:from:subject:message-id:date :x-gm-message-state:from:to:cc:subject:date:message-id:reply-to; bh=coW0zx5Fjjcq0wB7Ppk+9aj/e7LBJigYqXpajPYd2ag=; b=o6aKUnd5XnTvqukPP6XGVjAi1WSZiLEUTGIuGZBasxdM4NbI2Jt6azQzQJJW2YiXTW iXCUzpe5L/nvUgqxhstOqayJc6giptMQy33YZOlRRCpDYNrhSMp28YwjUf8qUEpLNKpL RqlYxWTm3owxMELuneuGnlYrw58Hx9d9NtoaG7OK2ib56ZjTdszZXPvYBTnKQWfZXwJF sTYv/pKkRO+RvzUh/RY1pNbbLVbj78Q93vx0MBlfU54yurmLVxzW3Iju3HF260jLq/nu yA2sBGLnbnf3LGSV2GTkfVQM7zgl2F0S0zO8A/cIgeLhlgaS8YJkrDrM6jg4lxgxpA1P Ku9w== X-Gm-Message-State: AOJu0YwhfwP2azR0sD4AVk46MRRUueK/wKP7ZcgnTRHd3+2qxyMPFhFN mOZDFmkXYj3cu2DqMepi+N+0DTE4ZD2J8UUXNyuFLpy+T5AxjrMRNVgrHl8MrSRzTJQ2rXyDR95 Sz8nBRs8uezouDH1vO63wl2DBpmmRnXiABBXkuOKrWopF X-Gm-Gg: ASbGncuwG5aIgpIo7A+5JLUIpDpDWs6UPCe27L3p7L4mjlN/Gjw/AXHfDQiOQR/yKaS 5/dCAcXDK83gMc7tjuFTTk/6EdEjsVEaU8XurqU6mjjsQi9LkIzwBLqDSzZaphvX9JHT4ssVzeS ZrWsJkZ+s+YIEMvEewq+1E/0wYWyWIKP2n7jzCBAbFnoXUO6Mztanf0LbG980Uy5rqXUJf4/qnN itaiqxduNk7qKJi2Za/x5YRqm457F4bTxQDbyo7rHMdQ2HBr+w/0FsaTLRVOIiNXj5dAd9HT3tz 6GiwyvPSZu3Xe8erIHVzjq2S9+kW4JWpfQDNrhX84gVbfYC1QoNoqvaZBpF0Ml3TECDuG0fc X-Google-Smtp-Source: AGHT+IGi6f5xfthDoTrLxK9zaRPsVhZ+0pootUtFZBPj7nRRUSB+khIK4svRd5f+8Cqc0wCksD9w3/rNx6s7 X-Received: by 2002:a05:6e02:12c1:b0:3e2:c5a5:ffac with SMTP id e9e14a558f8ab-3e33557fe2bmr13941585ab.10.1753224225348; Tue, 22 Jul 2025 15:43:45 -0700 (PDT) Received: from postal.iol.unh.edu (postal.iol.unh.edu. [132.177.123.84]) by smtp-relay.gmail.com with ESMTPS id e9e14a558f8ab-3e298203d21sm7012635ab.9.2025.07.22.15.43.45 (version=TLS1_2 cipher=ECDHE-ECDSA-AES128-GCM-SHA256 bits=128/128); Tue, 22 Jul 2025 15:43:45 -0700 (PDT) X-Relaying-Domain: iol.unh.edu Date: Tue, 22 Jul 2025 15:43:45 -0700 (PDT) Message-ID: <68801421.050a0220.14c34.42b5SMTPIN_ADDED_MISSING@mx.google.com> Received: from [172.21.0.3] (unknown [172.18.0.240]) by postal.iol.unh.edu (Postfix) with ESMTP id E10DF6051830; Tue, 22 Jul 2025 18:43:44 -0400 (EDT) Subject: |SUCCESS| pw155424 [PATCH] dumpcap: fix warnings when primary exits From: dpdklab@iol.unh.edu To: Test Report Cc: dpdk-test-reports@iol.unh.edu In-Reply-To: <20250722155319.168601-1-stephen@networkplumber.org> References: <20250722155319.168601-1-stephen@networkplumber.org> Content-Type: text/plain X-BeenThere: test-report@dpdk.org X-Mailman-Version: 2.1.29 Precedence: list List-Id: automatic DPDK test reports List-Unsubscribe: , List-Archive: List-Post: List-Help: List-Subscribe: , Errors-To: test-report-bounces@dpdk.org Test-Label: iol-compile-amd64-testing Test-Status: SUCCESS http://dpdk.org/patch/155424 _Testing PASS_ Submitter: Stephen Hemminger Date: Tuesday, July 22 2025 15:53:19 DPDK git baseline: Repo:dpdk Branch: master CommitID:b222395561638f89562e4ef42e1eabf2d6db43dd 155424 --> testing pass Upstream job id: Generic-DPDK-Compile-Meson#411067 Test environment and result as below: +-------------------------------+--------------------+-------------------------+-------------------+-------------------+------------------+----------------------+ | Environment | dpdk_meson_compile | dpdk_llvm_clang_compile | dpdk_msvc_compile | dpdk_compile_spdk | dpdk_compile_ovs | dpdk_mingw64_compile | +===============================+====================+=========================+===================+===================+==================+======================+ | Ubuntu 20.04 | PASS | SKIPPED | SKIPPED | SKIPPED | SKIPPED | SKIPPED | +-------------------------------+--------------------+-------------------------+-------------------+-------------------+------------------+----------------------+ | FreeBSD 14.2 | PASS | SKIPPED | SKIPPED | SKIPPED | SKIPPED | SKIPPED | +-------------------------------+--------------------+-------------------------+-------------------+-------------------+------------------+----------------------+ | CentOS Stream 9 | PASS | SKIPPED | SKIPPED | PASS | SKIPPED | SKIPPED | +-------------------------------+--------------------+-------------------------+-------------------+-------------------+------------------+----------------------+ | CentOS Stream 10 | PASS | SKIPPED | SKIPPED | SKIPPED | SKIPPED | SKIPPED | +-------------------------------+--------------------+-------------------------+-------------------+-------------------+------------------+----------------------+ | Fedora Linux 40 | PASS | SKIPPED | SKIPPED | PASS | SKIPPED | SKIPPED | +-------------------------------+--------------------+-------------------------+-------------------+-------------------+------------------+----------------------+ | Debian GNU/Linux 12 | PASS | SKIPPED | SKIPPED | PASS | SKIPPED | SKIPPED | +-------------------------------+--------------------+-------------------------+-------------------+-------------------+------------------+----------------------+ | Fedora Linux 41 | PASS | SKIPPED | SKIPPED | PASS | PASS | SKIPPED | +-------------------------------+--------------------+-------------------------+-------------------+-------------------+------------------+----------------------+ | openSUSE Leap 15.6 | PASS | SKIPPED | SKIPPED | SKIPPED | SKIPPED | SKIPPED | +-------------------------------+--------------------+-------------------------+-------------------+-------------------+------------------+----------------------+ | Red Hat Enterprise Linux 8.10 | PASS | SKIPPED | SKIPPED | SKIPPED | SKIPPED | SKIPPED | +-------------------------------+--------------------+-------------------------+-------------------+-------------------+------------------+----------------------+ | Red Hat Enterprise Linux 9.5 | PASS | SKIPPED | SKIPPED | SKIPPED | SKIPPED | SKIPPED | +-------------------------------+--------------------+-------------------------+-------------------+-------------------+------------------+----------------------+ | Ubuntu 22.04 | PASS | SKIPPED | SKIPPED | PASS | SKIPPED | SKIPPED | +-------------------------------+--------------------+-------------------------+-------------------+-------------------+------------------+----------------------+ | Ubuntu 24.04 | PASS | SKIPPED | SKIPPED | PASS | PASS | SKIPPED | +-------------------------------+--------------------+-------------------------+-------------------+-------------------+------------------+----------------------+ | Alpine Linux 3.22.0 | PASS | SKIPPED | SKIPPED | SKIPPED | SKIPPED | SKIPPED | +-------------------------------+--------------------+-------------------------+-------------------+-------------------+------------------+----------------------+ | Windows Server 2022 | SKIPPED | PASS | PASS | SKIPPED | SKIPPED | PASS | +-------------------------------+--------------------+-------------------------+-------------------+-------------------+------------------+----------------------+ Ubuntu 20.04 Kernel: 4.19 Compiler: gcc gcc (Ubuntu 9.4.0-1ubuntu1~20.04.2) 9.4.0 FreeBSD 14.2 Kernel: 14.2-RELEASE Compiler: clang 18.1.6 CentOS Stream 9 Kernel: 5.15 Compiler: gcc gcc (GCC) 11.5.0 20240719 (Red Hat 11.5.0-7) CentOS Stream 10 Kernel: 5.15 Compiler: gcc gcc (GCC) 14.2.1 20250110 (Red Hat 14.2.1-8) Fedora Linux 40 Kernel: 5.15 Compiler: clang gcc (GCC) 14.2.1 20240912 (Red Hat 14.2.1-3) Debian GNU/Linux 12 Kernel: 5.15 Compiler: gcc gcc (Debian 12.2.0-14+deb12u1) 12.2.0 Fedora Linux 41 Kernel: 5.15 Compiler: clang gcc (GCC) 14.3.1 20250523 (Red Hat 14.3.1-1) openSUSE Leap 15.6 Kernel: 5.15 Compiler: gcc gcc (SUSE Linux) 7.5.0 Red Hat Enterprise Linux 8.10 Kernel: 5.15 Compiler: gcc gcc (GCC) 8.5.0 20210514 (Red Hat 8.5.0-22) Red Hat Enterprise Linux 9.5 Kernel: 5.15 Compiler: gcc gcc (GCC) 11.5.0 20240719 (Red Hat 11.5.0-2) Ubuntu 22.04 Kernel: 5.15 Compiler: gcc gcc (Ubuntu 11.4.0-1ubuntu1~22.04) 11.4.0 Ubuntu 24.04 Kernel: 5.15 Compiler: gcc gcc (Ubuntu 13.3.0-6ubuntu2~24.04) 13.3.0 Alpine Linux 3.22.0 Kernel: 5.15 Compiler: gcc gcc (Alpine 14.2.0) 14.2.0 Windows Server 2022 Kernel: 10.0.20348.2031 Compiler: clang 15.0.7, gcc 14.1.0 (MinGW), and MSVC VS 19.39.33521 To view detailed results, visit: https://lab.dpdk.org/results/dashboard/patchsets/33724/ UNH-IOL DPDK Community Lab To manage your email subscriptions, visit: https://lab.dpdk.org/results/dashboard/preferences/subscriptions/