From mboxrd@z Thu Jan 1 00:00:00 1970 Return-Path: Received: from mails.dpdk.org (mails.dpdk.org [217.70.189.124]) by inbox.dpdk.org (Postfix) with ESMTP id 25ADB46BE9 for ; Wed, 23 Jul 2025 00:46:23 +0200 (CEST) Received: from mails.dpdk.org (localhost [127.0.0.1]) by mails.dpdk.org (Postfix) with ESMTP id 021284003C; Wed, 23 Jul 2025 00:46:23 +0200 (CEST) Received: from mail-qv1-f99.google.com (mail-qv1-f99.google.com [209.85.219.99]) by mails.dpdk.org (Postfix) with ESMTP id 93F814003C for ; Wed, 23 Jul 2025 00:46:21 +0200 (CEST) Received: by mail-qv1-f99.google.com with SMTP id 6a1803df08f44-6fafdd322d3so54367756d6.3 for ; Tue, 22 Jul 2025 15:46:21 -0700 (PDT) DKIM-Signature: v=1; a=rsa-sha256; c=relaxed/relaxed; d=iol.unh.edu; s=unh-iol; t=1753224381; x=1753829181; darn=dpdk.org; h=references:in-reply-to:cc:to:from:subject:message-id:date:from:to :cc:subject:date:message-id:reply-to; bh=woM2Stkr3BpdwL4wbG+Vh3prTjSWqT1N2pluh5wqDDc=; b=P9odTO1xLv5NBczZMIp7aX3Ky/UbDcbakw8MTx/1aodnB1EZow6/+3UqFwbylDj2Gf lZneAAM5rZ1b6M9AZM5E5DiSvz5Y+kBoTwAiURAR0vIlYIbByJcVwv0gOPzseowhQYxu 9FhHbgAL2QdyW4TpiAOVKUQ9ACDJEHmjipIPA= X-Google-DKIM-Signature: v=1; a=rsa-sha256; c=relaxed/relaxed; d=1e100.net; s=20230601; t=1753224381; x=1753829181; h=references:in-reply-to:cc:to:from:subject:message-id:date :x-gm-message-state:from:to:cc:subject:date:message-id:reply-to; bh=woM2Stkr3BpdwL4wbG+Vh3prTjSWqT1N2pluh5wqDDc=; b=MdhJuSZhnbmLg2rWZrtq1wTTViW7arBIIsmzjIEKe0f8NNpOhEbIPDhlKMcT29zsZK KyiX5RSSVBEAW/aDzPm/aKSJODOt/QCmgGBNm/KPUm5WLSmrMt2vudeWAHvNAcIdFpS4 H+CUIun+oC+T/eHHd6bgF4XB1LcE2g+xS54E3dek2KgPQkdDANMC9rdBqxzC/nYltAWJ Xa7ubmWsgt1TMNj6bvuJC3M+Cea+u8iBHhjJqcJEMqsBzNVeiDn13HZioJbbTnf3C40/ NfYSC+Pi9ucneZWnhe0cm8BaCfQoRgAVQDcB2sTCSUAaSZ3a2J9f8oWWSK2MltHzWZLp ZbTg== X-Gm-Message-State: AOJu0YxNd+0QKSfqYG9oBVdNI8+VbjHjo7ws6weMIavpo2KZ8QTUuQ8u 9G1uazI8+VxY92F1RuNNn9Ar4MEwLDtJUo47Bu3x5ejF+Ec20Rq2QjKNJT3phMNXGIUupR8y9r7 lf4I3C/M6fh423OmXGvO7+R7Ay0coc1sSofx4+aJs4YBC X-Gm-Gg: ASbGncvBwIYsQi7rV4LcZY/krCFKgBXVwWu1/ourAWCd/y6RxAO+LmujspPHdvQU0AD ufvTdZae2D3NDKXcd/6l6Sdy8kR1bKgzoRv4CDSqH5RMfBlJa8hKggGBHbE7tpAOY+7wFpdvUxk vIUCs4SKbEuzjjIUrS5++e65ymZkudaDMrgSCvNDy9TRhSajry7ffJqj8hF+xHo0sWDORmrTbUu 6bqHR8r6AZn4jBJbuqRBR4dpM7Ua+eGzcW+3L7KcHUrkhkQ+ONW17cizAiAdypUnDLPksQwR5f2 QoBjOXxzWpEdVLt464SJ2F29XMFYhznWw4UtMUqTg3GZYAweAXV8EV3mbeBwEovziM0hr3xv X-Google-Smtp-Source: AGHT+IHk3doi/pEbzotzzlO3st0c4GoKVGYln4HSxfeHWz7z+4eTH0i9mqcy20WXFi3aSNYY38HrOiuTlX2g X-Received: by 2002:a05:6214:29cb:b0:706:c5da:cc3d with SMTP id 6a1803df08f44-707006791e5mr12906996d6.31.1753224380827; Tue, 22 Jul 2025 15:46:20 -0700 (PDT) Received: from postal.iol.unh.edu (postal.iol.unh.edu. [132.177.123.84]) by smtp-relay.gmail.com with ESMTPS id 6a1803df08f44-706f72cee15sm827426d6.40.2025.07.22.15.46.20 (version=TLS1_2 cipher=ECDHE-ECDSA-AES128-GCM-SHA256 bits=128/128); Tue, 22 Jul 2025 15:46:20 -0700 (PDT) X-Relaying-Domain: iol.unh.edu Date: Tue, 22 Jul 2025 15:46:20 -0700 (PDT) Message-ID: <688014bc.050a0220.32425e.5738SMTPIN_ADDED_MISSING@mx.google.com> Received: from [172.21.0.2] (unknown [172.18.0.240]) by postal.iol.unh.edu (Postfix) with ESMTP id 8A3676051830; Tue, 22 Jul 2025 18:46:20 -0400 (EDT) Subject: |SUCCESS| pw155415-155423 [PATCH] [v6,9/9] eal: simplify handling of From: dpdklab@iol.unh.edu To: Test Report Cc: dpdk-test-reports@iol.unh.edu In-Reply-To: <20250722140316.3568603-10-bruce.richardson@intel.com> References: <20250722140316.3568603-10-bruce.richardson@intel.com> Content-Type: text/plain X-BeenThere: test-report@dpdk.org X-Mailman-Version: 2.1.29 Precedence: list List-Id: automatic DPDK test reports List-Unsubscribe: , List-Archive: List-Post: List-Help: List-Subscribe: , Errors-To: test-report-bounces@dpdk.org Test-Label: iol-compile-arm64-testing Test-Status: SUCCESS http://dpdk.org/patch/155423 _Testing PASS_ Submitter: Bruce Richardson Date: Tuesday, July 22 2025 14:03:14 DPDK git baseline: Repo:dpdk Branch: master CommitID:b222395561638f89562e4ef42e1eabf2d6db43dd 155415-155423 --> testing pass Upstream job id: Generic-DPDK-Compile-Meson#411015 Test environment and result as below: +------------------------------+--------------------+ | Environment | dpdk_meson_compile | +==============================+====================+ | Ubuntu 20.04 | PASS | +------------------------------+--------------------+ | Red Hat Enterprise Linux 9.5 | PASS | +------------------------------+--------------------+ | Debian GNU/Linux 12 | PASS | +------------------------------+--------------------+ | Fedora Linux 40 | PASS | +------------------------------+--------------------+ | Fedora Linux 41 | PASS | +------------------------------+--------------------+ | Ubuntu 22.04 | PASS | +------------------------------+--------------------+ | Ubuntu 24.04 | PASS | +------------------------------+--------------------+ | CentOS Stream 9 | PASS | +------------------------------+--------------------+ | CentOS Stream 10 | PASS | +------------------------------+--------------------+ Ubuntu 20.04 Kernel: 5.15 Compiler: aarch64-linux-gnu-gcc gcc (Ubuntu 9.4.0-1ubuntu1~20.04.2) 9.4.0 Red Hat Enterprise Linux 9.5 Kernel: 5.4 Compiler: gcc gcc (GCC) 11.5.0 20240719 (Red Hat 11.5.0-2) Debian GNU/Linux 12 Kernel: 5.4 Compiler: gcc gcc (Debian 12.2.0-14+deb12u1) 12.2.0 Fedora Linux 40 Kernel: 5.4 Compiler: gcc gcc (GCC) 14.2.1 20240912 (Red Hat 14.2.1-3) Fedora Linux 41 Kernel: 5.4 Compiler: gcc gcc (GCC) 14.3.1 20250523 (Red Hat 14.3.1-1) Ubuntu 22.04 Kernel: 5.4 Compiler: gcc gcc (Ubuntu 11.4.0-1ubuntu1~22.04) 11.4.0 Ubuntu 24.04 Kernel: 5.4 Compiler: gcc gcc (Ubuntu 13.3.0-6ubuntu2~24.04) 13.3.0 CentOS Stream 9 Kernel: 5.4 Compiler: gcc gcc (GCC) 11.5.0 20240719 (Red Hat 11.5.0-7) CentOS Stream 10 Kernel: 5.4 Compiler: gcc gcc (GCC) 14.2.1 20250110 (Red Hat 14.2.1-8) To view detailed results, visit: https://lab.dpdk.org/results/dashboard/patchsets/33723/ UNH-IOL DPDK Community Lab To manage your email subscriptions, visit: https://lab.dpdk.org/results/dashboard/preferences/subscriptions/