From mboxrd@z Thu Jan 1 00:00:00 1970 Return-Path: Received: from mails.dpdk.org (mails.dpdk.org [217.70.189.124]) by inbox.dpdk.org (Postfix) with ESMTP id 2E3A546BE9 for ; Wed, 23 Jul 2025 00:58:15 +0200 (CEST) Received: from mails.dpdk.org (localhost [127.0.0.1]) by mails.dpdk.org (Postfix) with ESMTP id 089744003C; Wed, 23 Jul 2025 00:58:15 +0200 (CEST) Received: from mail-il1-f225.google.com (mail-il1-f225.google.com [209.85.166.225]) by mails.dpdk.org (Postfix) with ESMTP id 489F04003C for ; Wed, 23 Jul 2025 00:58:13 +0200 (CEST) Received: by mail-il1-f225.google.com with SMTP id e9e14a558f8ab-3e2c521efddso6733945ab.3 for ; Tue, 22 Jul 2025 15:58:13 -0700 (PDT) DKIM-Signature: v=1; a=rsa-sha256; c=relaxed/relaxed; d=iol.unh.edu; s=unh-iol; t=1753225092; x=1753829892; darn=dpdk.org; h=references:in-reply-to:cc:to:from:subject:message-id:date:from:to :cc:subject:date:message-id:reply-to; bh=CnSavQZL1N8XPDeDqB6dPI3aFUjubLtgbydc/MAOv1E=; b=Q0j8pQDDnWS/4N1Vv/lJV+4eScYcoDiEjvmMQ9opQuY2P5EBfpdcAqejigILiUoMh/ M76RC2yN7yQJEwOPAsWIwkoU3Yb0jdp1xim5pFekKfZXJsi0IC74nXzfBiR+YQf2gype WaY1AEi7P7jkrLN5VXRLUqgFsafrphcBawnrQ= X-Google-DKIM-Signature: v=1; a=rsa-sha256; c=relaxed/relaxed; d=1e100.net; s=20230601; t=1753225092; x=1753829892; h=references:in-reply-to:cc:to:from:subject:message-id:date :x-gm-message-state:from:to:cc:subject:date:message-id:reply-to; bh=CnSavQZL1N8XPDeDqB6dPI3aFUjubLtgbydc/MAOv1E=; b=OPk4dlGwMdnVrZS630f5bPeFQqoW7cfTNI4FLW2DAxc5rPAyoVz/EMk5W5C5q5Qr7v L+8oOwSl/80/CETFyWDd6Nee9WYiBXvTow6+7BlkowQFNeuFYNtCTN+qogDUrkz1zB9J GCWGW65aY3wwqJqPgHSRqoFt/27pMPLsPxTVF72tPtOVFn6dIulUriHe8B7I/Uwv/Sd9 sUA9uRzPwZT1Gwk8WcgfU1gOm/88S2QqCXZtjIiFgmD+enEg0mvHLy2EVsDcIPeiPJNg m3fPI86cq7+X6dK9DEWOtYs3rRz9jQLEfMXJV6wo57sXkmo3SoW6r/sPPxDpvraNKVLW 1nzA== X-Gm-Message-State: AOJu0YyVh7fRb4OP4g0pN11p+Pwxx/g6ZS+gQvAkrdNOKDR6pGm63b97 Du4HT9DnQJSGaoMMSIoEozIt1gdLUuT+Tsp0Q7Hdhumu4waLxGyuZ7hHHBMGXo0aFCmWW654ha9 nXqNam/bMNQxp5ukOiD7ryzSqIBNCfGhdoInmyCOve1d5 X-Gm-Gg: ASbGnctll2MADOHRkNVOsIDh1ozwVFfPdy2WuOu1lwzWy7VRDK+Q8BVUEgWql6FjSxm 3U+vUIEPY3t7bRlKPGX6wbIgsBrfky2jcrzNauKpD80Qxuv9PWS/Nq0S6kBOqRsX6jB5ju8kFNc /DZ6XRM4DVUpTrL5UEZ0cJP05zALzT0cAILoXKE97u1YrpIkj7ns/8Ms+w0wJFN7POayLNw4U96 mXoY9m4leBhTPjl5tnUNHF6ldeqhz0F7C7wanof8BFeMCR6GXjOKOqL8kfwBHMkcYnTm8KxJKi2 GWjjCBuBrFpPYgOpnRLcMbB1pLHjU0xIVv2SakXwt9RbsE90ZAXT9g6XGNE0bo+/tiXTLNUC X-Google-Smtp-Source: AGHT+IF2u5QFcYCHg4U4O2MznWSdP3UVuyiqsczgrlT/zuOAzq9qhmeZTlgI7H4dTyHvQ13fJCPKp11XR6F5 X-Received: by 2002:a05:6e02:3c87:b0:3e2:c33f:351d with SMTP id e9e14a558f8ab-3e32fc216e6mr14967535ab.3.1753225092566; Tue, 22 Jul 2025 15:58:12 -0700 (PDT) Received: from postal.iol.unh.edu (postal.iol.unh.edu. [132.177.123.84]) by smtp-relay.gmail.com with ESMTPS id e9e14a558f8ab-3e2983851fbsm2930415ab.56.2025.07.22.15.58.10 (version=TLS1_2 cipher=ECDHE-ECDSA-AES128-GCM-SHA256 bits=128/128); Tue, 22 Jul 2025 15:58:12 -0700 (PDT) X-Relaying-Domain: iol.unh.edu Date: Tue, 22 Jul 2025 15:58:12 -0700 (PDT) Message-ID: <68801784.050a0220.8446b.c22cSMTPIN_ADDED_MISSING@mx.google.com> Received: from [172.21.0.4] (unknown [172.18.0.240]) by postal.iol.unh.edu (Postfix) with ESMTP id 4F5826051830; Tue, 22 Jul 2025 18:58:10 -0400 (EDT) Subject: |SUCCESS| pw155424 [PATCH] dumpcap: fix warnings when primary exits From: dpdklab@iol.unh.edu To: Test Report Cc: dpdk-test-reports@iol.unh.edu In-Reply-To: <20250722155319.168601-1-stephen@networkplumber.org> References: <20250722155319.168601-1-stephen@networkplumber.org> Content-Type: text/plain X-BeenThere: test-report@dpdk.org X-Mailman-Version: 2.1.29 Precedence: list List-Id: automatic DPDK test reports List-Unsubscribe: , List-Archive: List-Post: List-Help: List-Subscribe: , Errors-To: test-report-bounces@dpdk.org Test-Label: iol-unit-arm64-testing Test-Status: SUCCESS http://dpdk.org/patch/155424 _Testing PASS_ Submitter: Stephen Hemminger Date: Tuesday, July 22 2025 15:53:19 DPDK git baseline: Repo:dpdk Branch: master CommitID:b222395561638f89562e4ef42e1eabf2d6db43dd 155424 --> testing pass Upstream job id: Generic-Unit-Test-DPDK#357324 Test environment and result as below: +------------------------------+--------------+---------------------------+------------------------------+----------------+ | Environment | lpm_autotest | cryptodev_sw_zuc_autotest | cryptodev_sw_snow3g_autotest | dpdk_unit_test | +==============================+==============+===========================+==============================+================+ | Ubuntu 20.04 | PASS | SKIPPED | SKIPPED | PASS | +------------------------------+--------------+---------------------------+------------------------------+----------------+ | Debian 12 (arm) | SKIPPED | PASS | PASS | SKIPPED | +------------------------------+--------------+---------------------------+------------------------------+----------------+ | Ubuntu 22.04 | SKIPPED | SKIPPED | SKIPPED | PASS | +------------------------------+--------------+---------------------------+------------------------------+----------------+ | CentOS Stream 10 | SKIPPED | SKIPPED | SKIPPED | PASS | +------------------------------+--------------+---------------------------+------------------------------+----------------+ | CentOS Stream 9 | SKIPPED | SKIPPED | SKIPPED | PASS | +------------------------------+--------------+---------------------------+------------------------------+----------------+ | Fedora Linux 40 | SKIPPED | SKIPPED | SKIPPED | PASS | +------------------------------+--------------+---------------------------+------------------------------+----------------+ | Debian GNU/Linux 12 | SKIPPED | SKIPPED | SKIPPED | PASS | +------------------------------+--------------+---------------------------+------------------------------+----------------+ | Red Hat Enterprise Linux 9.5 | SKIPPED | SKIPPED | SKIPPED | PASS | +------------------------------+--------------+---------------------------+------------------------------+----------------+ | Fedora Linux 41 | SKIPPED | SKIPPED | SKIPPED | PASS | +------------------------------+--------------+---------------------------+------------------------------+----------------+ | Ubuntu 24.04 | SKIPPED | SKIPPED | SKIPPED | PASS | +------------------------------+--------------+---------------------------+------------------------------+----------------+ Ubuntu 20.04 Kernel: 5.4 Compiler: gcc gcc (Ubuntu 9.4.0-1ubuntu1~20.04.2) 9.4.0 Debian 12 (arm) Kernel: Depends on container host Compiler: gcc (Debian 12.2.0-14) 12.2.0 Ubuntu 22.04 Kernel: 5.15 Compiler: gcc gcc (Ubuntu 11.4.0-1ubuntu1~22.04) 11.4.0 CentOS Stream 10 Kernel: 5.4 Compiler: gcc gcc (GCC) 14.2.1 20250110 (Red Hat 14.2.1-8) CentOS Stream 9 Kernel: 5.4 Compiler: gcc gcc (GCC) 11.5.0 20240719 (Red Hat 11.5.0-7) Fedora Linux 40 Kernel: 5.4 Compiler: clang gcc (GCC) 14.2.1 20240912 (Red Hat 14.2.1-3) Debian GNU/Linux 12 Kernel: 5.4 Compiler: gcc gcc (Debian 12.2.0-14+deb12u1) 12.2.0 Red Hat Enterprise Linux 9.5 Kernel: 5.4 Compiler: gcc gcc (GCC) 11.5.0 20240719 (Red Hat 11.5.0-2) Fedora Linux 41 Kernel: 5.4 Compiler: clang gcc (GCC) 14.3.1 20250523 (Red Hat 14.3.1-1) Ubuntu 24.04 Kernel: 5.4 Compiler: gcc gcc (Ubuntu 13.3.0-6ubuntu2~24.04) 13.3.0 To view detailed results, visit: https://lab.dpdk.org/results/dashboard/patchsets/33724/ UNH-IOL DPDK Community Lab To manage your email subscriptions, visit: https://lab.dpdk.org/results/dashboard/preferences/subscriptions/