From mboxrd@z Thu Jan 1 00:00:00 1970 Return-Path: Received: from mails.dpdk.org (mails.dpdk.org [217.70.189.124]) by inbox.dpdk.org (Postfix) with ESMTP id A430146BE9 for ; Wed, 23 Jul 2025 01:03:50 +0200 (CEST) Received: from mails.dpdk.org (localhost [127.0.0.1]) by mails.dpdk.org (Postfix) with ESMTP id 858504003C; Wed, 23 Jul 2025 01:03:50 +0200 (CEST) Received: from mail-il1-f227.google.com (mail-il1-f227.google.com [209.85.166.227]) by mails.dpdk.org (Postfix) with ESMTP id B285C4003C for ; Wed, 23 Jul 2025 01:03:48 +0200 (CEST) Received: by mail-il1-f227.google.com with SMTP id e9e14a558f8ab-3df2dbe85d1so40713545ab.0 for ; Tue, 22 Jul 2025 16:03:48 -0700 (PDT) DKIM-Signature: v=1; a=rsa-sha256; c=relaxed/relaxed; d=iol.unh.edu; s=unh-iol; t=1753225428; x=1753830228; darn=dpdk.org; h=references:in-reply-to:cc:to:from:subject:message-id:date:from:to :cc:subject:date:message-id:reply-to; bh=42PO1TVdow0sAOeV9r87uSTDJ2XaWZ7abIhXCksJ5oc=; b=C1jX4CWSO5wVaexv2PQFCvmakfeTWlrqRT9NYRyxKBvZ04tUekLv8H1xIU9dUm4MJZ G8PbyzeXwv3PXb0Wvc07Esp8Ah+tFsVljv7/Kq1DK1ARA4SHTqm/fbPyaKsXpyWKnlDz mqyYVM88W8LANeuwT24t0/HHNuGXRQaYw+xCQ= X-Google-DKIM-Signature: v=1; a=rsa-sha256; c=relaxed/relaxed; d=1e100.net; s=20230601; t=1753225428; x=1753830228; h=references:in-reply-to:cc:to:from:subject:message-id:date :x-gm-message-state:from:to:cc:subject:date:message-id:reply-to; bh=42PO1TVdow0sAOeV9r87uSTDJ2XaWZ7abIhXCksJ5oc=; b=gV/Rhfs99TuFvaUbQ4E4+NPO5WYsTUUPY4rt8MB8PLbXHJtk1AnYdfhfvQkuSpFJkc 3kBfgr8JMOFaKWGuNgzBf2HB+puCbBoJuFAKFjl3nv35T7JmXQ2TlPSUP1mFlDKfpXF4 mQ1Mza+SqFh0qw9lOgNDmR5BfU1K6m1urnA735OrGGB5kzmVdFk7dfgX64xbihL/CA7A Pts4ZJdzfzTBhH6AjonT+kOAkehQ2Ri3I6gwHs2xzuQ8LwmyKh70WoUJkuQ11+gyeyTQ dWCbWD6koScO2fzo1SAFW79QWnMdd5/KMlJwDfwM5E8kTbJtKsE3RQ3NZb2GFtDeIvaq LmIQ== X-Gm-Message-State: AOJu0YwjC72KMIDJIokS2vkKPTDLw4DVTOxMShPT/3CrdhI9HJMCK6hK F+luQGrQ2uhIdnrOjcC3uiD1/spzMsCErXsVpcUPPc+XW0c/HwC8sr6621/6i2pTMkUec3zkaCX PldmkwfodvuvhSRaUA0OyHnJH9snSphBH0bnOJ9JUlS9KK71wU/kQGJh+0E5N X-Gm-Gg: ASbGnctfzXjSXq88Pzz4PuJQlh0+YtVKZ0OfMhGg0/hbA9EnE3amCRoDHZZfSTM/n5p S1HnAB+22LNhma+kbT/woOM6giJCdea4Srm33tp2LzLodKfPv4tpCqDtgL8Lbh5eZC7HUi+lny3 fxzPARPUKlK4AFhH1YM6uPWpy+SdYiX6LQqiZ07ApmhkEkNLPum3XvOlMVRRcNWaCPxmd1oJo6n 93s7s7zgPag7GoB3sdlbQmKDWZUX0qh2GvSsy0PzcANY0o8Ix9wyEQjf+Yyq4l4MAPxGpLIRakN IuulB2VSJcZ223YEOibt0dngjjG5eaM/9Dn6XFf+eQpqyLXDLQ== X-Google-Smtp-Source: AGHT+IH2aFp5WSO8pfOX5c/tQUJW9xyC1dtWb0lv0KpbZZwATGFtFQ724YhQBHLiLP7Ya2oQsMtiLKE2G3OV X-Received: by 2002:a05:6e02:3005:b0:3e2:9e9d:a978 with SMTP id e9e14a558f8ab-3e335590ab8mr15607115ab.21.1753225428091; Tue, 22 Jul 2025 16:03:48 -0700 (PDT) Received: from postal.iol.unh.edu (postal.iol.unh.edu. [2606:4100:3880:1234::84]) by smtp-relay.gmail.com with ESMTPS id e9e14a558f8ab-3e298203d16sm7027675ab.4.2025.07.22.16.03.48 (version=TLS1_2 cipher=ECDHE-ECDSA-AES128-GCM-SHA256 bits=128/128); Tue, 22 Jul 2025 16:03:48 -0700 (PDT) X-Relaying-Domain: iol.unh.edu Date: Tue, 22 Jul 2025 16:03:48 -0700 (PDT) Message-ID: <688018d4.050a0220.14c81.3884SMTPIN_ADDED_MISSING@mx.google.com> Received: from [172.21.0.2] (unknown [172.18.0.240]) by postal.iol.unh.edu (Postfix) with ESMTP id A0C8360003E8; Tue, 22 Jul 2025 19:03:47 -0400 (EDT) Subject: |SUCCESS| pw155431-155432 [PATCH] [v1,2/2] dts: add exception handli From: dpdklab@iol.unh.edu To: Test Report Cc: dpdk-test-reports@iol.unh.edu In-Reply-To: <20250722172214.202308-2-dmarx@iol.unh.edu> References: <20250722172214.202308-2-dmarx@iol.unh.edu> Content-Type: text/plain X-BeenThere: test-report@dpdk.org X-Mailman-Version: 2.1.29 Precedence: list List-Id: automatic DPDK test reports List-Unsubscribe: , List-Archive: List-Post: List-Help: List-Subscribe: , Errors-To: test-report-bounces@dpdk.org Test-Label: iol-unit-amd64-testing Test-Status: SUCCESS http://dpdk.org/patch/155432 _Testing PASS_ Submitter: Dean Marx Date: Tuesday, July 22 2025 17:22:14 DPDK git baseline: Repo:dpdk Branch: master CommitID:f8fb19d5e2fc20798ed0caa292a1538fbbd98f96 155431-155432 --> testing pass Upstream job id: Generic-Unit-Test-DPDK#357476 Test environment and result as below: +-------------------------------+----------------+ | Environment | dpdk_unit_test | +===============================+================+ | CentOS Stream 9 | PASS | +-------------------------------+----------------+ | Fedora Linux 41 | PASS | +-------------------------------+----------------+ | CentOS Stream 10 | PASS | +-------------------------------+----------------+ | Debian GNU/Linux 12 | PASS | +-------------------------------+----------------+ | Fedora Linux 40 | PASS | +-------------------------------+----------------+ | Red Hat Enterprise Linux 9.5 | PASS | +-------------------------------+----------------+ | Ubuntu 22.04 | PASS | +-------------------------------+----------------+ | Ubuntu 20.04 | PASS | +-------------------------------+----------------+ | Red Hat Enterprise Linux 8.10 | PASS | +-------------------------------+----------------+ | Ubuntu 24.04 | PASS | +-------------------------------+----------------+ | Windows Server 2022 | PASS | +-------------------------------+----------------+ CentOS Stream 9 Kernel: 5.15 Compiler: gcc gcc (GCC) 11.5.0 20240719 (Red Hat 11.5.0-7) Fedora Linux 41 Kernel: 5.15 Compiler: gcc gcc (GCC) 14.3.1 20250523 (Red Hat 14.3.1-1) CentOS Stream 10 Kernel: 5.15 Compiler: gcc gcc (GCC) 14.2.1 20250110 (Red Hat 14.2.1-8) Debian GNU/Linux 12 Kernel: 5.15 Compiler: gcc gcc (Debian 12.2.0-14+deb12u1) 12.2.0 Fedora Linux 40 Kernel: 5.15 Compiler: gcc gcc (GCC) 14.2.1 20240912 (Red Hat 14.2.1-3) Red Hat Enterprise Linux 9.5 Kernel: 5.15 Compiler: gcc gcc (GCC) 11.5.0 20240719 (Red Hat 11.5.0-2) Ubuntu 22.04 Kernel: 5.15 Compiler: gcc gcc (Ubuntu 11.4.0-1ubuntu1~22.04) 11.4.0 Ubuntu 20.04 Kernel: 5.15 Compiler: gcc gcc (Ubuntu 9.4.0-1ubuntu1~20.04.2) 9.4.0 Red Hat Enterprise Linux 8.10 Kernel: 5.15 Compiler: gcc gcc (GCC) 8.5.0 20210514 (Red Hat 8.5.0-22) Ubuntu 24.04 Kernel: 5.15 Compiler: gcc gcc (Ubuntu 13.3.0-6ubuntu2~24.04) 13.3.0 Windows Server 2022 Kernel: 10.0.20348.2031 Compiler: clang 15.0.7, gcc 14.1.0 (MinGW), and MSVC VS 19.39.33521 To view detailed results, visit: https://lab.dpdk.org/results/dashboard/patchsets/33729/ UNH-IOL DPDK Community Lab To manage your email subscriptions, visit: https://lab.dpdk.org/results/dashboard/preferences/subscriptions/