From mboxrd@z Thu Jan 1 00:00:00 1970 Return-Path: Received: from mails.dpdk.org (mails.dpdk.org [217.70.189.124]) by inbox.dpdk.org (Postfix) with ESMTP id 3E25C46BE9 for ; Wed, 23 Jul 2025 01:21:48 +0200 (CEST) Received: from mails.dpdk.org (localhost [127.0.0.1]) by mails.dpdk.org (Postfix) with ESMTP id 170E3402D2; Wed, 23 Jul 2025 01:21:48 +0200 (CEST) Received: from mail-yb1-f228.google.com (mail-yb1-f228.google.com [209.85.219.228]) by mails.dpdk.org (Postfix) with ESMTP id 4AF8B402D2 for ; Wed, 23 Jul 2025 01:21:46 +0200 (CEST) Received: by mail-yb1-f228.google.com with SMTP id 3f1490d57ef6-e740a09eae0so5969637276.1 for ; Tue, 22 Jul 2025 16:21:46 -0700 (PDT) DKIM-Signature: v=1; a=rsa-sha256; c=relaxed/relaxed; d=iol.unh.edu; s=unh-iol; t=1753226505; x=1753831305; darn=dpdk.org; h=references:in-reply-to:cc:to:from:subject:message-id:date:from:to :cc:subject:date:message-id:reply-to; bh=8Acl7AahtTq+HPQS8CCxN8h22m0UkYNg7d92Hhx/IMA=; b=KYgGHIncptTHZ7Thipqns3+j9y22DalEjvG3S8TTrF/qUtNn1N6Z33WzhhADF9h2Tz NpitAhrR8hW1ME1SPXkh/OzbcXrwxZSaIKyJZO0V2IC4VV1l4gfo6QiW6UcdsnNgDQTu Rb9mp0+1DBOxPjG76FgD3TZKgSpPOQZ4iumaw= X-Google-DKIM-Signature: v=1; a=rsa-sha256; c=relaxed/relaxed; d=1e100.net; s=20230601; t=1753226505; x=1753831305; h=references:in-reply-to:cc:to:from:subject:message-id:date :x-gm-message-state:from:to:cc:subject:date:message-id:reply-to; bh=8Acl7AahtTq+HPQS8CCxN8h22m0UkYNg7d92Hhx/IMA=; b=u2K465y7IiGld+Y/QocTiyrxDukiXIHTkW1NvY929DHZo6UyKaGDVShDV+u7SHgbDZ gVmj0wTMZwGpDk/ajmANi8MxHW1ppdBTgz8AbxzEZJcPCl0tMNzTnS2IVR9A1URZMEWJ ieYBmk+4qEYTWnqlXdCDNCJWPLl6YHlPetBkqwVNOfkjgO0N2vRAzOlRaguyeIqNxhTV IJHgXX86CPzsXN0BdQX7fIbCbObmNWX+bjQROiie8ixVQ7p3b+TJT4gFPHsJ3AA2Tdzg zSQLjBfxzgjQvST2Z9FhvHZYlqSDywTRlx98jsaZZRvza21jBKvqvMP67VXeyz5J+vCr AvGA== X-Gm-Message-State: AOJu0YwOiL9HDd8dDFxzZj3DxuiS/nQMR4sxASiJ6N5eHyFqTj9nH3HG l6WhmKVJ/0y2SpovFM81jUxLQnvspzJs/TXlkbJgqxhfcZ68RKsMORmE/1C2WhPv/AgDOXSJf/r kwyJ2eqL/EgPhBSE9eMOsO77GNdKEW5eMIV0xKPECs++HxSANtf9Ile6gEImk X-Gm-Gg: ASbGncu7jyvtintLaNr8YIcUmjne99EIXtihtBpAU3nLnXrDFQIcIb/sZBaKcFTT9e4 PehcK6g6fwRukO2xH5cYTB1+HrhM/PRaTplUUBGZA4si/xrzo140+z8yKAqYXk8aAyVR1r9jFMX 0lk1xwdAwJ8bqgBLO3antiFmGpDtK/bvvBo/+o06Hb4Mjh6F+GSHyZjYmhKNTBu9vabM2RfEmFF GM9H7cIujq1mRtbp00xswjm7DVvEzyLJyEQ2Hj38+8OPO+SFeuYvvU0wT7tsmPMgBdrkhz9oMv5 iBKNwYGvf4Ajp2ulgYa2nMgaPHJ6AZgdxF0iWpCbH2XCxd1Ecw== X-Google-Smtp-Source: AGHT+IHDH31uVGTExsrNXyhD2iBpAY1jy/GfoI9KXlmh228Cvdd3yiEHGJdIEgbKw727/J8El+xupW6kIXkv X-Received: by 2002:a05:690c:2783:b0:712:cc11:af8 with SMTP id 00721157ae682-719b4225126mr12063677b3.27.1753226505509; Tue, 22 Jul 2025 16:21:45 -0700 (PDT) Received: from postal.iol.unh.edu (postal.iol.unh.edu. [2606:4100:3880:1234::84]) by smtp-relay.gmail.com with ESMTPS id 00721157ae682-71953105e2asm6128867b3.1.2025.07.22.16.21.45 (version=TLS1_2 cipher=ECDHE-ECDSA-AES128-GCM-SHA256 bits=128/128); Tue, 22 Jul 2025 16:21:45 -0700 (PDT) X-Relaying-Domain: iol.unh.edu Date: Tue, 22 Jul 2025 16:21:45 -0700 (PDT) Message-ID: <68801d09.0d0a0220.138ed3.ff53SMTPIN_ADDED_MISSING@mx.google.com> Received: from [172.21.0.4] (unknown [172.18.0.240]) by postal.iol.unh.edu (Postfix) with ESMTP id 31E1B60003E8; Tue, 22 Jul 2025 19:21:45 -0400 (EDT) Subject: |SUCCESS| pw155426-155427 [PATCH] [v3,2/2] test/strsep: add tests fo From: dpdklab@iol.unh.edu To: Test Report Cc: dpdk-test-reports@iol.unh.edu In-Reply-To: <1753202334-27615-2-git-send-email-andremue@linux.microsoft.com> References: <1753202334-27615-2-git-send-email-andremue@linux.microsoft.com> Content-Type: text/plain X-BeenThere: test-report@dpdk.org X-Mailman-Version: 2.1.29 Precedence: list List-Id: automatic DPDK test reports List-Unsubscribe: , List-Archive: List-Post: List-Help: List-Subscribe: , Errors-To: test-report-bounces@dpdk.org Test-Label: iol-abi-testing Test-Status: SUCCESS http://dpdk.org/patch/155427 _Testing PASS_ Submitter: Andre Muezerie Date: Tuesday, July 22 2025 16:38:54 DPDK git baseline: Repo:dpdk Branch: master CommitID:b222395561638f89562e4ef42e1eabf2d6db43dd 155426-155427 --> testing pass Upstream job id: Generic-DPDK-Compile-ABI#135309 Test environment and result as below: +-------------------------------+----------+ | Environment | abi_test | +===============================+==========+ | Debian GNU/Linux 12 | PASS | +-------------------------------+----------+ | Fedora Linux 40 | PASS | +-------------------------------+----------+ | CentOS Stream 10 | PASS | +-------------------------------+----------+ | CentOS Stream 9 | PASS | +-------------------------------+----------+ | Fedora Linux 41 | PASS | +-------------------------------+----------+ | Ubuntu 24.04 | PASS | +-------------------------------+----------+ | Red Hat Enterprise Linux 8.10 | PASS | +-------------------------------+----------+ | Red Hat Enterprise Linux 9.5 | PASS | +-------------------------------+----------+ | openSUSE Leap 15.6 | PASS | +-------------------------------+----------+ | Ubuntu 22.04 | PASS | +-------------------------------+----------+ Debian GNU/Linux 12 Kernel: 5.15 Compiler: gcc gcc (Debian 12.2.0-14+deb12u1) 12.2.0 Fedora Linux 40 Kernel: 5.15 Compiler: clang gcc (GCC) 14.2.1 20240912 (Red Hat 14.2.1-3) CentOS Stream 10 Kernel: 5.15 Compiler: gcc gcc (GCC) 14.2.1 20250110 (Red Hat 14.2.1-8) CentOS Stream 9 Kernel: 5.15 Compiler: gcc gcc (GCC) 11.5.0 20240719 (Red Hat 11.5.0-7) Fedora Linux 41 Kernel: 5.15 Compiler: clang gcc (GCC) 14.3.1 20250523 (Red Hat 14.3.1-1) Ubuntu 24.04 Kernel: 5.15 Compiler: gcc gcc (Ubuntu 13.3.0-6ubuntu2~24.04) 13.3.0 Red Hat Enterprise Linux 8.10 Kernel: 5.15 Compiler: gcc gcc (GCC) 8.5.0 20210514 (Red Hat 8.5.0-22) Red Hat Enterprise Linux 9.5 Kernel: 5.15 Compiler: gcc gcc (GCC) 11.5.0 20240719 (Red Hat 11.5.0-2) openSUSE Leap 15.6 Kernel: 5.15 Compiler: gcc gcc (SUSE Linux) 7.5.0 Ubuntu 22.04 Kernel: 5.15 Compiler: gcc gcc (Ubuntu 11.4.0-1ubuntu1~22.04) 11.4.0 To view detailed results, visit: https://lab.dpdk.org/results/dashboard/patchsets/33726/ UNH-IOL DPDK Community Lab To manage your email subscriptions, visit: https://lab.dpdk.org/results/dashboard/preferences/subscriptions/