From mboxrd@z Thu Jan 1 00:00:00 1970 Return-Path: Received: from mails.dpdk.org (mails.dpdk.org [217.70.189.124]) by inbox.dpdk.org (Postfix) with ESMTP id 383C746BE9 for ; Wed, 23 Jul 2025 01:22:17 +0200 (CEST) Received: from mails.dpdk.org (localhost [127.0.0.1]) by mails.dpdk.org (Postfix) with ESMTP id 3358F402D2; Wed, 23 Jul 2025 01:22:17 +0200 (CEST) Received: from mail-pg1-f226.google.com (mail-pg1-f226.google.com [209.85.215.226]) by mails.dpdk.org (Postfix) with ESMTP id 9428A402D2 for ; Wed, 23 Jul 2025 01:22:15 +0200 (CEST) Received: by mail-pg1-f226.google.com with SMTP id 41be03b00d2f7-b31d578e774so268085a12.1 for ; Tue, 22 Jul 2025 16:22:15 -0700 (PDT) DKIM-Signature: v=1; a=rsa-sha256; c=relaxed/relaxed; d=iol.unh.edu; s=unh-iol; t=1753226535; x=1753831335; darn=dpdk.org; h=references:in-reply-to:cc:to:from:subject:message-id:date:from:to :cc:subject:date:message-id:reply-to; bh=FX+vGb2tgGXhRQ9EqJuXHQ0YkU5XovglhGzWxRuXUqo=; b=WkpaCl02fiumTM3AQaty1ArDYIE9yoHE1sau8G8no0i2wUs1cQPMAbE0ZuIxjpNcKs vR2ViB1rdqryXVcrbcnOKJzKipcvyfGXaStEBIxwVHJv6ZTc2bc5KLj1OOQaUWeQMEvh y+tV/1Tzt4HkPA7XaI/5vUOryEZrGX32CZJC0= X-Google-DKIM-Signature: v=1; a=rsa-sha256; c=relaxed/relaxed; d=1e100.net; s=20230601; t=1753226535; x=1753831335; h=references:in-reply-to:cc:to:from:subject:message-id:date :x-gm-message-state:from:to:cc:subject:date:message-id:reply-to; bh=FX+vGb2tgGXhRQ9EqJuXHQ0YkU5XovglhGzWxRuXUqo=; b=NFm+JQ4O9EpzAoYlx82s3gqJR2mMhO5GsrC3AqccHIu91uCywTwuwj0NZ0dzNszSqi Q8dYrxGlXYZfU65OihvMF4EH2pdWEf3YMfkJFUSpeebumspZ3uFNSULTTH4zPUhbrv3z 5zTOAbH+aXwA1YgfzcLyz7vIq/zHIun838C3EciDS52UrDZC7MoOSmzq9LDWhVnKNIBT ic/MAyv2Q3EwKjgc/4sdgH9U1lPK0ug3o7x3+lVGZgsZNdkP+m+7ir0/cY/MvrJwaFZd O2gezG2AC1gOo/4M1hhFcEkkzI381c8/JGzbBfv0qSEfd5snpkOmtNQS5kB+rPo2B6Z5 HpGQ== X-Gm-Message-State: AOJu0YxYDbXaPtPJLD203+8pGFiH+SkfqNbzmnDb1f4qKzmVDzC5lrjR 5ekQjQSzTSEQo51aBV60T8ErTmozfiuOvbxi0VHd899doyy7MSh/27RVRHaGZOHIW+YY1BPfARw 8SxQoNOSzAaw4UIEwdMQRjKNh/MzJStdw8kk4nH4Jy2bACafXsWTQf464N1x9 X-Gm-Gg: ASbGncuoT0RR/7K3KS7BQyJFn/KkCg0gAow/RG1g+zxrej2PclSWfBzbABNAgP5RRf8 /Srw1p6kItNDqAomxTTpZLjFMH0bB4KaV2OMOKMg+CoHrCsFbnQT7oq2DEjlz3Fvl8yz3a31AII M8jfNoPI27YnYyiPIi5bJxf2/8s42ajETZYiR7S8k606gDxM+lu+e3ERdm6GPRgKMbH3beCl7Mz d47k0COswL/GKfaKzxSEZ21hbbIDL5Dtp/glOlOArHdeVtyvcrTao7eYiWPQ2QANV3HtwJ05xC1 CdQQBZjFPbB9MxVB7hblbylLI7l2bCN2/aDEA/hoFDJgVUk5pw== X-Google-Smtp-Source: AGHT+IGitYBxQgL9Ov/qQMkfzyUBxMSfMgQqmZXmw1SpFH3Gattu3OFo91Fl1ObEiHbcx9PUNiaPQMNuh/i7 X-Received: by 2002:a17:90b:380a:b0:2fa:562c:c1cf with SMTP id 98e67ed59e1d1-31e3e0ffbdamr7228221a91.1.1753226534654; Tue, 22 Jul 2025 16:22:14 -0700 (PDT) Received: from postal.iol.unh.edu (postal.iol.unh.edu. [2606:4100:3880:1234::84]) by smtp-relay.gmail.com with ESMTPS id 98e67ed59e1d1-31e5181c958sm20852a91.0.2025.07.22.16.22.14 (version=TLS1_2 cipher=ECDHE-ECDSA-AES128-GCM-SHA256 bits=128/128); Tue, 22 Jul 2025 16:22:14 -0700 (PDT) X-Relaying-Domain: iol.unh.edu Date: Tue, 22 Jul 2025 16:22:14 -0700 (PDT) Message-ID: <68801d26.170a0220.37aa8f.102aSMTPIN_ADDED_MISSING@mx.google.com> Received: from [172.21.0.2] (unknown [172.18.0.240]) by postal.iol.unh.edu (Postfix) with ESMTP id CD9126051830; Tue, 22 Jul 2025 19:22:13 -0400 (EDT) Subject: |SUCCESS| pw155426-155427 [PATCH] [v3,2/2] test/strsep: add tests fo From: dpdklab@iol.unh.edu To: Test Report Cc: dpdk-test-reports@iol.unh.edu In-Reply-To: <1753202334-27615-2-git-send-email-andremue@linux.microsoft.com> References: <1753202334-27615-2-git-send-email-andremue@linux.microsoft.com> Content-Type: text/plain X-BeenThere: test-report@dpdk.org X-Mailman-Version: 2.1.29 Precedence: list List-Id: automatic DPDK test reports List-Unsubscribe: , List-Archive: List-Post: List-Help: List-Subscribe: , Errors-To: test-report-bounces@dpdk.org Test-Label: iol-abi-testing Test-Status: SUCCESS http://dpdk.org/patch/155427 _Testing PASS_ Submitter: Andre Muezerie Date: Tuesday, July 22 2025 16:38:54 DPDK git baseline: Repo:dpdk Branch: master CommitID:b222395561638f89562e4ef42e1eabf2d6db43dd 155426-155427 --> testing pass Upstream job id: Generic-DPDK-Compile-ABI#135306 Test environment and result as below: +-------------------------------+----------+ | Environment | abi_test | +===============================+==========+ | Debian GNU/Linux 12 | PASS | +-------------------------------+----------+ | Fedora Linux 40 | PASS | +-------------------------------+----------+ | CentOS Stream 10 | PASS | +-------------------------------+----------+ | CentOS Stream 9 | PASS | +-------------------------------+----------+ | Fedora Linux 41 | PASS | +-------------------------------+----------+ | Ubuntu 24.04 | PASS | +-------------------------------+----------+ | Red Hat Enterprise Linux 8.10 | PASS | +-------------------------------+----------+ | Red Hat Enterprise Linux 9.5 | PASS | +-------------------------------+----------+ | openSUSE Leap 15.6 | PASS | +-------------------------------+----------+ | Ubuntu 22.04 | PASS | +-------------------------------+----------+ Debian GNU/Linux 12 Kernel: 5.15 Compiler: gcc gcc (Debian 12.2.0-14+deb12u1) 12.2.0 Fedora Linux 40 Kernel: 5.15 Compiler: clang gcc (GCC) 14.2.1 20240912 (Red Hat 14.2.1-3) CentOS Stream 10 Kernel: 5.15 Compiler: gcc gcc (GCC) 14.2.1 20250110 (Red Hat 14.2.1-8) CentOS Stream 9 Kernel: 5.15 Compiler: gcc gcc (GCC) 11.5.0 20240719 (Red Hat 11.5.0-7) Fedora Linux 41 Kernel: 5.15 Compiler: clang gcc (GCC) 14.3.1 20250523 (Red Hat 14.3.1-1) Ubuntu 24.04 Kernel: 5.15 Compiler: gcc gcc (Ubuntu 13.3.0-6ubuntu2~24.04) 13.3.0 Red Hat Enterprise Linux 8.10 Kernel: 5.15 Compiler: gcc gcc (GCC) 8.5.0 20210514 (Red Hat 8.5.0-22) Red Hat Enterprise Linux 9.5 Kernel: 5.15 Compiler: gcc gcc (GCC) 11.5.0 20240719 (Red Hat 11.5.0-2) openSUSE Leap 15.6 Kernel: 5.15 Compiler: gcc gcc (SUSE Linux) 7.5.0 Ubuntu 22.04 Kernel: 5.15 Compiler: gcc gcc (Ubuntu 11.4.0-1ubuntu1~22.04) 11.4.0 To view detailed results, visit: https://lab.dpdk.org/results/dashboard/patchsets/33726/ UNH-IOL DPDK Community Lab To manage your email subscriptions, visit: https://lab.dpdk.org/results/dashboard/preferences/subscriptions/