From mboxrd@z Thu Jan 1 00:00:00 1970 Return-Path: Received: from mails.dpdk.org (mails.dpdk.org [217.70.189.124]) by inbox.dpdk.org (Postfix) with ESMTP id 5653546BE9 for ; Wed, 23 Jul 2025 01:23:17 +0200 (CEST) Received: from mails.dpdk.org (localhost [127.0.0.1]) by mails.dpdk.org (Postfix) with ESMTP id 4FD30402D2; Wed, 23 Jul 2025 01:23:17 +0200 (CEST) Received: from mail-qt1-f227.google.com (mail-qt1-f227.google.com [209.85.160.227]) by mails.dpdk.org (Postfix) with ESMTP id D9026402D2 for ; Wed, 23 Jul 2025 01:23:15 +0200 (CEST) Received: by mail-qt1-f227.google.com with SMTP id d75a77b69052e-4ab81d016c8so84103551cf.1 for ; Tue, 22 Jul 2025 16:23:15 -0700 (PDT) DKIM-Signature: v=1; a=rsa-sha256; c=relaxed/relaxed; d=iol.unh.edu; s=unh-iol; t=1753226595; x=1753831395; darn=dpdk.org; h=references:in-reply-to:cc:to:from:subject:message-id:date:from:to :cc:subject:date:message-id:reply-to; bh=a1cuD0fSWMLI6NoBeMmlsVtZcmkBif2dNvR7PNletRk=; b=RTaMS+Kgg8MISVdwAipVTeXEv+sMNq0JiXSxrU6t6YLmw3Yh60O4rc6M6m7AU4Ptcd V77Rg5VDo3/IwqD+g/03SqQn/mOAQUlceoMbAJKgInAZKuvH2cFDrDItUlsMg8ke5OMJ 1FKBSA8iJozbhzso4PlRCR+BPDfnIEDfpM+E8= X-Google-DKIM-Signature: v=1; a=rsa-sha256; c=relaxed/relaxed; d=1e100.net; s=20230601; t=1753226595; x=1753831395; h=references:in-reply-to:cc:to:from:subject:message-id:date :x-gm-message-state:from:to:cc:subject:date:message-id:reply-to; bh=a1cuD0fSWMLI6NoBeMmlsVtZcmkBif2dNvR7PNletRk=; b=IJFZ1CefXPGe2rtf+L9qvE6alcFFrqMllO5OKEEXnFujJy6UvTIYUTiB9SHSxeF5Oj /z/4QgRQ7RN8PlBUaWMQIqwBDxwe0QJwlSabFiy2HP3zdNScNbQwHJpdwswiWVEqV8bf qVo4FiG/Yr6raAsi2ma2ux6BUFU2MpdpDywTXJD9YdSnFewRcnK2c16WAhO4KNtZc4dk 7SwcsU5lL4PJ0YKKbzitjPHbfb+FHps9+AvL0+VZKG94OLVqud5CezGJfdcCP4cDtyTL B72mPzvIU3PmtRYB0HdBTMFCaEIjJ6f2pApVdyg0FYduE3JWAHHVhQzJk333CSAwk+yT wAtQ== X-Gm-Message-State: AOJu0YzdgJFX1hULrBRuzz01tEj6EpBR3S/SA79LqQRsWT00ZAK5EiHo CFWs2zF5qgZQz1Cw3MtKR+RMc72UYUrf8UjjDb969eJFau9nTu4PKAPJna7bFOTajEc9/Jid5HC EX7DAZGXgkYb0jAxzm6NmcZzfHoW0e1L+Tr39KTHniZar X-Gm-Gg: ASbGncsHMxgY0A5tvSxrmRUoxQUREfAN3P099XODO+zvh67J9ZdQeq7eq12uScS2w0P F2dpcGts5q1Srxyq07bhaZnwf+o9+d1fZt/PJOiliey1xkPOTttZ13WND4xePTO+Vi1JvfRCjId syBpGo8egzwOYx2OACh6OE07tvuUySFUlSC6y5+GcaCZ1R28oX80brlEy2u53e00H7WslOaBea2 3liaqWq5BkiDGiVomuR36Z2lyi1Av9Udic3eLuIzOuYqr0I69Af51aNSrAyvYzlIw8fgxBGomSv x/155c1fj0RjWd+noSdHSPf8Tbg0RXjg284+5vaue+nUTN/JhuLR/51g1mvwTKhKE3xDjQAe X-Google-Smtp-Source: AGHT+IGLjDyoao7N8vyTu8dfHC2kkWoQWUohrf81Q9L/v50HxSe3BObn2KQMmoONQNNC3urLjgDWdAXZWd5p X-Received: by 2002:a05:6214:20c2:b0:702:d822:9381 with SMTP id 6a1803df08f44-70700517288mr19721656d6.19.1753226595184; Tue, 22 Jul 2025 16:23:15 -0700 (PDT) Received: from postal.iol.unh.edu (postal.iol.unh.edu. [132.177.123.84]) by smtp-relay.gmail.com with ESMTPS id 6a1803df08f44-707001652e0sm332186d6.63.2025.07.22.16.23.15 (version=TLS1_2 cipher=ECDHE-ECDSA-AES128-GCM-SHA256 bits=128/128); Tue, 22 Jul 2025 16:23:15 -0700 (PDT) X-Relaying-Domain: iol.unh.edu Date: Tue, 22 Jul 2025 16:23:15 -0700 (PDT) Message-ID: <68801d63.050a0220.1fda.19c6SMTPIN_ADDED_MISSING@mx.google.com> Received: from [172.21.0.4] (unknown [172.18.0.240]) by postal.iol.unh.edu (Postfix) with ESMTP id E24106051830; Tue, 22 Jul 2025 19:23:14 -0400 (EDT) Subject: |SUCCESS| pw155426-155427 [PATCH] [v3,2/2] test/strsep: add tests fo From: dpdklab@iol.unh.edu To: Test Report Cc: dpdk-test-reports@iol.unh.edu In-Reply-To: <1753202334-27615-2-git-send-email-andremue@linux.microsoft.com> References: <1753202334-27615-2-git-send-email-andremue@linux.microsoft.com> Content-Type: text/plain X-BeenThere: test-report@dpdk.org X-Mailman-Version: 2.1.29 Precedence: list List-Id: automatic DPDK test reports List-Unsubscribe: , List-Archive: List-Post: List-Help: List-Subscribe: , Errors-To: test-report-bounces@dpdk.org Test-Label: iol-abi-testing Test-Status: SUCCESS http://dpdk.org/patch/155427 _Testing PASS_ Submitter: Andre Muezerie Date: Tuesday, July 22 2025 16:38:54 DPDK git baseline: Repo:dpdk Branch: master CommitID:b222395561638f89562e4ef42e1eabf2d6db43dd 155426-155427 --> testing pass Upstream job id: Generic-DPDK-Compile-ABI#135316 Test environment and result as below: +-------------------------------+----------+ | Environment | abi_test | +===============================+==========+ | Debian GNU/Linux 12 | PASS | +-------------------------------+----------+ | Fedora Linux 40 | PASS | +-------------------------------+----------+ | CentOS Stream 10 | PASS | +-------------------------------+----------+ | CentOS Stream 9 | PASS | +-------------------------------+----------+ | Fedora Linux 41 | PASS | +-------------------------------+----------+ | Ubuntu 24.04 | PASS | +-------------------------------+----------+ | Red Hat Enterprise Linux 8.10 | PASS | +-------------------------------+----------+ | Red Hat Enterprise Linux 9.5 | PASS | +-------------------------------+----------+ | openSUSE Leap 15.6 | PASS | +-------------------------------+----------+ | Ubuntu 22.04 | PASS | +-------------------------------+----------+ Debian GNU/Linux 12 Kernel: 5.15 Compiler: gcc gcc (Debian 12.2.0-14+deb12u1) 12.2.0 Fedora Linux 40 Kernel: 5.15 Compiler: clang gcc (GCC) 14.2.1 20240912 (Red Hat 14.2.1-3) CentOS Stream 10 Kernel: 5.15 Compiler: gcc gcc (GCC) 14.2.1 20250110 (Red Hat 14.2.1-8) CentOS Stream 9 Kernel: 5.15 Compiler: gcc gcc (GCC) 11.5.0 20240719 (Red Hat 11.5.0-7) Fedora Linux 41 Kernel: 5.15 Compiler: clang gcc (GCC) 14.3.1 20250523 (Red Hat 14.3.1-1) Ubuntu 24.04 Kernel: 5.15 Compiler: gcc gcc (Ubuntu 13.3.0-6ubuntu2~24.04) 13.3.0 Red Hat Enterprise Linux 8.10 Kernel: 5.15 Compiler: gcc gcc (GCC) 8.5.0 20210514 (Red Hat 8.5.0-22) Red Hat Enterprise Linux 9.5 Kernel: 5.15 Compiler: gcc gcc (GCC) 11.5.0 20240719 (Red Hat 11.5.0-2) openSUSE Leap 15.6 Kernel: 5.15 Compiler: gcc gcc (SUSE Linux) 7.5.0 Ubuntu 22.04 Kernel: 5.15 Compiler: gcc gcc (Ubuntu 11.4.0-1ubuntu1~22.04) 11.4.0 To view detailed results, visit: https://lab.dpdk.org/results/dashboard/patchsets/33726/ UNH-IOL DPDK Community Lab To manage your email subscriptions, visit: https://lab.dpdk.org/results/dashboard/preferences/subscriptions/