From mboxrd@z Thu Jan 1 00:00:00 1970 Return-Path: Received: from mails.dpdk.org (mails.dpdk.org [217.70.189.124]) by inbox.dpdk.org (Postfix) with ESMTP id 7189446BE9 for ; Wed, 23 Jul 2025 01:23:51 +0200 (CEST) Received: from mails.dpdk.org (localhost [127.0.0.1]) by mails.dpdk.org (Postfix) with ESMTP id 6CEBD402D2; Wed, 23 Jul 2025 01:23:51 +0200 (CEST) Received: from mail-pj1-f97.google.com (mail-pj1-f97.google.com [209.85.216.97]) by mails.dpdk.org (Postfix) with ESMTP id 7463F402D2 for ; Wed, 23 Jul 2025 01:23:49 +0200 (CEST) Received: by mail-pj1-f97.google.com with SMTP id 98e67ed59e1d1-31c38e75dafso4993172a91.2 for ; Tue, 22 Jul 2025 16:23:49 -0700 (PDT) DKIM-Signature: v=1; a=rsa-sha256; c=relaxed/relaxed; d=iol.unh.edu; s=unh-iol; t=1753226628; x=1753831428; darn=dpdk.org; h=references:in-reply-to:cc:to:from:subject:message-id:date:from:to :cc:subject:date:message-id:reply-to; bh=ctF9Ju3qyRaeyKGHS1JexeinHHhyQRvFlAgtyLl/oig=; b=PIxELOBwux2tFpL/vVbrDBrRc3GW45shJ/hPVR3ce0jOdnKXgixwXR9lb9BJHLrG5U D49gQoK+Wj8VP1j3LbNee85TYlyzHlY+SBk5lPrCPH3nShXdtAG/wxLcuUKp+/Uqk9t0 mTSulFI/OBYKQ5rob70JJoUL/D5o/BXqgROgA= X-Google-DKIM-Signature: v=1; a=rsa-sha256; c=relaxed/relaxed; d=1e100.net; s=20230601; t=1753226628; x=1753831428; h=references:in-reply-to:cc:to:from:subject:message-id:date :x-gm-message-state:from:to:cc:subject:date:message-id:reply-to; bh=ctF9Ju3qyRaeyKGHS1JexeinHHhyQRvFlAgtyLl/oig=; b=mca0cJaehtm5F5/QDaL8eMdKAupAqGAZVHcvBQ2Pq7KAXyre1R40vJxmKmUiTp3UJB vfkl6fzd5MeMqDzHGX1ccKIgtosQZiNmE3ftyN53sKgXczZmC7Gm3pb6PfuzlyXuVt86 2OT/52AMgrjgvUUv0WgBnyhTSi+d9+ZB8rYJzF/S8JHFeVi3JKSBqbI8uvdgUxWsHo6W QW6F2cgERGZgo7guapEc6hFpIzZq6ztLFMYS9ndA4fwJI+fRW3oJqX8L0iBP6jajrhDY L78GvDDsCgbhCmM2JWexIOj8eAzf3VpoTrqOM9tidltfIQ88JWEtRIVRYYtwxsYC6gqO ulSw== X-Gm-Message-State: AOJu0Yzt0pzV54Py7UJqmrA9HWLEYeIHmQzd+fC/NLYlqbJJhr2TehkI 6QGlf9EcNOimV7htSuMcVZhkH8vpydmMO1CncxRQhqA5uVA42nT4dcuJQA6kV0c3att0ao7KjGL p/3chyMft4epE5d5tUBtwjod2sLXaYp8l2VLHVvTfsaPR X-Gm-Gg: ASbGncvV4u2+a6LLyH5UDj4WbrOpwQQbQqPkprJuyj+pMp715i0ayzZJN4ZzVLyjI1i jq9XaFuydmDDuOq42LdFIka99ZSGjPM47zfQHzSDbl8x3wJOcnGLik99bMYpYUFdQmUT+wY3agk qeiTQF3OG9Z/xOt2VBj/JWft0yLtrM5CIDGrJGZiCs6FYm396fdZhYhgPvIYITu+UuB9x9Hgvjd akGAAmupLPwERx5SrNk/j1/9tJSVDVCFRgvh9gTtTRAF1iPofrHwF+MmQYDRHGYZn0PPz0tcVpr l3cycSwrFkV0vNpFJHSof4C5FJOZIUwy6+eoUfHb+lQoIqGuMMbl7hYnsI2mLl6WJf6+hX8B X-Google-Smtp-Source: AGHT+IFMeQmmdsgeEC3YQ8QWAVlddpRFFOqEJ4OUJ8OM/iJnRxKErFrrZoHVaGY6ZR+k2TZwV9EugsxmBg4n X-Received: by 2002:a17:90b:3f8d:b0:311:e8cc:424c with SMTP id 98e67ed59e1d1-31e507cdcebmr1287457a91.25.1753226628614; Tue, 22 Jul 2025 16:23:48 -0700 (PDT) Received: from postal.iol.unh.edu (postal.iol.unh.edu. [132.177.123.84]) by smtp-relay.gmail.com with ESMTPS id 98e67ed59e1d1-31e51a02569sm21528a91.7.2025.07.22.16.23.48 (version=TLS1_2 cipher=ECDHE-ECDSA-AES128-GCM-SHA256 bits=128/128); Tue, 22 Jul 2025 16:23:48 -0700 (PDT) X-Relaying-Domain: iol.unh.edu Date: Tue, 22 Jul 2025 16:23:48 -0700 (PDT) Message-ID: <68801d84.170a0220.18c201.11cfSMTPIN_ADDED_MISSING@mx.google.com> Received: from [172.21.0.3] (unknown [172.18.0.240]) by postal.iol.unh.edu (Postfix) with ESMTP id D337E6051830; Tue, 22 Jul 2025 19:23:47 -0400 (EDT) Subject: |SUCCESS| pw155426-155427 [PATCH] [v3,2/2] test/strsep: add tests fo From: dpdklab@iol.unh.edu To: Test Report Cc: dpdk-test-reports@iol.unh.edu In-Reply-To: <1753202334-27615-2-git-send-email-andremue@linux.microsoft.com> References: <1753202334-27615-2-git-send-email-andremue@linux.microsoft.com> Content-Type: text/plain X-BeenThere: test-report@dpdk.org X-Mailman-Version: 2.1.29 Precedence: list List-Id: automatic DPDK test reports List-Unsubscribe: , List-Archive: List-Post: List-Help: List-Subscribe: , Errors-To: test-report-bounces@dpdk.org Test-Label: iol-abi-testing Test-Status: SUCCESS http://dpdk.org/patch/155427 _Testing PASS_ Submitter: Andre Muezerie Date: Tuesday, July 22 2025 16:38:54 DPDK git baseline: Repo:dpdk Branch: master CommitID:b222395561638f89562e4ef42e1eabf2d6db43dd 155426-155427 --> testing pass Upstream job id: Generic-DPDK-Compile-ABI#135308 Test environment and result as below: +-------------------------------+----------+ | Environment | abi_test | +===============================+==========+ | Debian GNU/Linux 12 | PASS | +-------------------------------+----------+ | Fedora Linux 40 | PASS | +-------------------------------+----------+ | CentOS Stream 10 | PASS | +-------------------------------+----------+ | CentOS Stream 9 | PASS | +-------------------------------+----------+ | Fedora Linux 41 | PASS | +-------------------------------+----------+ | Ubuntu 24.04 | PASS | +-------------------------------+----------+ | Red Hat Enterprise Linux 8.10 | PASS | +-------------------------------+----------+ | Red Hat Enterprise Linux 9.5 | PASS | +-------------------------------+----------+ | openSUSE Leap 15.6 | PASS | +-------------------------------+----------+ | Ubuntu 22.04 | PASS | +-------------------------------+----------+ Debian GNU/Linux 12 Kernel: 5.15 Compiler: gcc gcc (Debian 12.2.0-14+deb12u1) 12.2.0 Fedora Linux 40 Kernel: 5.15 Compiler: clang gcc (GCC) 14.2.1 20240912 (Red Hat 14.2.1-3) CentOS Stream 10 Kernel: 5.15 Compiler: gcc gcc (GCC) 14.2.1 20250110 (Red Hat 14.2.1-8) CentOS Stream 9 Kernel: 5.15 Compiler: gcc gcc (GCC) 11.5.0 20240719 (Red Hat 11.5.0-7) Fedora Linux 41 Kernel: 5.15 Compiler: clang gcc (GCC) 14.3.1 20250523 (Red Hat 14.3.1-1) Ubuntu 24.04 Kernel: 5.15 Compiler: gcc gcc (Ubuntu 13.3.0-6ubuntu2~24.04) 13.3.0 Red Hat Enterprise Linux 8.10 Kernel: 5.15 Compiler: gcc gcc (GCC) 8.5.0 20210514 (Red Hat 8.5.0-22) Red Hat Enterprise Linux 9.5 Kernel: 5.15 Compiler: gcc gcc (GCC) 11.5.0 20240719 (Red Hat 11.5.0-2) openSUSE Leap 15.6 Kernel: 5.15 Compiler: gcc gcc (SUSE Linux) 7.5.0 Ubuntu 22.04 Kernel: 5.15 Compiler: gcc gcc (Ubuntu 11.4.0-1ubuntu1~22.04) 11.4.0 To view detailed results, visit: https://lab.dpdk.org/results/dashboard/patchsets/33726/ UNH-IOL DPDK Community Lab To manage your email subscriptions, visit: https://lab.dpdk.org/results/dashboard/preferences/subscriptions/