From mboxrd@z Thu Jan 1 00:00:00 1970 Return-Path: Received: from mails.dpdk.org (mails.dpdk.org [217.70.189.124]) by inbox.dpdk.org (Postfix) with ESMTP id AE34A46BE9 for ; Wed, 23 Jul 2025 01:25:05 +0200 (CEST) Received: from mails.dpdk.org (localhost [127.0.0.1]) by mails.dpdk.org (Postfix) with ESMTP id AA100402D2; Wed, 23 Jul 2025 01:25:05 +0200 (CEST) Received: from mail-qk1-f226.google.com (mail-qk1-f226.google.com [209.85.222.226]) by mails.dpdk.org (Postfix) with ESMTP id 35CD8402D2 for ; Wed, 23 Jul 2025 01:25:04 +0200 (CEST) Received: by mail-qk1-f226.google.com with SMTP id af79cd13be357-7e2c1dc6567so379964285a.1 for ; Tue, 22 Jul 2025 16:25:04 -0700 (PDT) DKIM-Signature: v=1; a=rsa-sha256; c=relaxed/relaxed; d=iol.unh.edu; s=unh-iol; t=1753226703; x=1753831503; darn=dpdk.org; h=references:in-reply-to:cc:to:from:subject:message-id:date:from:to :cc:subject:date:message-id:reply-to; bh=FyHiK7bGkpqlIHcRtB4ETaCmB9oiG9KWZLdGJPhBZT0=; b=AIlGNTjFc5JPZ0FtCsfxodWPaq+Nb5qTfK8lyqkCGhGClViB3lZS9eTG3gKnmDYTXW L7LRdG+plmjUYKbXmHAMIDU0w5bn4ceWqGZw18ojRIa5tkSLAGa8w4A0wvGMD8LAQo7d dLstghSQ48pkR7GER7sOXK7asUldlG+SbguSY= X-Google-DKIM-Signature: v=1; a=rsa-sha256; c=relaxed/relaxed; d=1e100.net; s=20230601; t=1753226703; x=1753831503; h=references:in-reply-to:cc:to:from:subject:message-id:date :x-gm-message-state:from:to:cc:subject:date:message-id:reply-to; bh=FyHiK7bGkpqlIHcRtB4ETaCmB9oiG9KWZLdGJPhBZT0=; b=jEgjKjMLND7jnOPH2dH8DO4jB6HMwudi5Jay2iXRMBBa03Nn6qFCgnEz0GwhtBYKvf dW9vGFs2Dg58HBQ8dhGEktFXBjDcT1H0xP33ofWtfuIZuiGg72EoPhTD1tRfN8WaZuBz in5CNpLIbAZGeJ5YL0jcwUvVJGyip75PqM1ReH9tsT8FhyC/ritBTAifU4iBoGa4DdKY ICqWrMjpTjCzfANtiexwvu0DhqrMI9NUETJwsi1Uok8btomqWkrYmdDw8ud4w6H8IIaC TqeGV3QC/FjDWnN1y22Nqh5cOyAa2amRhPvn4e8RllRIFrhJKa6qyfCGCGev2KUXBlL/ z+hw== X-Gm-Message-State: AOJu0YycROB5epEbAxk8jcttx5bjOkpCcB15SzJF3SrhiMOzLHKaC1sN d+8stUnlIvfRkAOUqQ8AVTLXDEjKGC1ukZ79UQq0wW0oR8GxI5ja34NqheiqKuOsgE+AuHdwHZp hpQbKJVjvD5Dd6eZz6P7OLgKsE+CNoacKl9a3cBrpsmRK X-Gm-Gg: ASbGncu77whSyZfYXosIzOuRsPXsZFhkiM+JSvaTJPAvsTxwT2BT+zGuWTBLR+0tymJ aA4JFnxzDOwqSlxdIhfs5KJDAPBJ827WFJWJEeUWXDBBw7NfHVL86q3wyJojoxEYQE2J92XoFg9 VkCmiZupIGAC5ntnRvA0Pl1LsUYVaeNRbi0Row52aai8399JAIPEvJv5ub/+SLnSeCbq8G71myZ R0grBeXGlgvDi67aAtIkKZvzPLdLaJ9qgQPlzZMksmpgkICKqLGvWYP+A7Pk/ut62rJ46pUfPdV vxmBSrOTJkKs6xJ2+p7MzKwPjagplyq3HWvxLYdDqfU76qpyhJqqu6T/NfY2hMGt1KShQ8QK X-Google-Smtp-Source: AGHT+IE4zhNpK+El9e9qMRVoVIv8gChbfrxw5bAzIuT2pbiVWnsA7IOcN+qP6siMhSNuFikQL5CNvj867lsI X-Received: by 2002:a05:620a:6910:b0:7e3:47e6:a842 with SMTP id af79cd13be357-7e629fedd2dmr159121385a.0.1753226703566; Tue, 22 Jul 2025 16:25:03 -0700 (PDT) Received: from postal.iol.unh.edu (postal.iol.unh.edu. [132.177.123.84]) by smtp-relay.gmail.com with ESMTPS id 6a1803df08f44-7051ba78c70sm5531046d6.21.2025.07.22.16.25.03 (version=TLS1_2 cipher=ECDHE-ECDSA-AES128-GCM-SHA256 bits=128/128); Tue, 22 Jul 2025 16:25:03 -0700 (PDT) X-Relaying-Domain: iol.unh.edu Date: Tue, 22 Jul 2025 16:25:03 -0700 (PDT) Message-ID: <68801dcf.050a0220.102118.c0c2SMTPIN_ADDED_MISSING@mx.google.com> Received: from [172.21.0.2] (unknown [172.18.0.240]) by postal.iol.unh.edu (Postfix) with ESMTP id 56D6E6051830; Tue, 22 Jul 2025 19:25:03 -0400 (EDT) Subject: |SUCCESS| pw155426-155427 [PATCH] [v3,2/2] test/strsep: add tests fo From: dpdklab@iol.unh.edu To: Test Report Cc: dpdk-test-reports@iol.unh.edu In-Reply-To: <1753202334-27615-2-git-send-email-andremue@linux.microsoft.com> References: <1753202334-27615-2-git-send-email-andremue@linux.microsoft.com> Content-Type: text/plain X-BeenThere: test-report@dpdk.org X-Mailman-Version: 2.1.29 Precedence: list List-Id: automatic DPDK test reports List-Unsubscribe: , List-Archive: List-Post: List-Help: List-Subscribe: , Errors-To: test-report-bounces@dpdk.org Test-Label: iol-abi-testing Test-Status: SUCCESS http://dpdk.org/patch/155427 _Testing PASS_ Submitter: Andre Muezerie Date: Tuesday, July 22 2025 16:38:54 DPDK git baseline: Repo:dpdk Branch: master CommitID:b222395561638f89562e4ef42e1eabf2d6db43dd 155426-155427 --> testing pass Upstream job id: Generic-DPDK-Compile-ABI#135312 Test environment and result as below: +-------------------------------+----------+ | Environment | abi_test | +===============================+==========+ | Debian GNU/Linux 12 | PASS | +-------------------------------+----------+ | Fedora Linux 40 | PASS | +-------------------------------+----------+ | CentOS Stream 10 | PASS | +-------------------------------+----------+ | CentOS Stream 9 | PASS | +-------------------------------+----------+ | Fedora Linux 41 | PASS | +-------------------------------+----------+ | Ubuntu 24.04 | PASS | +-------------------------------+----------+ | Red Hat Enterprise Linux 8.10 | PASS | +-------------------------------+----------+ | Red Hat Enterprise Linux 9.5 | PASS | +-------------------------------+----------+ | openSUSE Leap 15.6 | PASS | +-------------------------------+----------+ | Ubuntu 22.04 | PASS | +-------------------------------+----------+ Debian GNU/Linux 12 Kernel: 5.15 Compiler: gcc gcc (Debian 12.2.0-14+deb12u1) 12.2.0 Fedora Linux 40 Kernel: 5.15 Compiler: clang gcc (GCC) 14.2.1 20240912 (Red Hat 14.2.1-3) CentOS Stream 10 Kernel: 5.15 Compiler: gcc gcc (GCC) 14.2.1 20250110 (Red Hat 14.2.1-8) CentOS Stream 9 Kernel: 5.15 Compiler: gcc gcc (GCC) 11.5.0 20240719 (Red Hat 11.5.0-7) Fedora Linux 41 Kernel: 5.15 Compiler: clang gcc (GCC) 14.3.1 20250523 (Red Hat 14.3.1-1) Ubuntu 24.04 Kernel: 5.15 Compiler: gcc gcc (Ubuntu 13.3.0-6ubuntu2~24.04) 13.3.0 Red Hat Enterprise Linux 8.10 Kernel: 5.15 Compiler: gcc gcc (GCC) 8.5.0 20210514 (Red Hat 8.5.0-22) Red Hat Enterprise Linux 9.5 Kernel: 5.15 Compiler: gcc gcc (GCC) 11.5.0 20240719 (Red Hat 11.5.0-2) openSUSE Leap 15.6 Kernel: 5.15 Compiler: gcc gcc (SUSE Linux) 7.5.0 Ubuntu 22.04 Kernel: 5.15 Compiler: gcc gcc (Ubuntu 11.4.0-1ubuntu1~22.04) 11.4.0 To view detailed results, visit: https://lab.dpdk.org/results/dashboard/patchsets/33726/ UNH-IOL DPDK Community Lab To manage your email subscriptions, visit: https://lab.dpdk.org/results/dashboard/preferences/subscriptions/