From mboxrd@z Thu Jan 1 00:00:00 1970 Return-Path: Received: from mails.dpdk.org (mails.dpdk.org [217.70.189.124]) by inbox.dpdk.org (Postfix) with ESMTP id 7047546BE9 for ; Wed, 23 Jul 2025 01:28:50 +0200 (CEST) Received: from mails.dpdk.org (localhost [127.0.0.1]) by mails.dpdk.org (Postfix) with ESMTP id 69B23402D2; Wed, 23 Jul 2025 01:28:50 +0200 (CEST) Received: from mail-il1-f226.google.com (mail-il1-f226.google.com [209.85.166.226]) by mails.dpdk.org (Postfix) with ESMTP id 663EF402D2 for ; Wed, 23 Jul 2025 01:28:49 +0200 (CEST) Received: by mail-il1-f226.google.com with SMTP id e9e14a558f8ab-3e292dcc066so45364205ab.1 for ; Tue, 22 Jul 2025 16:28:49 -0700 (PDT) DKIM-Signature: v=1; a=rsa-sha256; c=relaxed/relaxed; d=iol.unh.edu; s=unh-iol; t=1753226929; x=1753831729; darn=dpdk.org; h=references:in-reply-to:cc:to:from:subject:message-id:date:from:to :cc:subject:date:message-id:reply-to; bh=wYSCg/pIt0kPvprG6FYQA6vYcf3VpYIZHfMoNItiExc=; b=C0Y2cUrotVqLPGfvi+XwuJ0dcZkvQZU3+Xdc7I257o5fxSn5hjRzMKdexniUtB59zL hIBmuy3HC93LAuRdQ/9b9tz85xkVkVuBp8tpH2xyR/P8IOV2Wat5qEOGsb/ORuYHx9ve KQM91wAodEy4K87s6p4MAL5KeIEZn8TURMchY= X-Google-DKIM-Signature: v=1; a=rsa-sha256; c=relaxed/relaxed; d=1e100.net; s=20230601; t=1753226929; x=1753831729; h=references:in-reply-to:cc:to:from:subject:message-id:date :x-gm-message-state:from:to:cc:subject:date:message-id:reply-to; bh=wYSCg/pIt0kPvprG6FYQA6vYcf3VpYIZHfMoNItiExc=; b=XaN1yvAZu4qqQW/pmlu/4K+Vt+fYBlJ+yXEbdmksHtL2Y8kCXDn/Prt7gTzNkavpLm Xam2qvMjcS4PNWb5Op6/h6kfJg8xJ2J9S7Av4FC4YcoiE/zT4bN8SLOLcwADzVa7jti1 oAOOavjDymGMUmhelzwmqYoCWYQ4CPaO97LX0NfqNUIOQCdj4espwOcLYLAS3YcvhbZ6 l3FOuDv2+KX4Zmk+wzNPcWBl+CwOWO5V0qTCOfQvO4e0MzyDnNb8b+vXMFOnHgK0FVqt g6CsH7as1EUOaVCXnmnJppo9AKURG3H2w/ZD9S1VKigRHxVwODa89Im4hdjBokKpLtDP rMGA== X-Gm-Message-State: AOJu0Yydboj9rGS8sQ35PFcevu8CrBdP/muHGnibZblCYDbL1tPViOx9 kBqhQGj/ztwatjuTsPba/kFy0Tl525uF/MV8WtBxwbuXj95VG78bS09OR8BqAORZuUAR87/fuSy CwgmOL7es6XchR8fZfqo4RI8UoBX8HsPCKb1wzv4Hd8Dn3W8Rfs8dMlNWcCXk X-Gm-Gg: ASbGncvLbOB0D2Fotj7wKH/0BI0roU2MEDcDoq5OJPlGhqGrFYHzV992IeZm/Cb+WQ5 Z5EsUV0NV/MGo+F/m15rUFb0+rjEWz2oeZIEGvs7/+eVgr0WcGBJVqdvqw6FqJA2Tti48oH5A7m 6DQhZPDpCJ3IjuinM0PGlmLhePFaa+CL1vyqc6+rj21LcujVSDzXft/j0nY1brlhqOVTey2PMIF 1ie2mft3b/Zpo7kRj284XJDUc+6cjuZo9JBAFrYaUYbqPIiOBJCetzDbyFjPu/oy2J8dwjmIArk S6Wr/4jBp+3lUqlfXe17ldP3Rcl/Aso6qXkPhT4dUiC11JN23g== X-Google-Smtp-Source: AGHT+IExe7O9hxsNTlrc1V4ATWZL5URgEVjndc18jslIz+J7kAyhcxR5ZoEVvO5Q/wbsirMi4oQHu9iwVivY X-Received: by 2002:a05:6e02:3184:b0:3e2:8172:25e3 with SMTP id e9e14a558f8ab-3e3354e30f8mr18184205ab.14.1753226928691; Tue, 22 Jul 2025 16:28:48 -0700 (PDT) Received: from postal.iol.unh.edu (postal.iol.unh.edu. [2606:4100:3880:1234::84]) by smtp-relay.gmail.com with ESMTPS id e9e14a558f8ab-3e298379030sm6686105ab.52.2025.07.22.16.28.48 (version=TLS1_2 cipher=ECDHE-ECDSA-AES128-GCM-SHA256 bits=128/128); Tue, 22 Jul 2025 16:28:48 -0700 (PDT) X-Relaying-Domain: iol.unh.edu Date: Tue, 22 Jul 2025 16:28:48 -0700 (PDT) Message-ID: <68801eb0.050a0220.133f49.2bb0SMTPIN_ADDED_MISSING@mx.google.com> Received: from [172.21.0.2] (unknown [172.18.0.240]) by postal.iol.unh.edu (Postfix) with ESMTP id 3FCD46051830; Tue, 22 Jul 2025 19:28:48 -0400 (EDT) Subject: |SUCCESS| pw155431-155432 [PATCH] [v1,2/2] dts: add exception handli From: dpdklab@iol.unh.edu To: Test Report Cc: dpdk-test-reports@iol.unh.edu In-Reply-To: <20250722172214.202308-2-dmarx@iol.unh.edu> References: <20250722172214.202308-2-dmarx@iol.unh.edu> Content-Type: text/plain X-BeenThere: test-report@dpdk.org X-Mailman-Version: 2.1.29 Precedence: list List-Id: automatic DPDK test reports List-Unsubscribe: , List-Archive: List-Post: List-Help: List-Subscribe: , Errors-To: test-report-bounces@dpdk.org Test-Label: iol-abi-testing Test-Status: SUCCESS http://dpdk.org/patch/155432 _Testing PASS_ Submitter: Dean Marx Date: Tuesday, July 22 2025 17:22:14 DPDK git baseline: Repo:dpdk Branch: master CommitID:f8fb19d5e2fc20798ed0caa292a1538fbbd98f96 155431-155432 --> testing pass Upstream job id: Generic-DPDK-Compile-ABI#135333 Test environment and result as below: +-------------------------------+----------+ | Environment | abi_test | +===============================+==========+ | CentOS Stream 9 | PASS | +-------------------------------+----------+ | Debian GNU/Linux 12 | PASS | +-------------------------------+----------+ | CentOS Stream 10 | PASS | +-------------------------------+----------+ | Fedora Linux 40 | PASS | +-------------------------------+----------+ | Fedora Linux 41 | PASS | +-------------------------------+----------+ | openSUSE Leap 15.6 | PASS | +-------------------------------+----------+ | Red Hat Enterprise Linux 8.10 | PASS | +-------------------------------+----------+ | Red Hat Enterprise Linux 9.5 | PASS | +-------------------------------+----------+ | Ubuntu 22.04 | PASS | +-------------------------------+----------+ | Ubuntu 24.04 | PASS | +-------------------------------+----------+ CentOS Stream 9 Kernel: 5.15 Compiler: gcc gcc (GCC) 11.5.0 20240719 (Red Hat 11.5.0-7) Debian GNU/Linux 12 Kernel: 5.15 Compiler: gcc gcc (Debian 12.2.0-14+deb12u1) 12.2.0 CentOS Stream 10 Kernel: 5.15 Compiler: gcc gcc (GCC) 14.2.1 20250110 (Red Hat 14.2.1-8) Fedora Linux 40 Kernel: 5.15 Compiler: clang gcc (GCC) 14.2.1 20240912 (Red Hat 14.2.1-3) Fedora Linux 41 Kernel: 5.15 Compiler: clang gcc (GCC) 14.3.1 20250523 (Red Hat 14.3.1-1) openSUSE Leap 15.6 Kernel: 5.15 Compiler: gcc gcc (SUSE Linux) 7.5.0 Red Hat Enterprise Linux 8.10 Kernel: 5.15 Compiler: gcc gcc (GCC) 8.5.0 20210514 (Red Hat 8.5.0-22) Red Hat Enterprise Linux 9.5 Kernel: 5.15 Compiler: gcc gcc (GCC) 11.5.0 20240719 (Red Hat 11.5.0-2) Ubuntu 22.04 Kernel: 5.15 Compiler: gcc gcc (Ubuntu 11.4.0-1ubuntu1~22.04) 11.4.0 Ubuntu 24.04 Kernel: 5.15 Compiler: gcc gcc (Ubuntu 13.3.0-6ubuntu2~24.04) 13.3.0 To view detailed results, visit: https://lab.dpdk.org/results/dashboard/patchsets/33729/ UNH-IOL DPDK Community Lab To manage your email subscriptions, visit: https://lab.dpdk.org/results/dashboard/preferences/subscriptions/