From mboxrd@z Thu Jan 1 00:00:00 1970 Return-Path: Received: from mails.dpdk.org (mails.dpdk.org [217.70.189.124]) by inbox.dpdk.org (Postfix) with ESMTP id 8096C46BE9 for ; Wed, 23 Jul 2025 01:29:07 +0200 (CEST) Received: from mails.dpdk.org (localhost [127.0.0.1]) by mails.dpdk.org (Postfix) with ESMTP id 7CED0402D2; Wed, 23 Jul 2025 01:29:07 +0200 (CEST) Received: from mail-pj1-f97.google.com (mail-pj1-f97.google.com [209.85.216.97]) by mails.dpdk.org (Postfix) with ESMTP id B14EE402D2 for ; Wed, 23 Jul 2025 01:29:05 +0200 (CEST) Received: by mail-pj1-f97.google.com with SMTP id 98e67ed59e1d1-31332cff2d5so5158937a91.1 for ; Tue, 22 Jul 2025 16:29:05 -0700 (PDT) DKIM-Signature: v=1; a=rsa-sha256; c=relaxed/relaxed; d=iol.unh.edu; s=unh-iol; t=1753226945; x=1753831745; darn=dpdk.org; h=references:in-reply-to:cc:to:from:subject:message-id:date:from:to :cc:subject:date:message-id:reply-to; bh=vpaJ1OecGoB8qdDRdjJbCwODLZ0iaWt675Jp2kgHMWk=; b=YUwASbiTIf3FQwNEJpgODz2SVOkwTjJ4EwkHLT3fN8qMYiZEmUlrQ4NKvn7jqylUJM Yh3sTEiXsGngf4il+7RpvBr07mp+8SbjHgggFaoPgZt9q1ocHRheYHrGm6HhOsnjbaZ0 dI9xM5zUKSpVO6iC78t947m54savhcA9cbcx0= X-Google-DKIM-Signature: v=1; a=rsa-sha256; c=relaxed/relaxed; d=1e100.net; s=20230601; t=1753226945; x=1753831745; h=references:in-reply-to:cc:to:from:subject:message-id:date :x-gm-message-state:from:to:cc:subject:date:message-id:reply-to; bh=vpaJ1OecGoB8qdDRdjJbCwODLZ0iaWt675Jp2kgHMWk=; b=T9D/xTzwxsN7OA0wIbPYcvKeQDJZ3TPEz/0JDXDHyLzOwIs4GzbGAkV89qJdueRfTy j+B7KFpwU8l8X3HHMTQtcBvmyOEBjNRNKr2CMIDdTi23FNc9f6YWRFKPeRlTiNlLh6z9 Z6bx2g1ppMq79e0lez8D6253Kd2iVPMaDLgFNw6y1BPPDrn7U7OidbLgTPPehkMNXoLS JAWoZApHf4shF9gguPF/Pz0JoGncoKB6zyihrWq126bpJt+rhbmWWbWH4d0U8229Q+XF nFWDvP+voo+9cAUGzsf1R1MhoTa7lE0kTkpRnB8QdSCJ3PdT/KjtSu/lYr2wFtINSupK ceiw== X-Gm-Message-State: AOJu0Yz3C2PaVTd0jA6AGhtqsR0uGBklAoserppHgNKM8TwLfd57Szny i/VD9XgQDWfSPOV8Sh9OgVp8mlLzYA2ZoVt1QIgLY2/rcJrW4sip5ToyF34XFQj08tG2zwj9Zjh HDoFQ46TFRZMZ84MwXYhYVxRJ+ysoUY+0YeENLncYAdWd X-Gm-Gg: ASbGncvgCBXniQMWK22Fj2UFFPx6wJjw54k8wKse/QfKs3tazNyWC+/3rAVbeASoyer nLQpenc/8r9e6yxFi57PBsFXB/W5WJjf4PcGo6SgU5HxNIzmn+KjQuBgVpMNVvUDl55pMICjIoF 5id+1HB1BpfjBRSQ21+/OPdU+BtS2phrqv+frIz76xE/niC5kzlauT80KxZL00BBO5lapxfA4dX L2aJUTdFiTM7LsO8NHLyUUcZ1iZIvmcV6+Fj1xL/mTQAe02fL2niYUuu5tykFVJn812XI8VlGDt cnMsYWiWrx9QoAl5D2jkvAl86IFO685BEiu22bTG8gWP3nRHwfvTbxNFkem+nf7rVsC5GD5z X-Google-Smtp-Source: AGHT+IEfcSfGD6RXIybBBYzT1pZZq8VeU3Mj6Jx1LzAZ5DR3lxs/FG3cbxvnQvUq8te3KtkRqx5sWuhcJDYh X-Received: by 2002:a17:90b:1c88:b0:312:e618:bd53 with SMTP id 98e67ed59e1d1-31e507dc96amr1395618a91.26.1753226944853; Tue, 22 Jul 2025 16:29:04 -0700 (PDT) Received: from postal.iol.unh.edu (postal.iol.unh.edu. [132.177.123.84]) by smtp-relay.gmail.com with ESMTPS id 41be03b00d2f7-b3f2ff93e03sm702722a12.26.2025.07.22.16.29.04 (version=TLS1_2 cipher=ECDHE-ECDSA-AES128-GCM-SHA256 bits=128/128); Tue, 22 Jul 2025 16:29:04 -0700 (PDT) X-Relaying-Domain: iol.unh.edu Date: Tue, 22 Jul 2025 16:29:04 -0700 (PDT) Message-ID: <68801ec0.630a0220.3d3e20.3eb9SMTPIN_ADDED_MISSING@mx.google.com> Received: from [172.21.0.3] (unknown [172.18.0.240]) by postal.iol.unh.edu (Postfix) with ESMTP id 27AF26051830; Tue, 22 Jul 2025 19:29:04 -0400 (EDT) Subject: |SUCCESS| pw155431-155432 [PATCH] [v1,2/2] dts: add exception handli From: dpdklab@iol.unh.edu To: Test Report Cc: dpdk-test-reports@iol.unh.edu In-Reply-To: <20250722172214.202308-2-dmarx@iol.unh.edu> References: <20250722172214.202308-2-dmarx@iol.unh.edu> Content-Type: text/plain X-BeenThere: test-report@dpdk.org X-Mailman-Version: 2.1.29 Precedence: list List-Id: automatic DPDK test reports List-Unsubscribe: , List-Archive: List-Post: List-Help: List-Subscribe: , Errors-To: test-report-bounces@dpdk.org Test-Label: iol-abi-testing Test-Status: SUCCESS http://dpdk.org/patch/155432 _Testing PASS_ Submitter: Dean Marx Date: Tuesday, July 22 2025 17:22:14 DPDK git baseline: Repo:dpdk Branch: master CommitID:f8fb19d5e2fc20798ed0caa292a1538fbbd98f96 155431-155432 --> testing pass Upstream job id: Generic-DPDK-Compile-ABI#135336 Test environment and result as below: +-------------------------------+----------+ | Environment | abi_test | +===============================+==========+ | CentOS Stream 9 | PASS | +-------------------------------+----------+ | Debian GNU/Linux 12 | PASS | +-------------------------------+----------+ | CentOS Stream 10 | PASS | +-------------------------------+----------+ | Fedora Linux 40 | PASS | +-------------------------------+----------+ | Fedora Linux 41 | PASS | +-------------------------------+----------+ | openSUSE Leap 15.6 | PASS | +-------------------------------+----------+ | Red Hat Enterprise Linux 8.10 | PASS | +-------------------------------+----------+ | Red Hat Enterprise Linux 9.5 | PASS | +-------------------------------+----------+ | Ubuntu 22.04 | PASS | +-------------------------------+----------+ | Ubuntu 24.04 | PASS | +-------------------------------+----------+ CentOS Stream 9 Kernel: 5.15 Compiler: gcc gcc (GCC) 11.5.0 20240719 (Red Hat 11.5.0-7) Debian GNU/Linux 12 Kernel: 5.15 Compiler: gcc gcc (Debian 12.2.0-14+deb12u1) 12.2.0 CentOS Stream 10 Kernel: 5.15 Compiler: gcc gcc (GCC) 14.2.1 20250110 (Red Hat 14.2.1-8) Fedora Linux 40 Kernel: 5.15 Compiler: clang gcc (GCC) 14.2.1 20240912 (Red Hat 14.2.1-3) Fedora Linux 41 Kernel: 5.15 Compiler: clang gcc (GCC) 14.3.1 20250523 (Red Hat 14.3.1-1) openSUSE Leap 15.6 Kernel: 5.15 Compiler: gcc gcc (SUSE Linux) 7.5.0 Red Hat Enterprise Linux 8.10 Kernel: 5.15 Compiler: gcc gcc (GCC) 8.5.0 20210514 (Red Hat 8.5.0-22) Red Hat Enterprise Linux 9.5 Kernel: 5.15 Compiler: gcc gcc (GCC) 11.5.0 20240719 (Red Hat 11.5.0-2) Ubuntu 22.04 Kernel: 5.15 Compiler: gcc gcc (Ubuntu 11.4.0-1ubuntu1~22.04) 11.4.0 Ubuntu 24.04 Kernel: 5.15 Compiler: gcc gcc (Ubuntu 13.3.0-6ubuntu2~24.04) 13.3.0 To view detailed results, visit: https://lab.dpdk.org/results/dashboard/patchsets/33729/ UNH-IOL DPDK Community Lab To manage your email subscriptions, visit: https://lab.dpdk.org/results/dashboard/preferences/subscriptions/