From mboxrd@z Thu Jan 1 00:00:00 1970 Return-Path: Received: from mails.dpdk.org (mails.dpdk.org [217.70.189.124]) by inbox.dpdk.org (Postfix) with ESMTP id 8CF9246BE9 for ; Wed, 23 Jul 2025 01:29:15 +0200 (CEST) Received: from mails.dpdk.org (localhost [127.0.0.1]) by mails.dpdk.org (Postfix) with ESMTP id 8838D402D2; Wed, 23 Jul 2025 01:29:15 +0200 (CEST) Received: from mail-qv1-f100.google.com (mail-qv1-f100.google.com [209.85.219.100]) by mails.dpdk.org (Postfix) with ESMTP id 36799402D2 for ; Wed, 23 Jul 2025 01:29:14 +0200 (CEST) Received: by mail-qv1-f100.google.com with SMTP id 6a1803df08f44-6fad3400ea3so56283466d6.0 for ; Tue, 22 Jul 2025 16:29:14 -0700 (PDT) DKIM-Signature: v=1; a=rsa-sha256; c=relaxed/relaxed; d=iol.unh.edu; s=unh-iol; t=1753226953; x=1753831753; darn=dpdk.org; h=references:in-reply-to:cc:to:from:subject:message-id:date:from:to :cc:subject:date:message-id:reply-to; bh=Yj/ZPGUKjbXtrLDURoB+Rc/oHX5WN/3RpJytSCZojYE=; b=ATUDlxSOESVhRlLO+Pk8rn9N0aZx/u24jtErzgucaca2/Wm2NyUu8eOS6MnAqUUXH3 l+j3mQoTIZ9D9vFNl1bDCZ2QC1WoqxubDzsECq7VGxnHeTioJGbUnW/vwQgAB1TCLMJt RR4Nl46ku6L6sYVj3kH5KYB1Nvg2Z/mLTGYG4= X-Google-DKIM-Signature: v=1; a=rsa-sha256; c=relaxed/relaxed; d=1e100.net; s=20230601; t=1753226953; x=1753831753; h=references:in-reply-to:cc:to:from:subject:message-id:date :x-gm-message-state:from:to:cc:subject:date:message-id:reply-to; bh=Yj/ZPGUKjbXtrLDURoB+Rc/oHX5WN/3RpJytSCZojYE=; b=a5zWeB21/tmf2nyUb3QMczAQ1UWOpc2dlll1anNe3NFSN6Mo+jDvEhRVOFHsNVeHuu AA6zb3lxqlMgMObWI7IU2It+8x1TxodXmsx3DtZcHjBDx7HCRd1OvL1UrikFiNtOu8Sy u/QP4GI0qTg4fysT6a1RGiM3R/zY2lmLwSNNYgFl7m6w/oeHNBKygJfaLjvkSseMs9P9 OpFuP6yX+TAdniIe+S/FFOORsR5laMltapIn65nuOSAksJutA+qb8Y8XCbTp9m8xAmeB MjfA5TxgsJEcEZOX2BInshuig0LXqxYpmkO79slS6+PLnQWf+ffrEnL/dBgQK+NLF17Z 4apQ== X-Gm-Message-State: AOJu0YxNNGAjqhDCcIrEtfkJlSS/+us9WMTjZhtUh/WsuNS1x1rLcOFS ecpvepSRWoWeHsPATHVDS6fkKryGeZbl55GOWu1kZi57zW43OzrxSHqN5tclaCg7TavPPm07Wf6 RgCW1anJejSG7F2GK8KGH9I3TlcH0Wr9+PweZ3I+Rypgs X-Gm-Gg: ASbGnct/ZlgXbxhl7jHU7vTWqEbWvC9whUOYsTTrTdYHk+Y2LLyesGx4Fk6P8QuwssD dW6kfEcyW6/VZ3ZBTdphuDtQ8jbqUglZ1wpg0+cYhJb68jXYZ+07wEALNV985PW/8wDSgVvGzwc kVOjmAzU7lSOcyJiNG02Q0NwDzaIW6+8ck8QpNbK1MBOGxpwt5EfMfWW4CUSb3F0TT+dT+CmpY1 0OjSEIFdU/Quadvz7n4efiRBIsjjNPqFBZcNPXRPQJ01yDfDwoupvWT9dSMDnvszrSE1SiLD50T gjPSiMIleTkzwHyslE61IRi8O6CYKJFTCEOViCmPmlETPIuAucPzKKnGxRs2dxEI0ZQtNbld X-Google-Smtp-Source: AGHT+IEDOJgJqKJBLCwHRKVPgnWPzEeoO5z8rV/e/AbHnKegHD7/vr9zLGoyYYxHHfjf5nHoFgOum2oh/F24 X-Received: by 2002:a05:6214:27c9:b0:702:da74:d022 with SMTP id 6a1803df08f44-70700729c8amr16395876d6.35.1753226953589; Tue, 22 Jul 2025 16:29:13 -0700 (PDT) Received: from postal.iol.unh.edu (postal.iol.unh.edu. [132.177.123.84]) by smtp-relay.gmail.com with ESMTPS id 6a1803df08f44-7051bd274eesm5708546d6.45.2025.07.22.16.29.13 (version=TLS1_2 cipher=ECDHE-ECDSA-AES128-GCM-SHA256 bits=128/128); Tue, 22 Jul 2025 16:29:13 -0700 (PDT) X-Relaying-Domain: iol.unh.edu Date: Tue, 22 Jul 2025 16:29:13 -0700 (PDT) Message-ID: <68801ec9.050a0220.3a7579.d3c2SMTPIN_ADDED_MISSING@mx.google.com> Received: from [172.21.0.2] (unknown [172.18.0.240]) by postal.iol.unh.edu (Postfix) with ESMTP id 523396051830; Tue, 22 Jul 2025 19:29:13 -0400 (EDT) Subject: |SUCCESS| pw155431-155432 [PATCH] [v1,2/2] dts: add exception handli From: dpdklab@iol.unh.edu To: Test Report Cc: dpdk-test-reports@iol.unh.edu In-Reply-To: <20250722172214.202308-2-dmarx@iol.unh.edu> References: <20250722172214.202308-2-dmarx@iol.unh.edu> Content-Type: text/plain X-BeenThere: test-report@dpdk.org X-Mailman-Version: 2.1.29 Precedence: list List-Id: automatic DPDK test reports List-Unsubscribe: , List-Archive: List-Post: List-Help: List-Subscribe: , Errors-To: test-report-bounces@dpdk.org Test-Label: iol-abi-testing Test-Status: SUCCESS http://dpdk.org/patch/155432 _Testing PASS_ Submitter: Dean Marx Date: Tuesday, July 22 2025 17:22:14 DPDK git baseline: Repo:dpdk Branch: master CommitID:f8fb19d5e2fc20798ed0caa292a1538fbbd98f96 155431-155432 --> testing pass Upstream job id: Generic-DPDK-Compile-ABI#135340 Test environment and result as below: +-------------------------------+----------+ | Environment | abi_test | +===============================+==========+ | CentOS Stream 9 | PASS | +-------------------------------+----------+ | Debian GNU/Linux 12 | PASS | +-------------------------------+----------+ | CentOS Stream 10 | PASS | +-------------------------------+----------+ | Fedora Linux 40 | PASS | +-------------------------------+----------+ | Fedora Linux 41 | PASS | +-------------------------------+----------+ | openSUSE Leap 15.6 | PASS | +-------------------------------+----------+ | Red Hat Enterprise Linux 8.10 | PASS | +-------------------------------+----------+ | Red Hat Enterprise Linux 9.5 | PASS | +-------------------------------+----------+ | Ubuntu 22.04 | PASS | +-------------------------------+----------+ | Ubuntu 24.04 | PASS | +-------------------------------+----------+ CentOS Stream 9 Kernel: 5.15 Compiler: gcc gcc (GCC) 11.5.0 20240719 (Red Hat 11.5.0-7) Debian GNU/Linux 12 Kernel: 5.15 Compiler: gcc gcc (Debian 12.2.0-14+deb12u1) 12.2.0 CentOS Stream 10 Kernel: 5.15 Compiler: gcc gcc (GCC) 14.2.1 20250110 (Red Hat 14.2.1-8) Fedora Linux 40 Kernel: 5.15 Compiler: clang gcc (GCC) 14.2.1 20240912 (Red Hat 14.2.1-3) Fedora Linux 41 Kernel: 5.15 Compiler: clang gcc (GCC) 14.3.1 20250523 (Red Hat 14.3.1-1) openSUSE Leap 15.6 Kernel: 5.15 Compiler: gcc gcc (SUSE Linux) 7.5.0 Red Hat Enterprise Linux 8.10 Kernel: 5.15 Compiler: gcc gcc (GCC) 8.5.0 20210514 (Red Hat 8.5.0-22) Red Hat Enterprise Linux 9.5 Kernel: 5.15 Compiler: gcc gcc (GCC) 11.5.0 20240719 (Red Hat 11.5.0-2) Ubuntu 22.04 Kernel: 5.15 Compiler: gcc gcc (Ubuntu 11.4.0-1ubuntu1~22.04) 11.4.0 Ubuntu 24.04 Kernel: 5.15 Compiler: gcc gcc (Ubuntu 13.3.0-6ubuntu2~24.04) 13.3.0 To view detailed results, visit: https://lab.dpdk.org/results/dashboard/patchsets/33729/ UNH-IOL DPDK Community Lab To manage your email subscriptions, visit: https://lab.dpdk.org/results/dashboard/preferences/subscriptions/