From mboxrd@z Thu Jan 1 00:00:00 1970 Return-Path: Received: from mails.dpdk.org (mails.dpdk.org [217.70.189.124]) by inbox.dpdk.org (Postfix) with ESMTP id BA2B846BE9 for ; Wed, 23 Jul 2025 01:30:12 +0200 (CEST) Received: from mails.dpdk.org (localhost [127.0.0.1]) by mails.dpdk.org (Postfix) with ESMTP id B1F00402D2; Wed, 23 Jul 2025 01:30:12 +0200 (CEST) Received: from mail-il1-f226.google.com (mail-il1-f226.google.com [209.85.166.226]) by mails.dpdk.org (Postfix) with ESMTP id 62170402D2 for ; Wed, 23 Jul 2025 01:30:11 +0200 (CEST) Received: by mail-il1-f226.google.com with SMTP id e9e14a558f8ab-3e2c547bc90so10099425ab.2 for ; Tue, 22 Jul 2025 16:30:11 -0700 (PDT) DKIM-Signature: v=1; a=rsa-sha256; c=relaxed/relaxed; d=iol.unh.edu; s=unh-iol; t=1753227011; x=1753831811; darn=dpdk.org; h=references:in-reply-to:cc:to:from:subject:message-id:date:from:to :cc:subject:date:message-id:reply-to; bh=t9rKlkoROHOSQhbMesJKHpZoxaXuP6mMAal4nOyshUE=; b=C9YtIW7IL6W7WZ+EVMadYFK1pnLf1s4n2wXXvPoqRQ6ugLxxWP1o3ZM7K2BZg6mndn NzmmtKbPy63EpjYDl1fdbGj91Y7TID8WBn+yZHRKvdgmfDFmfwxOzJaTcFrtJR/drE8h PGU83sOq7JlElBwK+38Y/5ewndMve3RKvknvo= X-Google-DKIM-Signature: v=1; a=rsa-sha256; c=relaxed/relaxed; d=1e100.net; s=20230601; t=1753227011; x=1753831811; h=references:in-reply-to:cc:to:from:subject:message-id:date :x-gm-message-state:from:to:cc:subject:date:message-id:reply-to; bh=t9rKlkoROHOSQhbMesJKHpZoxaXuP6mMAal4nOyshUE=; b=C7tB5yGZZgbDuDlzsjiu2nGBHQbN18stzP51IsDtYSHIJVKux4IA8YXEB1EgLxX3tU cJd6aDBwdOISnFT3JyJEU6bvqtzWx7jfzozhXg4hRmK6L6l1LMFcS4V5VPYiDuE5BUnD 4hDRs29STyZy+DhG9GNRm8Kj6AUyxTYIGmwFAOH0qw8HYC/5rI1nHgjozhVBMbtGCS3Y 7i1LE1MIhAZNd72iShTqtoFppFbrSmrhyiBsrfH+UooNll0TSL0ebrZDFtDX62yQvarH GJbjfCoPQb79AdIJH+CKa2WDuAstWmVR8b6fYQdgkWFDTlP9tMNuF0jsVmPirzfBpAyn kTwg== X-Gm-Message-State: AOJu0YxWpBCKmn6AbAAdZrTHFo2zXtf13KLl4E6m9HIpWuw84TG40eAC h844FajJuTO/ON7IH8T07B4kVfIJ+IDlCvv2E6cdT8730ZGz7wg/DbAXbor1BdogtcPoEYW/xpC kQkbMmK/VdUV+doSspyl4Np2W8CM2H9OJDJW4Z+hrJUPxS5Dd/DzpSFfD5TIc X-Gm-Gg: ASbGncupbB4eaSBWMaCxrTLek//ZDqHpeD3X4bsvA8KzUubQeAfBVZcp/HcQSecYIDX 6ajhSqcXPtycx82tuvuhmkFCKIYGqw1WoUh3JgZfScDy/mrfBK/or9IjX3leycKjnjs1rH352tm /lNOLXTmAsOBiFNZoCf0x4B0dng/+iBiForTTwITRnPowJTciZ+mzr1XVaiq4tD29Wlhw+E8sz+ BTRrip+se6OW2hHz+MPMBnKB93WZ5AJckXp7VGEWQ9DHy1SyOXfoqZQxAQPuDv52NTZQFlnVoBr qjUCalApx60G9pFC2lC4uqxlpDxC3ReWqIL2oBTx1iY0BbRZvw== X-Google-Smtp-Source: AGHT+IGO2NMABB79kM237NP540bSYqV/K2KtrUwACMDpR/OJEm5CIlMkkuoIeO+OGF7YTn7BnEwtwV0z86mH X-Received: by 2002:a05:6e02:3005:b0:3dd:be49:9278 with SMTP id e9e14a558f8ab-3e32989e3b4mr16528925ab.0.1753227010747; Tue, 22 Jul 2025 16:30:10 -0700 (PDT) Received: from postal.iol.unh.edu (postal.iol.unh.edu. [2606:4100:3880:1234::84]) by smtp-relay.gmail.com with ESMTPS id 8926c6da1cb9f-5084c8f4dffsm497597173.39.2025.07.22.16.30.10 (version=TLS1_2 cipher=ECDHE-ECDSA-AES128-GCM-SHA256 bits=128/128); Tue, 22 Jul 2025 16:30:10 -0700 (PDT) X-Relaying-Domain: iol.unh.edu Date: Tue, 22 Jul 2025 16:30:10 -0700 (PDT) Message-ID: <68801f02.050a0220.98616.9330SMTPIN_ADDED_MISSING@mx.google.com> Received: from [172.21.0.5] (unknown [172.18.0.240]) by postal.iol.unh.edu (Postfix) with ESMTP id 452836051830; Tue, 22 Jul 2025 19:30:09 -0400 (EDT) Subject: |SUCCESS| pw155431-155432 [PATCH] [v1,2/2] dts: add exception handli From: dpdklab@iol.unh.edu To: Test Report Cc: dpdk-test-reports@iol.unh.edu In-Reply-To: <20250722172214.202308-2-dmarx@iol.unh.edu> References: <20250722172214.202308-2-dmarx@iol.unh.edu> Content-Type: text/plain X-BeenThere: test-report@dpdk.org X-Mailman-Version: 2.1.29 Precedence: list List-Id: automatic DPDK test reports List-Unsubscribe: , List-Archive: List-Post: List-Help: List-Subscribe: , Errors-To: test-report-bounces@dpdk.org Test-Label: iol-abi-testing Test-Status: SUCCESS http://dpdk.org/patch/155432 _Testing PASS_ Submitter: Dean Marx Date: Tuesday, July 22 2025 17:22:14 DPDK git baseline: Repo:dpdk Branch: master CommitID:f8fb19d5e2fc20798ed0caa292a1538fbbd98f96 155431-155432 --> testing pass Upstream job id: Generic-DPDK-Compile-ABI#135339 Test environment and result as below: +-------------------------------+----------+ | Environment | abi_test | +===============================+==========+ | CentOS Stream 9 | PASS | +-------------------------------+----------+ | Debian GNU/Linux 12 | PASS | +-------------------------------+----------+ | CentOS Stream 10 | PASS | +-------------------------------+----------+ | Fedora Linux 40 | PASS | +-------------------------------+----------+ | Fedora Linux 41 | PASS | +-------------------------------+----------+ | openSUSE Leap 15.6 | PASS | +-------------------------------+----------+ | Red Hat Enterprise Linux 8.10 | PASS | +-------------------------------+----------+ | Red Hat Enterprise Linux 9.5 | PASS | +-------------------------------+----------+ | Ubuntu 22.04 | PASS | +-------------------------------+----------+ | Ubuntu 24.04 | PASS | +-------------------------------+----------+ CentOS Stream 9 Kernel: 5.15 Compiler: gcc gcc (GCC) 11.5.0 20240719 (Red Hat 11.5.0-7) Debian GNU/Linux 12 Kernel: 5.15 Compiler: gcc gcc (Debian 12.2.0-14+deb12u1) 12.2.0 CentOS Stream 10 Kernel: 5.15 Compiler: gcc gcc (GCC) 14.2.1 20250110 (Red Hat 14.2.1-8) Fedora Linux 40 Kernel: 5.15 Compiler: clang gcc (GCC) 14.2.1 20240912 (Red Hat 14.2.1-3) Fedora Linux 41 Kernel: 5.15 Compiler: clang gcc (GCC) 14.3.1 20250523 (Red Hat 14.3.1-1) openSUSE Leap 15.6 Kernel: 5.15 Compiler: gcc gcc (SUSE Linux) 7.5.0 Red Hat Enterprise Linux 8.10 Kernel: 5.15 Compiler: gcc gcc (GCC) 8.5.0 20210514 (Red Hat 8.5.0-22) Red Hat Enterprise Linux 9.5 Kernel: 5.15 Compiler: gcc gcc (GCC) 11.5.0 20240719 (Red Hat 11.5.0-2) Ubuntu 22.04 Kernel: 5.15 Compiler: gcc gcc (Ubuntu 11.4.0-1ubuntu1~22.04) 11.4.0 Ubuntu 24.04 Kernel: 5.15 Compiler: gcc gcc (Ubuntu 13.3.0-6ubuntu2~24.04) 13.3.0 To view detailed results, visit: https://lab.dpdk.org/results/dashboard/patchsets/33729/ UNH-IOL DPDK Community Lab To manage your email subscriptions, visit: https://lab.dpdk.org/results/dashboard/preferences/subscriptions/