From mboxrd@z Thu Jan 1 00:00:00 1970 Return-Path: Received: from mails.dpdk.org (mails.dpdk.org [217.70.189.124]) by inbox.dpdk.org (Postfix) with ESMTP id C6B4546BE9 for ; Wed, 23 Jul 2025 01:30:23 +0200 (CEST) Received: from mails.dpdk.org (localhost [127.0.0.1]) by mails.dpdk.org (Postfix) with ESMTP id C1DA4402D2; Wed, 23 Jul 2025 01:30:23 +0200 (CEST) Received: from mail-yb1-f227.google.com (mail-yb1-f227.google.com [209.85.219.227]) by mails.dpdk.org (Postfix) with ESMTP id 8B1E5402D2 for ; Wed, 23 Jul 2025 01:30:22 +0200 (CEST) Received: by mail-yb1-f227.google.com with SMTP id 3f1490d57ef6-e7311e66a8eso5011758276.2 for ; Tue, 22 Jul 2025 16:30:22 -0700 (PDT) DKIM-Signature: v=1; a=rsa-sha256; c=relaxed/relaxed; d=iol.unh.edu; s=unh-iol; t=1753227022; x=1753831822; darn=dpdk.org; h=references:in-reply-to:cc:to:from:subject:message-id:date:from:to :cc:subject:date:message-id:reply-to; bh=2antBB5T1OwTd8lNir/T/K8AWIlMXiIHU8aBF+IU06g=; b=hVlVGbeTvH3rQ5qeAipOjKh2b9f1oV2x11QGBoWsRdam0bXyay6dpNYI/Q/bRPjenf uzcZzJW1PEMKUUIxx5rtaxZzB38XX/bPIe06BLaS8Yqg17UfwIhzM51sfDq4xuq7Z5vA qT90wrmdAXJuvWPcp8bKR+5a0OZhNlvH8ctD8= X-Google-DKIM-Signature: v=1; a=rsa-sha256; c=relaxed/relaxed; d=1e100.net; s=20230601; t=1753227022; x=1753831822; h=references:in-reply-to:cc:to:from:subject:message-id:date :x-gm-message-state:from:to:cc:subject:date:message-id:reply-to; bh=2antBB5T1OwTd8lNir/T/K8AWIlMXiIHU8aBF+IU06g=; b=tiHZ36iE3K7mZvY7lBXo9ke01lSKkpIV5btiRsrAFxX2jH4swJDyXp1gTfAjedjvEI RyFq7VA0816vFfADfVVEiKHfZJUv7FL56sDaUnV4/cDlLq3lMfcwSkSmaXf7/OWc5/Ex I1+p3a/9D0a7VH5522b+fGAKm624jOcYkgKoXHGL7TehbBQdOqSVol+HQ1wapOCzTXkm B33E5w3Hgp+2qFanTPPr7NDqgk1yTwU6e+TTdEwH6yS55XGMHLiwvhyxhlnAmBtQRcYy JlV0LxkegiQCgNXWsZwhyCTN5uo4EP0OLnvWbSxSjWXpD49pjR/mxqa+vzpJV/RTDmiT seYA== X-Gm-Message-State: AOJu0YzMOFoyq/0I74yMd5IlE7cZdHvs3a5jHSnstLX4wtuiMsnU+oQ+ 6YSZObULO3eUTRmAQK6+OBgM5pGYhsIkoCfOVVRadMbl6mzTu7ORJllcC4toRtYcqHHq9OXjwkX qGZbpFaIh5TwqFVX4YraA7UJf+bxybi5IBkhpz+S35xLVNEKI/TPCP4rQkuXQ X-Gm-Gg: ASbGnctVgFnKk9Cl5WbEbeTVW/wZmso8dB63kSOKWJNl+teOFUwc8sopk4//5JcJNZ5 /bGbZnuXPIAIHJDUlxWi3BXZCgR8Voycsc/w4fjkf22ZB/RQBE9vMu17z5ZdiVoNJjLWiCtxHu5 bMiEsNBvT2EAZy0EVreJZOFwWgLTopE4NeYrf7sOPCbRvhDBiiIWFo6gtljj5U+FqTLZA16kl4g tTSpvdURk2fLwV3tKtSilWkm41n0o3IavEprbJjQJ5yTKEl2ftJW4Ubva+vodI75sxdhHPIxmvm peZu+d5Kv31UNrpECNF/w8RCzL5+cRrFQJE/IBClxs771247Cg== X-Google-Smtp-Source: AGHT+IFkhUA5VJTjmsO8ogYbQ6VG/dY+Srff7HncNP35Oma+Sfrr8UiOw23s8wYUTeHV20veSu+3pgujTlUU X-Received: by 2002:a05:6902:c01:b0:e8b:b411:81cb with SMTP id 3f1490d57ef6-e8dc5872e79mr1571158276.10.1753227021792; Tue, 22 Jul 2025 16:30:21 -0700 (PDT) Received: from postal.iol.unh.edu (postal.iol.unh.edu. [2606:4100:3880:1234::84]) by smtp-relay.gmail.com with ESMTPS id 3f1490d57ef6-e8d7cdd564dsm608561276.16.2025.07.22.16.30.21 (version=TLS1_2 cipher=ECDHE-ECDSA-AES128-GCM-SHA256 bits=128/128); Tue, 22 Jul 2025 16:30:21 -0700 (PDT) X-Relaying-Domain: iol.unh.edu Date: Tue, 22 Jul 2025 16:30:21 -0700 (PDT) Message-ID: <68801f0d.250a0220.2161b.fac1SMTPIN_ADDED_MISSING@mx.google.com> Received: from [172.21.0.2] (unknown [172.18.0.240]) by postal.iol.unh.edu (Postfix) with ESMTP id 73A0D6051830; Tue, 22 Jul 2025 19:30:21 -0400 (EDT) Subject: |SUCCESS| pw155431-155432 [PATCH] [v1,2/2] dts: add exception handli From: dpdklab@iol.unh.edu To: Test Report Cc: dpdk-test-reports@iol.unh.edu In-Reply-To: <20250722172214.202308-2-dmarx@iol.unh.edu> References: <20250722172214.202308-2-dmarx@iol.unh.edu> Content-Type: text/plain X-BeenThere: test-report@dpdk.org X-Mailman-Version: 2.1.29 Precedence: list List-Id: automatic DPDK test reports List-Unsubscribe: , List-Archive: List-Post: List-Help: List-Subscribe: , Errors-To: test-report-bounces@dpdk.org Test-Label: iol-abi-testing Test-Status: SUCCESS http://dpdk.org/patch/155432 _Testing PASS_ Submitter: Dean Marx Date: Tuesday, July 22 2025 17:22:14 DPDK git baseline: Repo:dpdk Branch: master CommitID:f8fb19d5e2fc20798ed0caa292a1538fbbd98f96 155431-155432 --> testing pass Upstream job id: Generic-DPDK-Compile-ABI#135351 Test environment and result as below: +-------------------------------+----------+ | Environment | abi_test | +===============================+==========+ | CentOS Stream 9 | PASS | +-------------------------------+----------+ | Debian GNU/Linux 12 | PASS | +-------------------------------+----------+ | CentOS Stream 10 | PASS | +-------------------------------+----------+ | Fedora Linux 40 | PASS | +-------------------------------+----------+ | Fedora Linux 41 | PASS | +-------------------------------+----------+ | openSUSE Leap 15.6 | PASS | +-------------------------------+----------+ | Red Hat Enterprise Linux 9.5 | PASS | +-------------------------------+----------+ | Ubuntu 24.04 | PASS | +-------------------------------+----------+ | Ubuntu 22.04 | PASS | +-------------------------------+----------+ | Red Hat Enterprise Linux 8.10 | PASS | +-------------------------------+----------+ CentOS Stream 9 Kernel: 5.15 Compiler: gcc gcc (GCC) 11.5.0 20240719 (Red Hat 11.5.0-7) Debian GNU/Linux 12 Kernel: 5.15 Compiler: gcc gcc (Debian 12.2.0-14+deb12u1) 12.2.0 CentOS Stream 10 Kernel: 5.15 Compiler: gcc gcc (GCC) 14.2.1 20250110 (Red Hat 14.2.1-8) Fedora Linux 40 Kernel: 5.15 Compiler: gcc gcc (GCC) 14.2.1 20240912 (Red Hat 14.2.1-3) Fedora Linux 41 Kernel: 5.15 Compiler: gcc gcc (GCC) 14.3.1 20250523 (Red Hat 14.3.1-1) openSUSE Leap 15.6 Kernel: 5.15 Compiler: gcc gcc (SUSE Linux) 7.5.0 Red Hat Enterprise Linux 9.5 Kernel: 5.15 Compiler: gcc gcc (GCC) 11.5.0 20240719 (Red Hat 11.5.0-2) Ubuntu 24.04 Kernel: 5.15 Compiler: gcc gcc (Ubuntu 13.3.0-6ubuntu2~24.04) 13.3.0 Ubuntu 22.04 Kernel: 5.15 Compiler: gcc gcc (Ubuntu 11.4.0-1ubuntu1~22.04) 11.4.0 Red Hat Enterprise Linux 8.10 Kernel: 5.15 Compiler: gcc gcc (GCC) 8.5.0 20210514 (Red Hat 8.5.0-22) To view detailed results, visit: https://lab.dpdk.org/results/dashboard/patchsets/33729/ UNH-IOL DPDK Community Lab To manage your email subscriptions, visit: https://lab.dpdk.org/results/dashboard/preferences/subscriptions/