From mboxrd@z Thu Jan 1 00:00:00 1970 Return-Path: Received: from mails.dpdk.org (mails.dpdk.org [217.70.189.124]) by inbox.dpdk.org (Postfix) with ESMTP id D14FB46BE9 for ; Wed, 23 Jul 2025 01:30:30 +0200 (CEST) Received: from mails.dpdk.org (localhost [127.0.0.1]) by mails.dpdk.org (Postfix) with ESMTP id CC9BD402D2; Wed, 23 Jul 2025 01:30:30 +0200 (CEST) Received: from mail-pl1-f225.google.com (mail-pl1-f225.google.com [209.85.214.225]) by mails.dpdk.org (Postfix) with ESMTP id A3414402D2 for ; Wed, 23 Jul 2025 01:30:29 +0200 (CEST) Received: by mail-pl1-f225.google.com with SMTP id d9443c01a7336-235e1d710d8so65871935ad.1 for ; Tue, 22 Jul 2025 16:30:29 -0700 (PDT) DKIM-Signature: v=1; a=rsa-sha256; c=relaxed/relaxed; d=iol.unh.edu; s=unh-iol; t=1753227029; x=1753831829; darn=dpdk.org; h=references:in-reply-to:cc:to:from:subject:message-id:date:from:to :cc:subject:date:message-id:reply-to; bh=Z+Mp82XS3mRseoy0amb+GYoJN0uCrjjFHltuVzyr/2s=; b=cUuNO21TQpr1CekMRB4tfabqtKlq3IBAXqKfR5z7Dn427j7ERFzuHp4MxgNhF+CN89 P3lKh65C2SQmIzmK/sCZuRGUHeJhti32X5qWP8Yag0DNqhbnSr/vT5240UK8J5ErhWFz uB22oXwFe7SskA4JPtp2cfGJ41LoSgeTuy5JE= X-Google-DKIM-Signature: v=1; a=rsa-sha256; c=relaxed/relaxed; d=1e100.net; s=20230601; t=1753227029; x=1753831829; h=references:in-reply-to:cc:to:from:subject:message-id:date :x-gm-message-state:from:to:cc:subject:date:message-id:reply-to; bh=Z+Mp82XS3mRseoy0amb+GYoJN0uCrjjFHltuVzyr/2s=; b=w4xcyz9+v7d3ja1dGzHJeHrtAeEYBjHIkSXXTOffIb9XcGZu775mzMTlGaF3xjKpN4 kPBZF3FlL4KNMZZZrbDsLJ+aaylpHcvMqlAlIGv4t7gZlQrdUWeJ0pzASvplyuH2AAKS GJjJB4I7zVnGKYdTsscVob8W1ZwV6SHIop4vEzhN98GLsPvd+2zWRmOUnIbFYNw/9qcQ IhtNDzPmWSsaeSb65dvbHDYVimQxyXz6v+BEc46vYKNjW9zYCi+7cVjzv2p3G9gVqsGk Yvl2TwzUfbjl1lL5dhCBC8SOyXqV42cHpVbWn4q7liM5XspulFrxCKyTmbp69k2IMoVa DjJA== X-Gm-Message-State: AOJu0Yw9IhTKh6gMJMA9iNIHeyfqTJjve35sQ3tzJSJnnpe3IyhUARy8 YIpUaeZx3D2sFYB0Uv4COIkC8Jl4KWBIn3GQ8kd3WWpEfHg2Lp3TDUDIw5yAE0AreOm5D87wMI2 1bzISqjAyp3Vq88A1z3VcIW2tLfqa6g0RAlOYFjNtDhd4 X-Gm-Gg: ASbGncszCR81D+5teNskLrHmkOX1pIJrLrFdZ7K3Qw8b1tkd4xeGMlhFHgk+XWnTMCJ 3iovTKRxObdkbnF5tRtm68BUIgNoFjBWJHaphQh6CN07DvT1MeP2/o/uF2Tys4iK+ar7p4Sk/se ocOP+0/BTc3bnoIjpYr8tNCl2WsapsqPWy3YaWz+7fHvHhfjuC3tgutPpIIqDTwuoZH59S2dhG2 Dvxd7nKEQ37kNLQusMrRe30+BMe0RObutHJT3QNnWIvWYrQ94TyCpunnTNoASj4YVWiwQnkpm2d iImWjVySk7EbK4V0JmkWYU+OdqASK22oy1BWaYvH3+SZC1fY69ExqscEr0HEhWO6Lk011ulb X-Google-Smtp-Source: AGHT+IE/q/qR9T7rp+zO/OXsLSlb28GIOBYrpEcUm99Li8kOTxl+ecfh2AQWKKBzI2oPoM/kbSF7l2lggP4Y X-Received: by 2002:a17:903:3c65:b0:234:ed31:fc99 with SMTP id d9443c01a7336-23f9813f7a5mr13533525ad.21.1753227028907; Tue, 22 Jul 2025 16:30:28 -0700 (PDT) Received: from postal.iol.unh.edu (postal.iol.unh.edu. [132.177.123.84]) by smtp-relay.gmail.com with ESMTPS id d9443c01a7336-23e3b6d7227sm6345545ad.79.2025.07.22.16.30.28 (version=TLS1_2 cipher=ECDHE-ECDSA-AES128-GCM-SHA256 bits=128/128); Tue, 22 Jul 2025 16:30:28 -0700 (PDT) X-Relaying-Domain: iol.unh.edu Date: Tue, 22 Jul 2025 16:30:28 -0700 (PDT) Message-ID: <68801f14.170a0220.216306.01b5SMTPIN_ADDED_MISSING@mx.google.com> Received: from [172.21.0.4] (unknown [172.18.0.240]) by postal.iol.unh.edu (Postfix) with ESMTP id 31CE96051830; Tue, 22 Jul 2025 19:30:28 -0400 (EDT) Subject: |SUCCESS| pw155431-155432 [PATCH] [v1,2/2] dts: add exception handli From: dpdklab@iol.unh.edu To: Test Report Cc: dpdk-test-reports@iol.unh.edu In-Reply-To: <20250722172214.202308-2-dmarx@iol.unh.edu> References: <20250722172214.202308-2-dmarx@iol.unh.edu> Content-Type: text/plain X-BeenThere: test-report@dpdk.org X-Mailman-Version: 2.1.29 Precedence: list List-Id: automatic DPDK test reports List-Unsubscribe: , List-Archive: List-Post: List-Help: List-Subscribe: , Errors-To: test-report-bounces@dpdk.org Test-Label: iol-abi-testing Test-Status: SUCCESS http://dpdk.org/patch/155432 _Testing PASS_ Submitter: Dean Marx Date: Tuesday, July 22 2025 17:22:14 DPDK git baseline: Repo:dpdk Branch: master CommitID:f8fb19d5e2fc20798ed0caa292a1538fbbd98f96 155431-155432 --> testing pass Upstream job id: Generic-DPDK-Compile-ABI#135346 Test environment and result as below: +-------------------------------+----------+ | Environment | abi_test | +===============================+==========+ | CentOS Stream 9 | PASS | +-------------------------------+----------+ | Debian GNU/Linux 12 | PASS | +-------------------------------+----------+ | CentOS Stream 10 | PASS | +-------------------------------+----------+ | Fedora Linux 40 | PASS | +-------------------------------+----------+ | Fedora Linux 41 | PASS | +-------------------------------+----------+ | openSUSE Leap 15.6 | PASS | +-------------------------------+----------+ | Red Hat Enterprise Linux 9.5 | PASS | +-------------------------------+----------+ | Ubuntu 24.04 | PASS | +-------------------------------+----------+ | Ubuntu 22.04 | PASS | +-------------------------------+----------+ | Red Hat Enterprise Linux 8.10 | PASS | +-------------------------------+----------+ CentOS Stream 9 Kernel: 5.15 Compiler: gcc gcc (GCC) 11.5.0 20240719 (Red Hat 11.5.0-7) Debian GNU/Linux 12 Kernel: 5.15 Compiler: gcc gcc (Debian 12.2.0-14+deb12u1) 12.2.0 CentOS Stream 10 Kernel: 5.15 Compiler: gcc gcc (GCC) 14.2.1 20250110 (Red Hat 14.2.1-8) Fedora Linux 40 Kernel: 5.15 Compiler: gcc gcc (GCC) 14.2.1 20240912 (Red Hat 14.2.1-3) Fedora Linux 41 Kernel: 5.15 Compiler: gcc gcc (GCC) 14.3.1 20250523 (Red Hat 14.3.1-1) openSUSE Leap 15.6 Kernel: 5.15 Compiler: gcc gcc (SUSE Linux) 7.5.0 Red Hat Enterprise Linux 9.5 Kernel: 5.15 Compiler: gcc gcc (GCC) 11.5.0 20240719 (Red Hat 11.5.0-2) Ubuntu 24.04 Kernel: 5.15 Compiler: gcc gcc (Ubuntu 13.3.0-6ubuntu2~24.04) 13.3.0 Ubuntu 22.04 Kernel: 5.15 Compiler: gcc gcc (Ubuntu 11.4.0-1ubuntu1~22.04) 11.4.0 Red Hat Enterprise Linux 8.10 Kernel: 5.15 Compiler: gcc gcc (GCC) 8.5.0 20210514 (Red Hat 8.5.0-22) To view detailed results, visit: https://lab.dpdk.org/results/dashboard/patchsets/33729/ UNH-IOL DPDK Community Lab To manage your email subscriptions, visit: https://lab.dpdk.org/results/dashboard/preferences/subscriptions/