From mboxrd@z Thu Jan 1 00:00:00 1970 Return-Path: Received: from mails.dpdk.org (mails.dpdk.org [217.70.189.124]) by inbox.dpdk.org (Postfix) with ESMTP id DD9A246BE9 for ; Wed, 23 Jul 2025 01:30:38 +0200 (CEST) Received: from mails.dpdk.org (localhost [127.0.0.1]) by mails.dpdk.org (Postfix) with ESMTP id D9364402D2; Wed, 23 Jul 2025 01:30:38 +0200 (CEST) Received: from mail-pf1-f226.google.com (mail-pf1-f226.google.com [209.85.210.226]) by mails.dpdk.org (Postfix) with ESMTP id 0D08B402D2 for ; Wed, 23 Jul 2025 01:30:37 +0200 (CEST) Received: by mail-pf1-f226.google.com with SMTP id d2e1a72fcca58-747e41d5469so6466369b3a.3 for ; Tue, 22 Jul 2025 16:30:36 -0700 (PDT) DKIM-Signature: v=1; a=rsa-sha256; c=relaxed/relaxed; d=iol.unh.edu; s=unh-iol; t=1753227036; x=1753831836; darn=dpdk.org; h=references:in-reply-to:cc:to:from:subject:message-id:date:from:to :cc:subject:date:message-id:reply-to; bh=lcj/OwU+CupO0DYs/yaLLEBxuTd9tHFJg1UfDj8/MTE=; b=DEUjmyIQil+nRnuYdDFjzFUhXzkQRC+Z6jtOzNDp3pj5GFaKKCTPTkyhGcPEF8ddou sg4bfX0Ht94vPXWd7iyPuvM9PVAxL6F0P8gX42o1JlannhrgpkzyfnzuB/ZZ7lcdjmQ6 Hdvh59GeFWlSJKm0JdFrjhAl0WErIjbZ/2eow= X-Google-DKIM-Signature: v=1; a=rsa-sha256; c=relaxed/relaxed; d=1e100.net; s=20230601; t=1753227036; x=1753831836; h=references:in-reply-to:cc:to:from:subject:message-id:date :x-gm-message-state:from:to:cc:subject:date:message-id:reply-to; bh=lcj/OwU+CupO0DYs/yaLLEBxuTd9tHFJg1UfDj8/MTE=; b=PD1bdeqRy2wQUTteZo86jWVPGYXbA4WKkxbyxvzFpIhHdakxirEQ8H4P0bIhEt+nwL img6H7LJetgsiukP7wmclkTIGwAFr1A8EyxLSGCg8G1l49ZMO51a1Rl7dAO0rwNjgCPx l8q8RsF4Myvy/GToptmlyMk7JqXaYdSpVPXIQVA8hx88YG19mxQyZNd/3pr6ARKRuLYc Lr+TJxqzs58ZSYR8F2e/zQ4H+WyYK1lF8xB+Y2sC9qK+Mk0KhPBS7iXXuDJU/thmEq11 LoWaliUQUCo8ZlyPsXd9nkr6BPOAfuEg0VxiX1rsZT1gra5rnGe2TteHN4f5oLqqvn2q OAcQ== X-Gm-Message-State: AOJu0YyTXR3rshJ+VvPfV+5pR2s7RMnXDN2UGlAC/APlEdsXyjyg9dbK l/pdTrIu0UYQNWuQVZ1YhbhJXkeQkXVTc06iksSVNiA1QhQWvbQKU6D6P+pAeMBl8x5VgGaAKlm 1HOzWtF01zDB7P7eet0/XE0FwFyuSxDBbOXEiXmYCT/prS6XV5hZZhOXrXlf+ X-Gm-Gg: ASbGnctlTkQEYB34V1ebQgHBEbbyx8L7TJMSzz9lppRTwYwOD+RawVVomHw/IurJf7n D4PKMbxRtRJSSj4g0kbh5vwkNCfSnqzOmSwVaT7KNt5ue5+rfBe4QXbK8iKnCXOKx4cESmQIbzV a9lKPY1ENYoHmDjt+iuy6wGER+WGC2GJjRIm9GNMcdn830TJcJ3peB2+m3gGjRO69K9vydNeOr6 hkD8agQUZ+fcK7zJ+q6rdySOzWY1Cok/2ugLumSxx+r6HYI7pIP4DIls0+XwRlXSgyqfLH6SoJc wRLlyO7SIYAdqur4/82scoCqpeWDIyYzmMysiN37X5e81IAziA== X-Google-Smtp-Source: AGHT+IHQ14GJHjnf3VJDf6E1thbfofM6Kxy5A8El2Y9/xfBb+vtvfcidLb0Goh0vEHV6YrzZ4VCK7GDmTuq8 X-Received: by 2002:a05:6a20:1591:b0:234:cd25:730 with SMTP id adf61e73a8af0-23d4911d512mr1086645637.24.1753227036222; Tue, 22 Jul 2025 16:30:36 -0700 (PDT) Received: from postal.iol.unh.edu (postal.iol.unh.edu. [2606:4100:3880:1234::84]) by smtp-relay.gmail.com with ESMTPS id d2e1a72fcca58-759c88db0dfsm605177b3a.7.2025.07.22.16.30.36 (version=TLS1_2 cipher=ECDHE-ECDSA-AES128-GCM-SHA256 bits=128/128); Tue, 22 Jul 2025 16:30:36 -0700 (PDT) X-Relaying-Domain: iol.unh.edu Date: Tue, 22 Jul 2025 16:30:36 -0700 (PDT) Message-ID: <68801f1c.050a0220.29a893.e3d7SMTPIN_ADDED_MISSING@mx.google.com> Received: from [172.21.0.5] (unknown [172.18.0.240]) by postal.iol.unh.edu (Postfix) with ESMTP id 7970F6051830; Tue, 22 Jul 2025 19:30:35 -0400 (EDT) Subject: |SUCCESS| pw155431-155432 [PATCH] [v1,2/2] dts: add exception handli From: dpdklab@iol.unh.edu To: Test Report Cc: dpdk-test-reports@iol.unh.edu In-Reply-To: <20250722172214.202308-2-dmarx@iol.unh.edu> References: <20250722172214.202308-2-dmarx@iol.unh.edu> Content-Type: text/plain X-BeenThere: test-report@dpdk.org X-Mailman-Version: 2.1.29 Precedence: list List-Id: automatic DPDK test reports List-Unsubscribe: , List-Archive: List-Post: List-Help: List-Subscribe: , Errors-To: test-report-bounces@dpdk.org Test-Label: iol-abi-testing Test-Status: SUCCESS http://dpdk.org/patch/155432 _Testing PASS_ Submitter: Dean Marx Date: Tuesday, July 22 2025 17:22:14 DPDK git baseline: Repo:dpdk Branch: master CommitID:f8fb19d5e2fc20798ed0caa292a1538fbbd98f96 155431-155432 --> testing pass Upstream job id: Generic-DPDK-Compile-ABI#135337 Test environment and result as below: +-------------------------------+----------+ | Environment | abi_test | +===============================+==========+ | CentOS Stream 9 | PASS | +-------------------------------+----------+ | Debian GNU/Linux 12 | PASS | +-------------------------------+----------+ | CentOS Stream 10 | PASS | +-------------------------------+----------+ | Fedora Linux 40 | PASS | +-------------------------------+----------+ | Fedora Linux 41 | PASS | +-------------------------------+----------+ | openSUSE Leap 15.6 | PASS | +-------------------------------+----------+ | Red Hat Enterprise Linux 8.10 | PASS | +-------------------------------+----------+ | Red Hat Enterprise Linux 9.5 | PASS | +-------------------------------+----------+ | Ubuntu 22.04 | PASS | +-------------------------------+----------+ | Ubuntu 24.04 | PASS | +-------------------------------+----------+ CentOS Stream 9 Kernel: 5.15 Compiler: gcc gcc (GCC) 11.5.0 20240719 (Red Hat 11.5.0-7) Debian GNU/Linux 12 Kernel: 5.15 Compiler: gcc gcc (Debian 12.2.0-14+deb12u1) 12.2.0 CentOS Stream 10 Kernel: 5.15 Compiler: gcc gcc (GCC) 14.2.1 20250110 (Red Hat 14.2.1-8) Fedora Linux 40 Kernel: 5.15 Compiler: clang gcc (GCC) 14.2.1 20240912 (Red Hat 14.2.1-3) Fedora Linux 41 Kernel: 5.15 Compiler: clang gcc (GCC) 14.3.1 20250523 (Red Hat 14.3.1-1) openSUSE Leap 15.6 Kernel: 5.15 Compiler: gcc gcc (SUSE Linux) 7.5.0 Red Hat Enterprise Linux 8.10 Kernel: 5.15 Compiler: gcc gcc (GCC) 8.5.0 20210514 (Red Hat 8.5.0-22) Red Hat Enterprise Linux 9.5 Kernel: 5.15 Compiler: gcc gcc (GCC) 11.5.0 20240719 (Red Hat 11.5.0-2) Ubuntu 22.04 Kernel: 5.15 Compiler: gcc gcc (Ubuntu 11.4.0-1ubuntu1~22.04) 11.4.0 Ubuntu 24.04 Kernel: 5.15 Compiler: gcc gcc (Ubuntu 13.3.0-6ubuntu2~24.04) 13.3.0 To view detailed results, visit: https://lab.dpdk.org/results/dashboard/patchsets/33729/ UNH-IOL DPDK Community Lab To manage your email subscriptions, visit: https://lab.dpdk.org/results/dashboard/preferences/subscriptions/