From mboxrd@z Thu Jan 1 00:00:00 1970 Return-Path: Received: from mails.dpdk.org (mails.dpdk.org [217.70.189.124]) by inbox.dpdk.org (Postfix) with ESMTP id 03DB846BE9 for ; Wed, 23 Jul 2025 01:30:57 +0200 (CEST) Received: from mails.dpdk.org (localhost [127.0.0.1]) by mails.dpdk.org (Postfix) with ESMTP id F37E3402D2; Wed, 23 Jul 2025 01:30:56 +0200 (CEST) Received: from mail-il1-f226.google.com (mail-il1-f226.google.com [209.85.166.226]) by mails.dpdk.org (Postfix) with ESMTP id 31073402D2 for ; Wed, 23 Jul 2025 01:30:55 +0200 (CEST) Received: by mail-il1-f226.google.com with SMTP id e9e14a558f8ab-3df2d8cb8d2so23116465ab.2 for ; Tue, 22 Jul 2025 16:30:55 -0700 (PDT) DKIM-Signature: v=1; a=rsa-sha256; c=relaxed/relaxed; d=iol.unh.edu; s=unh-iol; t=1753227054; x=1753831854; darn=dpdk.org; h=references:in-reply-to:cc:to:from:subject:message-id:date:from:to :cc:subject:date:message-id:reply-to; bh=sgCr0RZRATE1+63bq34Rk8rZIEDeWCy0HVBpXzkDDs0=; b=HkDvpFy17ANFQvWGxYc+v1ipL1wc7lBAeBKmInmU4flVslc9oDqjYDMTYrCIYpq0gI /3Lq2gedmxlv8zIT34ZZf9I5qk3WgJTkHoJXuiHsQj7uoQxyqskXaQb3sMhLBgrYCGnZ z1SWZJmj/TiG6rNeg8uE8cBxyUOnh0k44jVc8= X-Google-DKIM-Signature: v=1; a=rsa-sha256; c=relaxed/relaxed; d=1e100.net; s=20230601; t=1753227054; x=1753831854; h=references:in-reply-to:cc:to:from:subject:message-id:date :x-gm-message-state:from:to:cc:subject:date:message-id:reply-to; bh=sgCr0RZRATE1+63bq34Rk8rZIEDeWCy0HVBpXzkDDs0=; b=wdNDaNE4e38m1wRkMPQIEauEjSimHEPy8v6/UrzEr0nsQtr20//uOQP9MQ5Xfm55Ob zRRCJBTcWCgJt+XHOHorOo4Tx0rO05rg/5Kq87qdusu3MeIXRoqe0F9BHDnbzDbtY753 oOYUyBSR3RknIyVdTDWppjUR1u99rBooP4S/vcOhM0bATbaYKT6AECgCoIHPMm7HtsDx /9sJL9UDSk0UflZDbCTZBlyIgOawynCoouGuukWkqEnSh2QdCFb/tMH4rjYCrLi0CUfD MIcC4FCDYJm3qTb2cgjTFq/O0Qjv94ZFI3SWZRdKDWR0IEm3ikE5rpA+xi1yUOuVbNCZ /ClQ== X-Gm-Message-State: AOJu0YxCYWuasPIPb1F5C32RH2az2isO3jvqBtC7q/VU91xG1oiqphxg INZBC5tYbmFZ1mWmeZIyTyfouHUHQwYJCx+ndriYaFSiGnm2Jtf45J7hcBMoaqN0cjMApDCvmqS cdgqnEmP0mTHpw7jReyMHN02OkkH6Ji2+nDkmr5JSGio5oqHTr2c24YYZAx+v X-Gm-Gg: ASbGncs5eX1wBaF8I/cd7r248lIK2wEZvgL75mHK735d9GNWTKhtUzwtRaEOQGOSHWs N7k/kVa6zRE5YNo3r9MVxUdbWqgiKxCEOZ20BQaPP/x1JbDHEOCcb/emovlLoMC3JkeneSxfIfd Wj/MAgiAOiwKPsVVOMj2hJZ9ZbBHpGryB45/PDBzoGK9Kn7mygLE5nL5VdRhQir2mA1I45MmLYe Go0l8maDKDFac1OuPzjVBZcLQZlvW81KyuixoyD/PbqzBLOEWa33AkNI3Z3/Cv2NuJXpIZPfA15 N0jJs4zHPsUGZTsdISN6tOSEmW9VU/HPYhjy8gVl1zWQJm/Jtg== X-Google-Smtp-Source: AGHT+IGe2S8LfT/eYL5/ATvM/MbsOp9imEE5QioETJPeKUKcA1I1HlXVCFywCriJeNk5QcUEGwSueB6YLxwe X-Received: by 2002:a05:6e02:c:b0:3dd:8663:d182 with SMTP id e9e14a558f8ab-3e32fcc2fcfmr18589745ab.13.1753227054524; Tue, 22 Jul 2025 16:30:54 -0700 (PDT) Received: from postal.iol.unh.edu (postal.iol.unh.edu. [2606:4100:3880:1234::84]) by smtp-relay.gmail.com with ESMTPS id e9e14a558f8ab-3e2982040easm6728395ab.1.2025.07.22.16.30.54 (version=TLS1_2 cipher=ECDHE-ECDSA-AES128-GCM-SHA256 bits=128/128); Tue, 22 Jul 2025 16:30:54 -0700 (PDT) X-Relaying-Domain: iol.unh.edu Date: Tue, 22 Jul 2025 16:30:54 -0700 (PDT) Message-ID: <68801f2e.050a0220.7eb28.26d2SMTPIN_ADDED_MISSING@mx.google.com> Received: from [172.21.0.3] (unknown [172.18.0.240]) by postal.iol.unh.edu (Postfix) with ESMTP id 1804B6051830; Tue, 22 Jul 2025 19:30:54 -0400 (EDT) Subject: |SUCCESS| pw155431-155432 [PATCH] [v1,2/2] dts: add exception handli From: dpdklab@iol.unh.edu To: Test Report Cc: dpdk-test-reports@iol.unh.edu In-Reply-To: <20250722172214.202308-2-dmarx@iol.unh.edu> References: <20250722172214.202308-2-dmarx@iol.unh.edu> Content-Type: text/plain X-BeenThere: test-report@dpdk.org X-Mailman-Version: 2.1.29 Precedence: list List-Id: automatic DPDK test reports List-Unsubscribe: , List-Archive: List-Post: List-Help: List-Subscribe: , Errors-To: test-report-bounces@dpdk.org Test-Label: iol-abi-testing Test-Status: SUCCESS http://dpdk.org/patch/155432 _Testing PASS_ Submitter: Dean Marx Date: Tuesday, July 22 2025 17:22:14 DPDK git baseline: Repo:dpdk Branch: master CommitID:f8fb19d5e2fc20798ed0caa292a1538fbbd98f96 155431-155432 --> testing pass Upstream job id: Generic-DPDK-Compile-ABI#135352 Test environment and result as below: +-------------------------------+----------+ | Environment | abi_test | +===============================+==========+ | CentOS Stream 9 | PASS | +-------------------------------+----------+ | Debian GNU/Linux 12 | PASS | +-------------------------------+----------+ | CentOS Stream 10 | PASS | +-------------------------------+----------+ | Fedora Linux 40 | PASS | +-------------------------------+----------+ | Fedora Linux 41 | PASS | +-------------------------------+----------+ | openSUSE Leap 15.6 | PASS | +-------------------------------+----------+ | Red Hat Enterprise Linux 9.5 | PASS | +-------------------------------+----------+ | Ubuntu 24.04 | PASS | +-------------------------------+----------+ | Ubuntu 22.04 | PASS | +-------------------------------+----------+ | Red Hat Enterprise Linux 8.10 | PASS | +-------------------------------+----------+ CentOS Stream 9 Kernel: 5.15 Compiler: gcc gcc (GCC) 11.5.0 20240719 (Red Hat 11.5.0-7) Debian GNU/Linux 12 Kernel: 5.15 Compiler: gcc gcc (Debian 12.2.0-14+deb12u1) 12.2.0 CentOS Stream 10 Kernel: 5.15 Compiler: gcc gcc (GCC) 14.2.1 20250110 (Red Hat 14.2.1-8) Fedora Linux 40 Kernel: 5.15 Compiler: gcc gcc (GCC) 14.2.1 20240912 (Red Hat 14.2.1-3) Fedora Linux 41 Kernel: 5.15 Compiler: gcc gcc (GCC) 14.3.1 20250523 (Red Hat 14.3.1-1) openSUSE Leap 15.6 Kernel: 5.15 Compiler: gcc gcc (SUSE Linux) 7.5.0 Red Hat Enterprise Linux 9.5 Kernel: 5.15 Compiler: gcc gcc (GCC) 11.5.0 20240719 (Red Hat 11.5.0-2) Ubuntu 24.04 Kernel: 5.15 Compiler: gcc gcc (Ubuntu 13.3.0-6ubuntu2~24.04) 13.3.0 Ubuntu 22.04 Kernel: 5.15 Compiler: gcc gcc (Ubuntu 11.4.0-1ubuntu1~22.04) 11.4.0 Red Hat Enterprise Linux 8.10 Kernel: 5.15 Compiler: gcc gcc (GCC) 8.5.0 20210514 (Red Hat 8.5.0-22) To view detailed results, visit: https://lab.dpdk.org/results/dashboard/patchsets/33729/ UNH-IOL DPDK Community Lab To manage your email subscriptions, visit: https://lab.dpdk.org/results/dashboard/preferences/subscriptions/