From mboxrd@z Thu Jan 1 00:00:00 1970 Return-Path: Received: from mails.dpdk.org (mails.dpdk.org [217.70.189.124]) by inbox.dpdk.org (Postfix) with ESMTP id 0D5EA46BE9 for ; Wed, 23 Jul 2025 01:31:02 +0200 (CEST) Received: from mails.dpdk.org (localhost [127.0.0.1]) by mails.dpdk.org (Postfix) with ESMTP id 08C11402D2; Wed, 23 Jul 2025 01:31:02 +0200 (CEST) Received: from mail-yb1-f226.google.com (mail-yb1-f226.google.com [209.85.219.226]) by mails.dpdk.org (Postfix) with ESMTP id 1D7CD402D2 for ; Wed, 23 Jul 2025 01:31:00 +0200 (CEST) Received: by mail-yb1-f226.google.com with SMTP id 3f1490d57ef6-e8d9f9613d6so2120272276.1 for ; Tue, 22 Jul 2025 16:31:00 -0700 (PDT) DKIM-Signature: v=1; a=rsa-sha256; c=relaxed/relaxed; d=iol.unh.edu; s=unh-iol; t=1753227059; x=1753831859; darn=dpdk.org; h=references:in-reply-to:cc:to:from:subject:message-id:date:from:to :cc:subject:date:message-id:reply-to; bh=ST1w7RgGa0asVFNxnoXW9KRxXX7LP7E3WdorDTP5oVk=; b=TQHCajs3e9msMV9wm5TkRE0RSrsVlVos0GZQWJOWCj2K7Xe+Ih+sYU1ovB21fu85gP cjxwwt2AY+WML5wepQJOgriYQJd8Eyc8c9ooOufD6Oh1sAVH2CR11N+MwFWYd3LLqfql P3YtB00q6hTRfnVS8uGT+V+5AIylOK+juN9ZM= X-Google-DKIM-Signature: v=1; a=rsa-sha256; c=relaxed/relaxed; d=1e100.net; s=20230601; t=1753227059; x=1753831859; h=references:in-reply-to:cc:to:from:subject:message-id:date :x-gm-message-state:from:to:cc:subject:date:message-id:reply-to; bh=ST1w7RgGa0asVFNxnoXW9KRxXX7LP7E3WdorDTP5oVk=; b=A+uin9kuEJZjSiwsfkTJVyw/CvQgovL5wpJ9/Td68j5kRM3OOXXS/3oU22ijurOaFu IibEoTNykMn1dOd9jfcyHDIDC9vt92tcJVgDIM+WzfLmvgYERGWeP+ApzD2SEBS7Iusu C+1W6nvQkseLL6VEkWoM8d0TIJPiSImLrOK+s/BvF3Z2H+Wsn34zMN8cMer3qxzcsZHx RgNup9K+feg/3b7OCsSSm3kQWwBl1RJ9hrb74ZXJESGeANgquN2xq3+rv5gB0pg5n4Ue iDopTvNv1dh7hAAzYlmYwIbxCzaoudodpjOSHY1s6Y8KRCH1cCGfEwjNCHgCUZMYgfwE 45IQ== X-Gm-Message-State: AOJu0YyCU3f73X4L3q2eTL2SAWE5p/kdHb67P0MkcvTeQQfz9Ij4ixjA RiPpKHybWgEEa62HIbkbtiseXMkIKzKJtbeo8EFydQYX/nnhqCFVetWyBU84p3kMcdXvl37eCWI Bm4p0Deaxgk6Zqulc2cMWDglNfYh6MAGQ0UZtmzABjLiJnpjsvF+i67IM2rkk X-Gm-Gg: ASbGncuZMpHWs7mH4JJ7X84dGRYUApml6UTUlQ7evMwU+KIiRTtdzFn/zh6H0BgWQmp iPwfZPAACuxcaEVz+ut0dfO9q3cNMhhvv1KQkqggI9hX//REPoC5bUY/9xd7J3GBcq6wV1Zymgj WP2328gJH9bkWiQCN/sbNoWEQNwUuUIQ+yaVj1CK6hcpRt3ZXITy1gWhg71vQsZxhun4kfF2liY OWQsZBu4hIwMH0uBgH8Rex7W4ks66UG+u0/18VKr0AFeF+KkqtTUAdMRi/m6WgOGO/CC8Kd/ZjY K+t44b+dZV0HtSQqExbtFnK1HtTnF8lOsuI/R58Go2MSylNJrg== X-Google-Smtp-Source: AGHT+IEDu1JO4Dkbi8Hb1Nrekm/Ee7ECvk6vdl88+wjXa993eAlrHrj0GwXhVotyUplN6MDFP4v3meIKJoJs X-Received: by 2002:a05:690c:9b08:b0:710:f025:4077 with SMTP id 00721157ae682-719b41bb2e5mr17232917b3.2.1753227059297; Tue, 22 Jul 2025 16:30:59 -0700 (PDT) Received: from postal.iol.unh.edu (postal.iol.unh.edu. [2606:4100:3880:1234::84]) by smtp-relay.gmail.com with ESMTPS id 00721157ae682-7195331a559sm2941797b3.52.2025.07.22.16.30.59 (version=TLS1_2 cipher=ECDHE-ECDSA-AES128-GCM-SHA256 bits=128/128); Tue, 22 Jul 2025 16:30:59 -0700 (PDT) X-Relaying-Domain: iol.unh.edu Date: Tue, 22 Jul 2025 16:30:59 -0700 (PDT) Message-ID: <68801f33.050a0220.34dd73.e87aSMTPIN_ADDED_MISSING@mx.google.com> Received: from [172.21.0.5] (unknown [172.18.0.240]) by postal.iol.unh.edu (Postfix) with ESMTP id F10316051830; Tue, 22 Jul 2025 19:30:58 -0400 (EDT) Subject: |SUCCESS| pw155431-155432 [PATCH] [v1,2/2] dts: add exception handli From: dpdklab@iol.unh.edu To: Test Report Cc: dpdk-test-reports@iol.unh.edu In-Reply-To: <20250722172214.202308-2-dmarx@iol.unh.edu> References: <20250722172214.202308-2-dmarx@iol.unh.edu> Content-Type: text/plain X-BeenThere: test-report@dpdk.org X-Mailman-Version: 2.1.29 Precedence: list List-Id: automatic DPDK test reports List-Unsubscribe: , List-Archive: List-Post: List-Help: List-Subscribe: , Errors-To: test-report-bounces@dpdk.org Test-Label: iol-abi-testing Test-Status: SUCCESS http://dpdk.org/patch/155432 _Testing PASS_ Submitter: Dean Marx Date: Tuesday, July 22 2025 17:22:14 DPDK git baseline: Repo:dpdk Branch: master CommitID:f8fb19d5e2fc20798ed0caa292a1538fbbd98f96 155431-155432 --> testing pass Upstream job id: Generic-DPDK-Compile-ABI#135350 Test environment and result as below: +-------------------------------+----------+ | Environment | abi_test | +===============================+==========+ | CentOS Stream 9 | PASS | +-------------------------------+----------+ | Debian GNU/Linux 12 | PASS | +-------------------------------+----------+ | CentOS Stream 10 | PASS | +-------------------------------+----------+ | Fedora Linux 40 | PASS | +-------------------------------+----------+ | Fedora Linux 41 | PASS | +-------------------------------+----------+ | openSUSE Leap 15.6 | PASS | +-------------------------------+----------+ | Red Hat Enterprise Linux 9.5 | PASS | +-------------------------------+----------+ | Ubuntu 24.04 | PASS | +-------------------------------+----------+ | Ubuntu 22.04 | PASS | +-------------------------------+----------+ | Red Hat Enterprise Linux 8.10 | PASS | +-------------------------------+----------+ CentOS Stream 9 Kernel: 5.15 Compiler: gcc gcc (GCC) 11.5.0 20240719 (Red Hat 11.5.0-7) Debian GNU/Linux 12 Kernel: 5.15 Compiler: gcc gcc (Debian 12.2.0-14+deb12u1) 12.2.0 CentOS Stream 10 Kernel: 5.15 Compiler: gcc gcc (GCC) 14.2.1 20250110 (Red Hat 14.2.1-8) Fedora Linux 40 Kernel: 5.15 Compiler: gcc gcc (GCC) 14.2.1 20240912 (Red Hat 14.2.1-3) Fedora Linux 41 Kernel: 5.15 Compiler: gcc gcc (GCC) 14.3.1 20250523 (Red Hat 14.3.1-1) openSUSE Leap 15.6 Kernel: 5.15 Compiler: gcc gcc (SUSE Linux) 7.5.0 Red Hat Enterprise Linux 9.5 Kernel: 5.15 Compiler: gcc gcc (GCC) 11.5.0 20240719 (Red Hat 11.5.0-2) Ubuntu 24.04 Kernel: 5.15 Compiler: gcc gcc (Ubuntu 13.3.0-6ubuntu2~24.04) 13.3.0 Ubuntu 22.04 Kernel: 5.15 Compiler: gcc gcc (Ubuntu 11.4.0-1ubuntu1~22.04) 11.4.0 Red Hat Enterprise Linux 8.10 Kernel: 5.15 Compiler: gcc gcc (GCC) 8.5.0 20210514 (Red Hat 8.5.0-22) To view detailed results, visit: https://lab.dpdk.org/results/dashboard/patchsets/33729/ UNH-IOL DPDK Community Lab To manage your email subscriptions, visit: https://lab.dpdk.org/results/dashboard/preferences/subscriptions/