From mboxrd@z Thu Jan 1 00:00:00 1970 Return-Path: Received: from mails.dpdk.org (mails.dpdk.org [217.70.189.124]) by inbox.dpdk.org (Postfix) with ESMTP id 1FE5346BE9 for ; Wed, 23 Jul 2025 01:31:29 +0200 (CEST) Received: from mails.dpdk.org (localhost [127.0.0.1]) by mails.dpdk.org (Postfix) with ESMTP id 1AA44402D2; Wed, 23 Jul 2025 01:31:29 +0200 (CEST) Received: from mail-il1-f228.google.com (mail-il1-f228.google.com [209.85.166.228]) by mails.dpdk.org (Postfix) with ESMTP id 62966402D2 for ; Wed, 23 Jul 2025 01:31:27 +0200 (CEST) Received: by mail-il1-f228.google.com with SMTP id e9e14a558f8ab-3df2dbe85d1so40866505ab.0 for ; Tue, 22 Jul 2025 16:31:27 -0700 (PDT) DKIM-Signature: v=1; a=rsa-sha256; c=relaxed/relaxed; d=iol.unh.edu; s=unh-iol; t=1753227087; x=1753831887; darn=dpdk.org; h=references:in-reply-to:cc:to:from:subject:message-id:date:from:to :cc:subject:date:message-id:reply-to; bh=BMWQM1rrKpz03/RTlgjvlO4loBiJSdoh/+SDRu/xpgs=; b=BE3zo95Asx4gp20rsGW0AmpzosU2b+x6qGCrmtCKS4TrpzFNV1PMs8pPRcg1pXIT2I OvHiu9sCetMa2nwKR54BT96+ZMlWAFEswP6JU65RZuFtezHabcZZOoD64R/QaxCjqM2l SQm0gFNe4l0vhlZUOSqLRPFlw522nBJebukXk= X-Google-DKIM-Signature: v=1; a=rsa-sha256; c=relaxed/relaxed; d=1e100.net; s=20230601; t=1753227087; x=1753831887; h=references:in-reply-to:cc:to:from:subject:message-id:date :x-gm-message-state:from:to:cc:subject:date:message-id:reply-to; bh=BMWQM1rrKpz03/RTlgjvlO4loBiJSdoh/+SDRu/xpgs=; b=ZJc/x3qwwYsea+WHsIay7T4YN7g50N+seuuMNWubF9Wxvt5yCqomRfdM63dXR3PChG rXQj4un7ICVx0g6nIMC13wnGJNFrVPOwuraLkD7VX527iYIWim9X8Llv8Ei5h40XiGCr KYaqTBlyHTO/TjNdfD7Eeft2wlSnjf+lAhXpr5x5fEvfmae/5niskKw3IaJkYcwA/5XJ Q1l7GxqMKtvudrO4iwkN60LKrwfqAAF+oeJ/J2uFFb3Cnwn5VQaHAekCXLFWtqPm7Tpd faN5zZvBZOIL4vSNF/p/aLMNnaLvFglcSrQ1RbZP5HAUyeTSWXAuM7Zrx7fEAIuIyHWl UunA== X-Gm-Message-State: AOJu0Yy701oVXrqt5n0efnldU0Pipg1ukPHZZktAFKsn0K1kQyFmGLhf NheXCqcRfhQcOPLB1jU0eKJ4IOkimd+Sd+C7IH25a43gObuZLyWtS+mUg/W9Yreu9+puYNh+X1+ YqQb5UQ2SisMTFqaFPlh68O3l55uKci+XqL+0nC+6RVRu X-Gm-Gg: ASbGnct0ci8h6Et1ZM7F8Rx+476lUhlD8t8f7uWaI2hw+sweFAbIrz3vIc5jq5mN34F qwVmKkKQkKso3l5ZhgZhnCy0kwaA7b7YFyMIvrVd4gfwUfAq7KsvjMu4ZhlrSenSO4Cva3ifLsY wT6eKEl4idGxzZNbfzcDQqpdDr8DbK0u29IW/bWWM28V8s+GeS9OEILyPjItHNLxAJ3xrxK1F7L LZFLEcZrqaGeDadJCqTRXXyOprMp6XfsU03UL9JhG3zySK/qVLVgRX2Kx0IZunr6tGEPU1EKeTd App5rDrGAYT6eRVMHyslpEFXCQRAjGSqrjOAPJuWKndIgFYv6oQQih5dQpb47kGJv1c/1xv+ X-Google-Smtp-Source: AGHT+IFFefkylgTA55f6O2SGIBkInbMzVLIsZstzVxgh5wvzY9jmmwSQcklAQv3xbv/WZh5qZBPVquKkyCHb X-Received: by 2002:a05:6e02:17c8:b0:3e2:c5de:5fb with SMTP id e9e14a558f8ab-3e33555d490mr20260245ab.18.1753227086703; Tue, 22 Jul 2025 16:31:26 -0700 (PDT) Received: from postal.iol.unh.edu (postal.iol.unh.edu. [132.177.123.84]) by smtp-relay.gmail.com with ESMTPS id 8926c6da1cb9f-5084c979a89sm236090173.67.2025.07.22.16.31.26 (version=TLS1_2 cipher=ECDHE-ECDSA-AES128-GCM-SHA256 bits=128/128); Tue, 22 Jul 2025 16:31:26 -0700 (PDT) X-Relaying-Domain: iol.unh.edu Date: Tue, 22 Jul 2025 16:31:26 -0700 (PDT) Message-ID: <68801f4e.050a0220.227794.a067SMTPIN_ADDED_MISSING@mx.google.com> Received: from [172.21.0.2] (unknown [172.18.0.240]) by postal.iol.unh.edu (Postfix) with ESMTP id 53CE36051830; Tue, 22 Jul 2025 19:31:26 -0400 (EDT) Subject: |SUCCESS| pw155431-155432 [PATCH] [v1,2/2] dts: add exception handli From: dpdklab@iol.unh.edu To: Test Report Cc: dpdk-test-reports@iol.unh.edu In-Reply-To: <20250722172214.202308-2-dmarx@iol.unh.edu> References: <20250722172214.202308-2-dmarx@iol.unh.edu> Content-Type: text/plain X-BeenThere: test-report@dpdk.org X-Mailman-Version: 2.1.29 Precedence: list List-Id: automatic DPDK test reports List-Unsubscribe: , List-Archive: List-Post: List-Help: List-Subscribe: , Errors-To: test-report-bounces@dpdk.org Test-Label: iol-abi-testing Test-Status: SUCCESS http://dpdk.org/patch/155432 _Testing PASS_ Submitter: Dean Marx Date: Tuesday, July 22 2025 17:22:14 DPDK git baseline: Repo:dpdk Branch: master CommitID:f8fb19d5e2fc20798ed0caa292a1538fbbd98f96 155431-155432 --> testing pass Upstream job id: Generic-DPDK-Compile-ABI#135342 Test environment and result as below: +-------------------------------+----------+ | Environment | abi_test | +===============================+==========+ | CentOS Stream 9 | PASS | +-------------------------------+----------+ | Debian GNU/Linux 12 | PASS | +-------------------------------+----------+ | CentOS Stream 10 | PASS | +-------------------------------+----------+ | Fedora Linux 40 | PASS | +-------------------------------+----------+ | Fedora Linux 41 | PASS | +-------------------------------+----------+ | openSUSE Leap 15.6 | PASS | +-------------------------------+----------+ | Red Hat Enterprise Linux 9.5 | PASS | +-------------------------------+----------+ | Ubuntu 24.04 | PASS | +-------------------------------+----------+ | Ubuntu 22.04 | PASS | +-------------------------------+----------+ | Red Hat Enterprise Linux 8.10 | PASS | +-------------------------------+----------+ CentOS Stream 9 Kernel: 5.15 Compiler: gcc gcc (GCC) 11.5.0 20240719 (Red Hat 11.5.0-7) Debian GNU/Linux 12 Kernel: 5.15 Compiler: gcc gcc (Debian 12.2.0-14+deb12u1) 12.2.0 CentOS Stream 10 Kernel: 5.15 Compiler: gcc gcc (GCC) 14.2.1 20250110 (Red Hat 14.2.1-8) Fedora Linux 40 Kernel: 5.15 Compiler: gcc gcc (GCC) 14.2.1 20240912 (Red Hat 14.2.1-3) Fedora Linux 41 Kernel: 5.15 Compiler: gcc gcc (GCC) 14.3.1 20250523 (Red Hat 14.3.1-1) openSUSE Leap 15.6 Kernel: 5.15 Compiler: gcc gcc (SUSE Linux) 7.5.0 Red Hat Enterprise Linux 9.5 Kernel: 5.15 Compiler: gcc gcc (GCC) 11.5.0 20240719 (Red Hat 11.5.0-2) Ubuntu 24.04 Kernel: 5.15 Compiler: gcc gcc (Ubuntu 13.3.0-6ubuntu2~24.04) 13.3.0 Ubuntu 22.04 Kernel: 5.15 Compiler: gcc gcc (Ubuntu 11.4.0-1ubuntu1~22.04) 11.4.0 Red Hat Enterprise Linux 8.10 Kernel: 5.15 Compiler: gcc gcc (GCC) 8.5.0 20210514 (Red Hat 8.5.0-22) To view detailed results, visit: https://lab.dpdk.org/results/dashboard/patchsets/33729/ UNH-IOL DPDK Community Lab To manage your email subscriptions, visit: https://lab.dpdk.org/results/dashboard/preferences/subscriptions/