From mboxrd@z Thu Jan 1 00:00:00 1970 Return-Path: Received: from mails.dpdk.org (mails.dpdk.org [217.70.189.124]) by inbox.dpdk.org (Postfix) with ESMTP id 3953A46BE9 for ; Wed, 23 Jul 2025 01:31:46 +0200 (CEST) Received: from mails.dpdk.org (localhost [127.0.0.1]) by mails.dpdk.org (Postfix) with ESMTP id 34F24402D2; Wed, 23 Jul 2025 01:31:46 +0200 (CEST) Received: from mail-vk1-f228.google.com (mail-vk1-f228.google.com [209.85.221.228]) by mails.dpdk.org (Postfix) with ESMTP id D052F402D2 for ; Wed, 23 Jul 2025 01:31:44 +0200 (CEST) Received: by mail-vk1-f228.google.com with SMTP id 71dfb90a1353d-5313eff2649so1687581e0c.0 for ; Tue, 22 Jul 2025 16:31:44 -0700 (PDT) DKIM-Signature: v=1; a=rsa-sha256; c=relaxed/relaxed; d=iol.unh.edu; s=unh-iol; t=1753227104; x=1753831904; darn=dpdk.org; h=references:in-reply-to:cc:to:from:subject:message-id:date:from:to :cc:subject:date:message-id:reply-to; bh=bP7sup0PTnhC2/DZ85R8jo64AlKKhM1YMYHBzBaq2yc=; b=BBmVLaElhcLqTC5DmzP0EuJlDS4J9jGHAivDuMtUzNxYiHPhBTYDCMF+M6mFeQA7MM 4CqipveKiyQN30f/VKF5qGct0q/zTiD8xg9T74Id/rTlOTBi7j5R5djLxDDBr/KjGKHr 2o376ICdwjKHY7zHB5KQQOMsxJQPqQgZXEtb4= X-Google-DKIM-Signature: v=1; a=rsa-sha256; c=relaxed/relaxed; d=1e100.net; s=20230601; t=1753227104; x=1753831904; h=references:in-reply-to:cc:to:from:subject:message-id:date :x-gm-message-state:from:to:cc:subject:date:message-id:reply-to; bh=bP7sup0PTnhC2/DZ85R8jo64AlKKhM1YMYHBzBaq2yc=; b=YKAEiek7ZZo7s1QpZuB3jXQ53btlMgGVUXC9gD2PTCciLcpN5u4qSYeMxb5hairhCq qmZrBBriBYOpHD9Ei8ez7FbRzTfHf5Sh8gfbtzLmH9dwn3M1euaXQZqAJL5FG0hzq0Cr SzR25p058ZX5Tz3V5BMk23OM/3Wazdqkwz1oVvj0WIRXUddfLnjP5Etti8mULfi9gmTD qaJL688UkjEMv9xYdILdy/DA3EbNkYD4aMlDv/bAH6FamXvYwxiLNi72X777zydTwjxX +bMP0NJNstUs5DS3r5tCD5mHJFDin2Dr7aGRMgeHiotRjHqX2crSX6Ix01yYAYFXMMx/ KUTQ== X-Gm-Message-State: AOJu0Yx6Kb5vyh8e8mMKWE6Z/H8zdhVwcoKaZilnOJvqJMwfMgyLUovI oq/kIqpkgm0kpkFWco2uZTUstfu3qdJfZxIbD1jPgL3i1SAfRtoV0zsKiodrfgNdBbrtd9dMvd6 WsSE43rtWnlxElLiStau+4HuT2G/yqbIwnse4811PDeruJ6NKoJN+UHmmcSme X-Gm-Gg: ASbGncvOvd8TDOiJgSbIkarMfsM4YGTgC+sDyMkM9qATqECRTNoUkua/TJbJulQeLSh 4WZIuyoogfJgfWhYwMf6plI429qkR7WkZBiIMFauGWbvoRQvMSAc+O/e/i83aG/D1uJA4JqHZgL +oYV/ZDQTRfKTiwoyBVVye4jgPyQ4KYGCrHifhJ1Q+V25W1S/QZ/OHxQUZhtIj8fYZK0S6QraD+ LAkxGgwK3NCJdsVfiQHWddXhzo+P0uYJkiqnvSx8YmvdTxpBwZvfWzQIrXxlh+79b7Ak2LrvW+o v2wjIONI8WNO6u6hP1scRV1PGHgaxEsSic9dA8xXvu7o7q5NJw== X-Google-Smtp-Source: AGHT+IGBOmLk91J8c0KsxEpDpIx3n3V5zOy1nDybB5qQ4T234QGHrQqnA5EUGhHYZMBiM2ljYVgl279SDrlu X-Received: by 2002:a05:6122:1793:b0:520:6773:e5ea with SMTP id 71dfb90a1353d-537af59eeeemr370325e0c.7.1753227104196; Tue, 22 Jul 2025 16:31:44 -0700 (PDT) Received: from postal.iol.unh.edu (postal.iol.unh.edu. [2606:4100:3880:1234::84]) by smtp-relay.gmail.com with ESMTPS id 71dfb90a1353d-53764d7f916sm604682e0c.3.2025.07.22.16.31.44 (version=TLS1_2 cipher=ECDHE-ECDSA-AES128-GCM-SHA256 bits=128/128); Tue, 22 Jul 2025 16:31:44 -0700 (PDT) X-Relaying-Domain: iol.unh.edu Date: Tue, 22 Jul 2025 16:31:44 -0700 (PDT) Message-ID: <68801f60.050a0220.2c69e9.e143SMTPIN_ADDED_MISSING@mx.google.com> Received: from [172.21.0.4] (unknown [172.18.0.240]) by postal.iol.unh.edu (Postfix) with ESMTP id DDFAD6051830; Tue, 22 Jul 2025 19:31:43 -0400 (EDT) Subject: |SUCCESS| pw155431-155432 [PATCH] [v1,2/2] dts: add exception handli From: dpdklab@iol.unh.edu To: Test Report Cc: dpdk-test-reports@iol.unh.edu In-Reply-To: <20250722172214.202308-2-dmarx@iol.unh.edu> References: <20250722172214.202308-2-dmarx@iol.unh.edu> Content-Type: text/plain X-BeenThere: test-report@dpdk.org X-Mailman-Version: 2.1.29 Precedence: list List-Id: automatic DPDK test reports List-Unsubscribe: , List-Archive: List-Post: List-Help: List-Subscribe: , Errors-To: test-report-bounces@dpdk.org Test-Label: iol-abi-testing Test-Status: SUCCESS http://dpdk.org/patch/155432 _Testing PASS_ Submitter: Dean Marx Date: Tuesday, July 22 2025 17:22:14 DPDK git baseline: Repo:dpdk Branch: master CommitID:f8fb19d5e2fc20798ed0caa292a1538fbbd98f96 155431-155432 --> testing pass Upstream job id: Generic-DPDK-Compile-ABI#135347 Test environment and result as below: +-------------------------------+----------+ | Environment | abi_test | +===============================+==========+ | CentOS Stream 9 | PASS | +-------------------------------+----------+ | Debian GNU/Linux 12 | PASS | +-------------------------------+----------+ | CentOS Stream 10 | PASS | +-------------------------------+----------+ | Fedora Linux 40 | PASS | +-------------------------------+----------+ | Fedora Linux 41 | PASS | +-------------------------------+----------+ | openSUSE Leap 15.6 | PASS | +-------------------------------+----------+ | Red Hat Enterprise Linux 9.5 | PASS | +-------------------------------+----------+ | Ubuntu 24.04 | PASS | +-------------------------------+----------+ | Ubuntu 22.04 | PASS | +-------------------------------+----------+ | Red Hat Enterprise Linux 8.10 | PASS | +-------------------------------+----------+ CentOS Stream 9 Kernel: 5.15 Compiler: gcc gcc (GCC) 11.5.0 20240719 (Red Hat 11.5.0-7) Debian GNU/Linux 12 Kernel: 5.15 Compiler: gcc gcc (Debian 12.2.0-14+deb12u1) 12.2.0 CentOS Stream 10 Kernel: 5.15 Compiler: gcc gcc (GCC) 14.2.1 20250110 (Red Hat 14.2.1-8) Fedora Linux 40 Kernel: 5.15 Compiler: gcc gcc (GCC) 14.2.1 20240912 (Red Hat 14.2.1-3) Fedora Linux 41 Kernel: 5.15 Compiler: gcc gcc (GCC) 14.3.1 20250523 (Red Hat 14.3.1-1) openSUSE Leap 15.6 Kernel: 5.15 Compiler: gcc gcc (SUSE Linux) 7.5.0 Red Hat Enterprise Linux 9.5 Kernel: 5.15 Compiler: gcc gcc (GCC) 11.5.0 20240719 (Red Hat 11.5.0-2) Ubuntu 24.04 Kernel: 5.15 Compiler: gcc gcc (Ubuntu 13.3.0-6ubuntu2~24.04) 13.3.0 Ubuntu 22.04 Kernel: 5.15 Compiler: gcc gcc (Ubuntu 11.4.0-1ubuntu1~22.04) 11.4.0 Red Hat Enterprise Linux 8.10 Kernel: 5.15 Compiler: gcc gcc (GCC) 8.5.0 20210514 (Red Hat 8.5.0-22) To view detailed results, visit: https://lab.dpdk.org/results/dashboard/patchsets/33729/ UNH-IOL DPDK Community Lab To manage your email subscriptions, visit: https://lab.dpdk.org/results/dashboard/preferences/subscriptions/