From mboxrd@z Thu Jan 1 00:00:00 1970 Return-Path: Received: from mails.dpdk.org (mails.dpdk.org [217.70.189.124]) by inbox.dpdk.org (Postfix) with ESMTP id 5E25146BE9 for ; Wed, 23 Jul 2025 01:32:37 +0200 (CEST) Received: from mails.dpdk.org (localhost [127.0.0.1]) by mails.dpdk.org (Postfix) with ESMTP id 598FF402D2; Wed, 23 Jul 2025 01:32:37 +0200 (CEST) Received: from mail-il1-f227.google.com (mail-il1-f227.google.com [209.85.166.227]) by mails.dpdk.org (Postfix) with ESMTP id DAD97402D2 for ; Wed, 23 Jul 2025 01:32:35 +0200 (CEST) Received: by mail-il1-f227.google.com with SMTP id e9e14a558f8ab-3e28bf4a350so31851375ab.1 for ; Tue, 22 Jul 2025 16:32:35 -0700 (PDT) DKIM-Signature: v=1; a=rsa-sha256; c=relaxed/relaxed; d=iol.unh.edu; s=unh-iol; t=1753227155; x=1753831955; darn=dpdk.org; h=references:in-reply-to:cc:to:from:subject:message-id:date:from:to :cc:subject:date:message-id:reply-to; bh=VPPfEq0EBc6FabpsJcUFlKnC9FOO61IDmlkKSrZacQM=; b=M5LznyzSmaoJDRu3K+mONwW6ZlGqKr+tgu8ZAJ6kWK4VEfWBzsCNg9GU1ku+Eht4Xc iYXM/u+TcIWfTH0ZTmAo0FXj0dyn6ied32gREhopd/0hbxBrOt4bLL/QIl0tPgJkPja8 KahHbmohWMXI3Jwu9/vE39EuAr1H9YDV+3Gjs= X-Google-DKIM-Signature: v=1; a=rsa-sha256; c=relaxed/relaxed; d=1e100.net; s=20230601; t=1753227155; x=1753831955; h=references:in-reply-to:cc:to:from:subject:message-id:date :x-gm-message-state:from:to:cc:subject:date:message-id:reply-to; bh=VPPfEq0EBc6FabpsJcUFlKnC9FOO61IDmlkKSrZacQM=; b=FCu5TSWCpCMJfDiuzmP8MoV1OVVy7dmyVqhJ9Q3RzhnyB4ZbfBsJbcUKWlSY+QkEhV kVl24auwcGA4CV23r6nP5L5W57mu8igRuEMHKqD0gpmafS+9kVC8jlEaaK4gMyJidmhg 4xNw5svHXx79qruXGL5GoPbARcEb1SfNCnNhT0xC4mFMKu1PERIygRzeuuy9ua0fbT10 IHms9+kQa3Of0ggoh36O3sIICx6UxBttV3z+6/uBuJHKLdhcMR/obDHmayYtM1ze6kQ3 p/E2llVeHfwQZq+pcfB32WkgZrzdUmadiKf48nBOwxzjt79inJ91RgiHTJ3nrPYevcuB 2njw== X-Gm-Message-State: AOJu0YxbhF1HnMKqasTe8fgdtmFyeaxMhZth68tdusZZNY+tXVpc131P yXR6JrAUJ7HBQ20eNYAWAYNgkWTjafcco6oO0+E8sAiCmaFbIMZVDlndtsO4uaZo/w9nmXRUiTQ tT3HkaYx0wOM2p15/DhEH/t8FgNhsocczmgCvfrcNQ/Vn X-Gm-Gg: ASbGncvuariGEoKx50HQ4p7orLUenj48kGl2xPcdmX+mNhOQxyQneEfK9wAdMWEd9Gg 9I81DrsL0kzlfoiLX3pQbtTlA5REh5GetySnH1CKhc6yUQw6QMFUgAauD7pgrKZhoLj8Qssi1hX k5PF/2XMQJW29egaAhhJJ4fj2sJyePjXgOv6Q78hWD1KAMbwdjHY3OzK/T7riKLRWgSi5cY7Xr9 YGghKM3sgjNELtrw6m11m61+prVZS2ZsAGC5DG7dPQd250fkeaUouCYB1C6O537eSRchDXAlt/R 4ldjNkfgZsrgxEO8lbRPksSaDHkLNlKgjTuBzlF6V/gEz3mONhMPc7/49s7/eMcf18ESQvln X-Google-Smtp-Source: AGHT+IHSXBphRr/RLm5NRSTR6CP9GIzDH9t3IB119Pjh5gIGuyiB5z49i0Ho63Q16Y5Z++87bgBwkYPMX809 X-Received: by 2002:a05:6e02:12cb:b0:3e2:9b9e:ab85 with SMTP id e9e14a558f8ab-3e32fc98260mr16807555ab.11.1753227155085; Tue, 22 Jul 2025 16:32:35 -0700 (PDT) Received: from postal.iol.unh.edu (postal.iol.unh.edu. [132.177.123.84]) by smtp-relay.gmail.com with ESMTPS id 8926c6da1cb9f-5084c8f4be1sm524213173.42.2025.07.22.16.32.35 (version=TLS1_2 cipher=ECDHE-ECDSA-AES128-GCM-SHA256 bits=128/128); Tue, 22 Jul 2025 16:32:35 -0700 (PDT) X-Relaying-Domain: iol.unh.edu Date: Tue, 22 Jul 2025 16:32:35 -0700 (PDT) Message-ID: <68801f93.050a0220.14fff7.c04aSMTPIN_ADDED_MISSING@mx.google.com> Received: from [172.21.0.6] (unknown [172.18.0.240]) by postal.iol.unh.edu (Postfix) with ESMTP id 8AE3A6051830; Tue, 22 Jul 2025 19:32:34 -0400 (EDT) Subject: |SUCCESS| pw155424 [PATCH] dumpcap: fix warnings when primary exits From: dpdklab@iol.unh.edu To: Test Report Cc: dpdk-test-reports@iol.unh.edu In-Reply-To: <20250722155319.168601-1-stephen@networkplumber.org> References: <20250722155319.168601-1-stephen@networkplumber.org> Content-Type: text/plain X-BeenThere: test-report@dpdk.org X-Mailman-Version: 2.1.29 Precedence: list List-Id: automatic DPDK test reports List-Unsubscribe: , List-Archive: List-Post: List-Help: List-Subscribe: , Errors-To: test-report-bounces@dpdk.org Test-Label: iol-compile-arm64-testing Test-Status: SUCCESS http://dpdk.org/patch/155424 _Testing PASS_ Submitter: Stephen Hemminger Date: Tuesday, July 22 2025 15:53:19 DPDK git baseline: Repo:dpdk Branch: master CommitID:b222395561638f89562e4ef42e1eabf2d6db43dd 155424 --> testing pass Upstream job id: Generic-DPDK-Compile-Meson#411075 Test environment and result as below: +------------------------------+--------------------+ | Environment | dpdk_meson_compile | +==============================+====================+ | Red Hat Enterprise Linux 9.5 | PASS | +------------------------------+--------------------+ | Ubuntu 20.04 | PASS | +------------------------------+--------------------+ | Debian GNU/Linux 12 | PASS | +------------------------------+--------------------+ | Fedora Linux 40 | PASS | +------------------------------+--------------------+ | Fedora Linux 41 | PASS | +------------------------------+--------------------+ | Ubuntu 22.04 | PASS | +------------------------------+--------------------+ | Ubuntu 24.04 | PASS | +------------------------------+--------------------+ | CentOS Stream 9 | PASS | +------------------------------+--------------------+ | CentOS Stream 10 | PASS | +------------------------------+--------------------+ Red Hat Enterprise Linux 9.5 Kernel: 5.4 Compiler: gcc gcc (GCC) 11.5.0 20240719 (Red Hat 11.5.0-2) Ubuntu 20.04 Kernel: 5.15 Compiler: aarch64-linux-gnu-gcc gcc (Ubuntu 9.4.0-1ubuntu1~20.04.2) 9.4.0 Debian GNU/Linux 12 Kernel: 5.4 Compiler: gcc gcc (Debian 12.2.0-14+deb12u1) 12.2.0 Fedora Linux 40 Kernel: 5.4 Compiler: gcc gcc (GCC) 14.2.1 20240912 (Red Hat 14.2.1-3) Fedora Linux 41 Kernel: 5.4 Compiler: gcc gcc (GCC) 14.3.1 20250523 (Red Hat 14.3.1-1) Ubuntu 22.04 Kernel: 5.4 Compiler: gcc gcc (Ubuntu 11.4.0-1ubuntu1~22.04) 11.4.0 Ubuntu 24.04 Kernel: 5.4 Compiler: gcc gcc (Ubuntu 13.3.0-6ubuntu2~24.04) 13.3.0 CentOS Stream 9 Kernel: 5.4 Compiler: gcc gcc (GCC) 11.5.0 20240719 (Red Hat 11.5.0-7) CentOS Stream 10 Kernel: 5.4 Compiler: gcc gcc (GCC) 14.2.1 20250110 (Red Hat 14.2.1-8) To view detailed results, visit: https://lab.dpdk.org/results/dashboard/patchsets/33724/ UNH-IOL DPDK Community Lab To manage your email subscriptions, visit: https://lab.dpdk.org/results/dashboard/preferences/subscriptions/