From mboxrd@z Thu Jan 1 00:00:00 1970 Return-Path: Received: from mails.dpdk.org (mails.dpdk.org [217.70.189.124]) by inbox.dpdk.org (Postfix) with ESMTP id 69CAE46BE9 for ; Wed, 23 Jul 2025 01:32:45 +0200 (CEST) Received: from mails.dpdk.org (localhost [127.0.0.1]) by mails.dpdk.org (Postfix) with ESMTP id 65488402D2; Wed, 23 Jul 2025 01:32:45 +0200 (CEST) Received: from mail-qv1-f100.google.com (mail-qv1-f100.google.com [209.85.219.100]) by mails.dpdk.org (Postfix) with ESMTP id D9C05402D2 for ; Wed, 23 Jul 2025 01:32:43 +0200 (CEST) Received: by mail-qv1-f100.google.com with SMTP id 6a1803df08f44-704c5464aecso55403096d6.0 for ; Tue, 22 Jul 2025 16:32:43 -0700 (PDT) DKIM-Signature: v=1; a=rsa-sha256; c=relaxed/relaxed; d=iol.unh.edu; s=unh-iol; t=1753227163; x=1753831963; darn=dpdk.org; h=references:in-reply-to:cc:to:from:subject:message-id:date:from:to :cc:subject:date:message-id:reply-to; bh=xhwKTbn9UsIsvO0fkq3mwGaMbNBmmvQ1qaxjb0knZ8M=; b=bJzhQwtYsHOySfBvAL73inDn7WJrsFKBZpdea25lxtMM4ZxkYDl/ZrWPlXr1qnPAfR fvHWFWeR+Wm66EJwQRyudLz6dhgcEBJ3X/yqQETcgoN3ayzSMczpqRzcCmylprPKLaHm o+d/rMO1/BQ1Bgxz6PbLN7S4SsRMSp1OYN0N8= X-Google-DKIM-Signature: v=1; a=rsa-sha256; c=relaxed/relaxed; d=1e100.net; s=20230601; t=1753227163; x=1753831963; h=references:in-reply-to:cc:to:from:subject:message-id:date :x-gm-message-state:from:to:cc:subject:date:message-id:reply-to; bh=xhwKTbn9UsIsvO0fkq3mwGaMbNBmmvQ1qaxjb0knZ8M=; b=g58fG3/l6cJNe+FJVpJ1twHiFy3X7/EcxBhxK0jg3+jj83gz2h8WHZLlBv9u7vaPEX gr9+rCCjIwQLwEgEiIq8h6sjAkNW+9jiXNk49LTwm7LKRewOOWdszMevQ12JM4ztriy9 bc/dUWDFmPvzQliwR7C5AQVU4GvmZEZTYEB1HCQQ3fy50TGDhdv+Y1fIDpDKwsCMys1y Um09bD5XjaseZ39TGtFCQH+xSw8QiqILCb07R6KU56OazMpoI3KF7Bav2LRP5u6K1tGe Ed8VPid9skp+flhWU/s+X4/3+dmLrl9rbu45EdAxusDaLOS0LWsGWv4N8Pgpg4NFQlM3 +5hQ== X-Gm-Message-State: AOJu0YxpslBLcdxVlxhuwM79u+Q51Pq1JggIt9sm11HmcchMCTpcCza7 8SqacbwiMZ0+4RxGcpRYmm/25rtSO9S2D+d3u9WuSsGQ2K1N48kK5E6Ka2mKkLoiQRpuU4V/CYC Uo+NDaEAwacb8U2A1pJ94c+TWuASbIzSAwKKO8mUIWnA2 X-Gm-Gg: ASbGnctCd7hrpWHo91pj9GZP781oUpz/TB4VlVgMRyYjgs5z4XV/VWrguTD7SgOFUPr NyRLoDyA0wx5LQMyKfo26h5uyOUt1cUuTTTfTde7ANbeCIYonUBhWXhkrD1LYpk+ybHGiECfWjH 7kFVEbETHAhPEh1QYtRdZ0a7Bhek5xaf0ZCSnEBsZ40nJXZbu7pTjqEV/h4OzwLEqbnJWmXYsrJ xEjWKdrMTxdxdgJiTzoz/R2ANj4JaycwP7PWdJ4uIhrkT40KPsMAKEMlUzmcqymJgGwSaM6I1qf UBIewfrnxaWqqkmOk8ylGae/8q9rI+YM/xye4g5hKpNjXP2zFfLnzkZ0zicW3WYGk720g50g X-Google-Smtp-Source: AGHT+IHZpwKMSssg+zzVXJ6nEjQpHWxt4qWaLHoXSNK0ySidlz3yc6cuRDQoP4bml+raE1t9bmlRvHKi2Hal X-Received: by 2002:a05:6214:2387:b0:702:c15f:3291 with SMTP id 6a1803df08f44-7070077456dmr14617746d6.22.1753227163168; Tue, 22 Jul 2025 16:32:43 -0700 (PDT) Received: from postal.iol.unh.edu (postal.iol.unh.edu. [132.177.123.84]) by smtp-relay.gmail.com with ESMTPS id 6a1803df08f44-7051bd99501sm5661116d6.61.2025.07.22.16.32.43 (version=TLS1_2 cipher=ECDHE-ECDSA-AES128-GCM-SHA256 bits=128/128); Tue, 22 Jul 2025 16:32:43 -0700 (PDT) X-Relaying-Domain: iol.unh.edu Date: Tue, 22 Jul 2025 16:32:43 -0700 (PDT) Message-ID: <68801f9b.050a0220.29d35f.c54bSMTPIN_ADDED_MISSING@mx.google.com> Received: from [172.21.0.3] (unknown [172.18.0.240]) by postal.iol.unh.edu (Postfix) with ESMTP id E2B216051830; Tue, 22 Jul 2025 19:32:42 -0400 (EDT) Subject: |SUCCESS| pw155431-155432 [PATCH] [v1,2/2] dts: add exception handli From: dpdklab@iol.unh.edu To: Test Report Cc: dpdk-test-reports@iol.unh.edu In-Reply-To: <20250722172214.202308-2-dmarx@iol.unh.edu> References: <20250722172214.202308-2-dmarx@iol.unh.edu> Content-Type: text/plain X-BeenThere: test-report@dpdk.org X-Mailman-Version: 2.1.29 Precedence: list List-Id: automatic DPDK test reports List-Unsubscribe: , List-Archive: List-Post: List-Help: List-Subscribe: , Errors-To: test-report-bounces@dpdk.org Test-Label: iol-abi-testing Test-Status: SUCCESS http://dpdk.org/patch/155432 _Testing PASS_ Submitter: Dean Marx Date: Tuesday, July 22 2025 17:22:14 DPDK git baseline: Repo:dpdk Branch: master CommitID:f8fb19d5e2fc20798ed0caa292a1538fbbd98f96 155431-155432 --> testing pass Upstream job id: Generic-DPDK-Compile-ABI#135348 Test environment and result as below: +-------------------------------+----------+ | Environment | abi_test | +===============================+==========+ | CentOS Stream 9 | PASS | +-------------------------------+----------+ | Debian GNU/Linux 12 | PASS | +-------------------------------+----------+ | CentOS Stream 10 | PASS | +-------------------------------+----------+ | Fedora Linux 40 | PASS | +-------------------------------+----------+ | Fedora Linux 41 | PASS | +-------------------------------+----------+ | openSUSE Leap 15.6 | PASS | +-------------------------------+----------+ | Red Hat Enterprise Linux 9.5 | PASS | +-------------------------------+----------+ | Ubuntu 24.04 | PASS | +-------------------------------+----------+ | Ubuntu 22.04 | PASS | +-------------------------------+----------+ | Red Hat Enterprise Linux 8.10 | PASS | +-------------------------------+----------+ CentOS Stream 9 Kernel: 5.15 Compiler: gcc gcc (GCC) 11.5.0 20240719 (Red Hat 11.5.0-7) Debian GNU/Linux 12 Kernel: 5.15 Compiler: gcc gcc (Debian 12.2.0-14+deb12u1) 12.2.0 CentOS Stream 10 Kernel: 5.15 Compiler: gcc gcc (GCC) 14.2.1 20250110 (Red Hat 14.2.1-8) Fedora Linux 40 Kernel: 5.15 Compiler: gcc gcc (GCC) 14.2.1 20240912 (Red Hat 14.2.1-3) Fedora Linux 41 Kernel: 5.15 Compiler: gcc gcc (GCC) 14.3.1 20250523 (Red Hat 14.3.1-1) openSUSE Leap 15.6 Kernel: 5.15 Compiler: gcc gcc (SUSE Linux) 7.5.0 Red Hat Enterprise Linux 9.5 Kernel: 5.15 Compiler: gcc gcc (GCC) 11.5.0 20240719 (Red Hat 11.5.0-2) Ubuntu 24.04 Kernel: 5.15 Compiler: gcc gcc (Ubuntu 13.3.0-6ubuntu2~24.04) 13.3.0 Ubuntu 22.04 Kernel: 5.15 Compiler: gcc gcc (Ubuntu 11.4.0-1ubuntu1~22.04) 11.4.0 Red Hat Enterprise Linux 8.10 Kernel: 5.15 Compiler: gcc gcc (GCC) 8.5.0 20210514 (Red Hat 8.5.0-22) To view detailed results, visit: https://lab.dpdk.org/results/dashboard/patchsets/33729/ UNH-IOL DPDK Community Lab To manage your email subscriptions, visit: https://lab.dpdk.org/results/dashboard/preferences/subscriptions/