From mboxrd@z Thu Jan 1 00:00:00 1970 Return-Path: Received: from mails.dpdk.org (mails.dpdk.org [217.70.189.124]) by inbox.dpdk.org (Postfix) with ESMTP id 7ABAC46BE9 for ; Wed, 23 Jul 2025 01:32:57 +0200 (CEST) Received: from mails.dpdk.org (localhost [127.0.0.1]) by mails.dpdk.org (Postfix) with ESMTP id 7629C402D2; Wed, 23 Jul 2025 01:32:57 +0200 (CEST) Received: from mail-ua1-f100.google.com (mail-ua1-f100.google.com [209.85.222.100]) by mails.dpdk.org (Postfix) with ESMTP id 69A66402D2 for ; Wed, 23 Jul 2025 01:32:55 +0200 (CEST) Received: by mail-ua1-f100.google.com with SMTP id a1e0cc1a2514c-88b477c9033so358112241.1 for ; Tue, 22 Jul 2025 16:32:55 -0700 (PDT) DKIM-Signature: v=1; a=rsa-sha256; c=relaxed/relaxed; d=iol.unh.edu; s=unh-iol; t=1753227175; x=1753831975; darn=dpdk.org; h=references:in-reply-to:cc:to:from:subject:message-id:date:from:to :cc:subject:date:message-id:reply-to; bh=ej1gfC5z2dqMRXHbt/mMFzsRlYXv3JvOTmjr9wmz2fI=; b=Y+6B52uH3Eua3sSXlk8a8nD6ffw6rafDEiW234BXF8LAvVH/FghDf2lkP6//1vk/0s enkniis6PmMMQjm2A8PDc9I8hZl1hvnNwrcSiljJmfA9RCBqRCXHg2WkCdXSszMmodee OQPfBlgG1HPJe9cBQ86LLEfdZzUDL4c4HSX4w= X-Google-DKIM-Signature: v=1; a=rsa-sha256; c=relaxed/relaxed; d=1e100.net; s=20230601; t=1753227175; x=1753831975; h=references:in-reply-to:cc:to:from:subject:message-id:date :x-gm-message-state:from:to:cc:subject:date:message-id:reply-to; bh=ej1gfC5z2dqMRXHbt/mMFzsRlYXv3JvOTmjr9wmz2fI=; b=gC/2EX9mrh5ZcuxqZmAyIJxqqsCLOQXO3FOBKYz7IxdgVYwvfR54XLLhP9fCdQ3Oue b3XCPrq9tqfzchQEzG4ndj6YX+dGPNtmEZAIzVd3ewRpXOA5rklqbB1r5Y/5rKGggoXV zpdrR7Au48RWNoGKybBCMGYaobOUDtFsnTLcW44rnhY1lFiAjFXsQJnxaRfIqV7BGS0f Cibl/7DO8xb9s+Dy03qeV0wKa1ZB0jPEsG841WWsCEuZIYrxtryESbuxYzgmMHGGb03P UOadoBkwMaLTM/NgAF3SvG/r/G1Bwb00qNWlKGpdaI8oK6r4Tw1bNYxEoDXJDlcxnykP K7hg== X-Gm-Message-State: AOJu0YyJ3VdVYgHXFXeA4m7XfNO7UhxKDJ0IlaBwcds1LL51ikbNvXGB cJYECclbdcAAHKPK+Tq2P3vDnAjmW7v9g0QHl0gmYoOqIA2F8AQlL2rf5Qd38/XXYK3KD4Ad5bz kbxKTjGBTrPxnKkUjJ2r7f2nkVVPVSQ3wytAuJxemnUY70jkCVlurtHj42UMI X-Gm-Gg: ASbGncsot6cutf3nkYck1NTXYnPupGG3KqLOkKk6xH7pYDnOFEe6FnrpU5dT/SogKVc ks3Ok3qzLIFFKu7Ju9JGulqNwab42Muc1MDt77EWjamAwosFO7nZwyGQhUlG7P/9o5QWQAQwpQU A1Sr9s8eb5AC++/gkLSUM+qDJ9lDX2ct2M2eLZ3GG5Mw/NCJ6uavwDtVYDPFvsK3qwwud7rNp2Z gf4ijc9EKTukCJFbtN5b+ALJKQBvKLfdBCqzLZH/W8eJVSxnAeL0KkKfkKitjagqVUjNxQCC+GH hxIlWaPt+zPKwcNdoCT496RNZPtwGMsVLGH6aC7zEl1sXEGIQA== X-Google-Smtp-Source: AGHT+IFyp4D9KAgx6fIOxT0u1wZVMg8B+q7T6gb/f4r3ZL5fZ9tR6jV/A8imenr7DjOaTxwvBXM7iHZZbko8 X-Received: by 2002:a05:6102:2c8d:b0:4e7:dbd2:4605 with SMTP id ada2fe7eead31-4fa151fce1cmr441145137.24.1753227174704; Tue, 22 Jul 2025 16:32:54 -0700 (PDT) Received: from postal.iol.unh.edu (postal.iol.unh.edu. [2606:4100:3880:1234::84]) by smtp-relay.gmail.com with ESMTPS id 71dfb90a1353d-53764b588a4sm588557e0c.0.2025.07.22.16.32.54 (version=TLS1_2 cipher=ECDHE-ECDSA-AES128-GCM-SHA256 bits=128/128); Tue, 22 Jul 2025 16:32:54 -0700 (PDT) X-Relaying-Domain: iol.unh.edu Date: Tue, 22 Jul 2025 16:32:54 -0700 (PDT) Message-ID: <68801fa6.050a0220.27e54b.f488SMTPIN_ADDED_MISSING@mx.google.com> Received: from [172.21.0.2] (unknown [172.18.0.240]) by postal.iol.unh.edu (Postfix) with ESMTP id 677A16051830; Tue, 22 Jul 2025 19:32:54 -0400 (EDT) Subject: |SUCCESS| pw155431-155432 [PATCH] [v1,2/2] dts: add exception handli From: dpdklab@iol.unh.edu To: Test Report Cc: dpdk-test-reports@iol.unh.edu In-Reply-To: <20250722172214.202308-2-dmarx@iol.unh.edu> References: <20250722172214.202308-2-dmarx@iol.unh.edu> Content-Type: text/plain X-BeenThere: test-report@dpdk.org X-Mailman-Version: 2.1.29 Precedence: list List-Id: automatic DPDK test reports List-Unsubscribe: , List-Archive: List-Post: List-Help: List-Subscribe: , Errors-To: test-report-bounces@dpdk.org Test-Label: iol-abi-testing Test-Status: SUCCESS http://dpdk.org/patch/155432 _Testing PASS_ Submitter: Dean Marx Date: Tuesday, July 22 2025 17:22:14 DPDK git baseline: Repo:dpdk Branch: master CommitID:f8fb19d5e2fc20798ed0caa292a1538fbbd98f96 155431-155432 --> testing pass Upstream job id: Generic-DPDK-Compile-ABI#135353 Test environment and result as below: +-------------------------------+----------+ | Environment | abi_test | +===============================+==========+ | CentOS Stream 9 | PASS | +-------------------------------+----------+ | Debian GNU/Linux 12 | PASS | +-------------------------------+----------+ | CentOS Stream 10 | PASS | +-------------------------------+----------+ | Fedora Linux 40 | PASS | +-------------------------------+----------+ | Fedora Linux 41 | PASS | +-------------------------------+----------+ | openSUSE Leap 15.6 | PASS | +-------------------------------+----------+ | Red Hat Enterprise Linux 9.5 | PASS | +-------------------------------+----------+ | Ubuntu 24.04 | PASS | +-------------------------------+----------+ | Ubuntu 22.04 | PASS | +-------------------------------+----------+ | Red Hat Enterprise Linux 8.10 | PASS | +-------------------------------+----------+ CentOS Stream 9 Kernel: 5.15 Compiler: gcc gcc (GCC) 11.5.0 20240719 (Red Hat 11.5.0-7) Debian GNU/Linux 12 Kernel: 5.15 Compiler: gcc gcc (Debian 12.2.0-14+deb12u1) 12.2.0 CentOS Stream 10 Kernel: 5.15 Compiler: gcc gcc (GCC) 14.2.1 20250110 (Red Hat 14.2.1-8) Fedora Linux 40 Kernel: 5.15 Compiler: gcc gcc (GCC) 14.2.1 20240912 (Red Hat 14.2.1-3) Fedora Linux 41 Kernel: 5.15 Compiler: gcc gcc (GCC) 14.3.1 20250523 (Red Hat 14.3.1-1) openSUSE Leap 15.6 Kernel: 5.15 Compiler: gcc gcc (SUSE Linux) 7.5.0 Red Hat Enterprise Linux 9.5 Kernel: 5.15 Compiler: gcc gcc (GCC) 11.5.0 20240719 (Red Hat 11.5.0-2) Ubuntu 24.04 Kernel: 5.15 Compiler: gcc gcc (Ubuntu 13.3.0-6ubuntu2~24.04) 13.3.0 Ubuntu 22.04 Kernel: 5.15 Compiler: gcc gcc (Ubuntu 11.4.0-1ubuntu1~22.04) 11.4.0 Red Hat Enterprise Linux 8.10 Kernel: 5.15 Compiler: gcc gcc (GCC) 8.5.0 20210514 (Red Hat 8.5.0-22) To view detailed results, visit: https://lab.dpdk.org/results/dashboard/patchsets/33729/ UNH-IOL DPDK Community Lab To manage your email subscriptions, visit: https://lab.dpdk.org/results/dashboard/preferences/subscriptions/