From mboxrd@z Thu Jan 1 00:00:00 1970 Return-Path: Received: from mails.dpdk.org (mails.dpdk.org [217.70.189.124]) by inbox.dpdk.org (Postfix) with ESMTP id 9B22B46BE9 for ; Wed, 23 Jul 2025 01:34:00 +0200 (CEST) Received: from mails.dpdk.org (localhost [127.0.0.1]) by mails.dpdk.org (Postfix) with ESMTP id 91A87402D2; Wed, 23 Jul 2025 01:34:00 +0200 (CEST) Received: from mail-il1-f228.google.com (mail-il1-f228.google.com [209.85.166.228]) by mails.dpdk.org (Postfix) with ESMTP id 26F07402D2 for ; Wed, 23 Jul 2025 01:34:00 +0200 (CEST) Received: by mail-il1-f228.google.com with SMTP id e9e14a558f8ab-3ddb4a7ac19so24978695ab.3 for ; Tue, 22 Jul 2025 16:34:00 -0700 (PDT) DKIM-Signature: v=1; a=rsa-sha256; c=relaxed/relaxed; d=iol.unh.edu; s=unh-iol; t=1753227239; x=1753832039; darn=dpdk.org; h=references:in-reply-to:cc:to:from:subject:message-id:date:from:to :cc:subject:date:message-id:reply-to; bh=j/O8uGw3i62GrCFB5Wwe44wbPKoBh6kIGKY6eMtaCVw=; b=EcPMDnhA5SXj+l47rxdObVqj4Cpua/xtdvejSh1fZeKXL+HPUVCBPiFnI7nNCrqib5 U1cgR4w7nqQ5GU7NbxuhWjhgHN+EGVH3yI47rv+Do+wS6wyCO5mr7vtMvdRGxqKy8oL8 4NN4LBLg0u6LRzrDTgwJf2GOnK0wnuDK0N2QA= X-Google-DKIM-Signature: v=1; a=rsa-sha256; c=relaxed/relaxed; d=1e100.net; s=20230601; t=1753227239; x=1753832039; h=references:in-reply-to:cc:to:from:subject:message-id:date :x-gm-message-state:from:to:cc:subject:date:message-id:reply-to; bh=j/O8uGw3i62GrCFB5Wwe44wbPKoBh6kIGKY6eMtaCVw=; b=OJp+J9I4VhnBYpIE9JJhgcqC4L1Uc0frEBJZvtdof3qHyWJ/XIQ7Q4DwANV4rjR9a0 /V72W/NiOAqt7WWUtKb2l9OLuANvDzDTekeUgnl5kUmpIYmrOgzUdJ9G/NZTsTo2x0J1 2ttBKJ0ZPPsbLjcXhgnSyb1Ke8mcHRYpV7dfAbHMYG485JY/OwWg9ixXswcgiFEKrc0a 0Acrc8vKGroQdlMkEKvHp7UEGG1KmbDb9Mw4muAAJQIy2Fi0GkhpgHLCxGFegcV4Hj5m 9fSDIEZ957TQxTkbNjhpQRHv9GVzrIBrP0thD6rsKpEvl6re4HJOpuguCGKZPi7+wT0S ynWA== X-Gm-Message-State: AOJu0YzAt4kHyhqBVgTfgf3RoZEnYDIJnp9jbIJIdXnOoj4DBq8JRwZD nxxEjj516VUOlka1WGoMizDkLG3X3LcWtlWODt3ZionHz9gkCkj3X/b7+bvTSOAFlJhw50RvR00 Xvuugy1YT/nVNfcjwP4lv8I1NG/19sUZ6B9eyItiwkc67 X-Gm-Gg: ASbGncso4mcwKU0Z+EQhSt5GJQ2952KYZy837uZ7f2oTkFAS7QEa6c0pJAhhDWMGKXm YuW/AKFdWRT+r5ZVA94mlxscRzik5ACoEIRriZXwT1xbieKzh/iIfvf5zxm5EbzyxqLdVwW5iPt axzkLubBvEuJ13dxLLzwN54xe8BqDYIiyfoau0C+dLxQdkUHMYmcbJDT0W0c+MHJuqTgmZqUeIZ cHBZ2rN2Lgr3RITbckVHIKkHBgiTgzSEeVvqr0fMARkFfTsUuIQyxSWPZoM1YEAwhv9D8tplBz0 nbybXa48EdUKF4S0ZcjIdncey1yhJ2kZ5H5I9WsQuh3MFYMvdn1gP2fYmRyxkLUDvdusIaBb X-Google-Smtp-Source: AGHT+IHk1rBAi5DOEGbFfJPSajPEKns6rt153w393i89I4NEySv/sicD1B/LyJjagc3WcDgoXxz3sXdFO2Gv X-Received: by 2002:a05:6e02:490c:b0:3e2:977d:f814 with SMTP id e9e14a558f8ab-3e3354a2967mr18720065ab.19.1753227239479; Tue, 22 Jul 2025 16:33:59 -0700 (PDT) Received: from postal.iol.unh.edu (postal.iol.unh.edu. [132.177.123.84]) by smtp-relay.gmail.com with ESMTPS id e9e14a558f8ab-3e29821b5fcsm7073705ab.14.2025.07.22.16.33.59 (version=TLS1_2 cipher=ECDHE-ECDSA-AES128-GCM-SHA256 bits=128/128); Tue, 22 Jul 2025 16:33:59 -0700 (PDT) X-Relaying-Domain: iol.unh.edu Date: Tue, 22 Jul 2025 16:33:59 -0700 (PDT) Message-ID: <68801fe7.050a0220.1c3222.5a34SMTPIN_ADDED_MISSING@mx.google.com> Received: from [172.21.0.2] (unknown [172.18.0.240]) by postal.iol.unh.edu (Postfix) with ESMTP id 0909D6051830; Tue, 22 Jul 2025 19:33:59 -0400 (EDT) Subject: |SUCCESS| pw155431-155432 [PATCH] [v1,2/2] dts: add exception handli From: dpdklab@iol.unh.edu To: Test Report Cc: dpdk-test-reports@iol.unh.edu In-Reply-To: <20250722172214.202308-2-dmarx@iol.unh.edu> References: <20250722172214.202308-2-dmarx@iol.unh.edu> Content-Type: text/plain X-BeenThere: test-report@dpdk.org X-Mailman-Version: 2.1.29 Precedence: list List-Id: automatic DPDK test reports List-Unsubscribe: , List-Archive: List-Post: List-Help: List-Subscribe: , Errors-To: test-report-bounces@dpdk.org Test-Label: iol-abi-testing Test-Status: SUCCESS http://dpdk.org/patch/155432 _Testing PASS_ Submitter: Dean Marx Date: Tuesday, July 22 2025 17:22:14 DPDK git baseline: Repo:dpdk Branch: master CommitID:f8fb19d5e2fc20798ed0caa292a1538fbbd98f96 155431-155432 --> testing pass Upstream job id: Generic-DPDK-Compile-ABI#135345 Test environment and result as below: +-------------------------------+----------+ | Environment | abi_test | +===============================+==========+ | CentOS Stream 9 | PASS | +-------------------------------+----------+ | Debian GNU/Linux 12 | PASS | +-------------------------------+----------+ | CentOS Stream 10 | PASS | +-------------------------------+----------+ | Fedora Linux 40 | PASS | +-------------------------------+----------+ | Fedora Linux 41 | PASS | +-------------------------------+----------+ | openSUSE Leap 15.6 | PASS | +-------------------------------+----------+ | Red Hat Enterprise Linux 9.5 | PASS | +-------------------------------+----------+ | Ubuntu 24.04 | PASS | +-------------------------------+----------+ | Ubuntu 22.04 | PASS | +-------------------------------+----------+ | Red Hat Enterprise Linux 8.10 | PASS | +-------------------------------+----------+ CentOS Stream 9 Kernel: 5.15 Compiler: gcc gcc (GCC) 11.5.0 20240719 (Red Hat 11.5.0-7) Debian GNU/Linux 12 Kernel: 5.15 Compiler: gcc gcc (Debian 12.2.0-14+deb12u1) 12.2.0 CentOS Stream 10 Kernel: 5.15 Compiler: gcc gcc (GCC) 14.2.1 20250110 (Red Hat 14.2.1-8) Fedora Linux 40 Kernel: 5.15 Compiler: gcc gcc (GCC) 14.2.1 20240912 (Red Hat 14.2.1-3) Fedora Linux 41 Kernel: 5.15 Compiler: gcc gcc (GCC) 14.3.1 20250523 (Red Hat 14.3.1-1) openSUSE Leap 15.6 Kernel: 5.15 Compiler: gcc gcc (SUSE Linux) 7.5.0 Red Hat Enterprise Linux 9.5 Kernel: 5.15 Compiler: gcc gcc (GCC) 11.5.0 20240719 (Red Hat 11.5.0-2) Ubuntu 24.04 Kernel: 5.15 Compiler: gcc gcc (Ubuntu 13.3.0-6ubuntu2~24.04) 13.3.0 Ubuntu 22.04 Kernel: 5.15 Compiler: gcc gcc (Ubuntu 11.4.0-1ubuntu1~22.04) 11.4.0 Red Hat Enterprise Linux 8.10 Kernel: 5.15 Compiler: gcc gcc (GCC) 8.5.0 20210514 (Red Hat 8.5.0-22) To view detailed results, visit: https://lab.dpdk.org/results/dashboard/patchsets/33729/ UNH-IOL DPDK Community Lab To manage your email subscriptions, visit: https://lab.dpdk.org/results/dashboard/preferences/subscriptions/