From mboxrd@z Thu Jan 1 00:00:00 1970 Return-Path: Received: from mails.dpdk.org (mails.dpdk.org [217.70.189.124]) by inbox.dpdk.org (Postfix) with ESMTP id B125A46BE9 for ; Wed, 23 Jul 2025 01:34:15 +0200 (CEST) Received: from mails.dpdk.org (localhost [127.0.0.1]) by mails.dpdk.org (Postfix) with ESMTP id ABBC3402D2; Wed, 23 Jul 2025 01:34:15 +0200 (CEST) Received: from mail-il1-f225.google.com (mail-il1-f225.google.com [209.85.166.225]) by mails.dpdk.org (Postfix) with ESMTP id 8130F402D2 for ; Wed, 23 Jul 2025 01:34:14 +0200 (CEST) Received: by mail-il1-f225.google.com with SMTP id e9e14a558f8ab-3df210930f7so1956735ab.1 for ; Tue, 22 Jul 2025 16:34:14 -0700 (PDT) DKIM-Signature: v=1; a=rsa-sha256; c=relaxed/relaxed; d=iol.unh.edu; s=unh-iol; t=1753227254; x=1753832054; darn=dpdk.org; h=references:in-reply-to:cc:to:from:subject:message-id:date:from:to :cc:subject:date:message-id:reply-to; bh=UDmht+tIRdVbKXzRffwGk7Ajy5SuSL5kjykHcclVQBE=; b=H6xv3y++vlzOYPgAWoaMlS2e6Pp0dwg30Wne6eb+v6h6C5UiocJ8yDrUJMfmnmgUxi 9k6glMV3RDsPmEN6Uyioh5C1swf9JNwYCZCYKEYTjyR2T51D0TzPoXublsFssP86Wote 8Vc3pYA6ZL1SpNOHjtqbW2tX9w5xpd4gS7+rQ= X-Google-DKIM-Signature: v=1; a=rsa-sha256; c=relaxed/relaxed; d=1e100.net; s=20230601; t=1753227254; x=1753832054; h=references:in-reply-to:cc:to:from:subject:message-id:date :x-gm-message-state:from:to:cc:subject:date:message-id:reply-to; bh=UDmht+tIRdVbKXzRffwGk7Ajy5SuSL5kjykHcclVQBE=; b=T6lGBt0fnGqWGLhItWOjMz+Z1+bOpEpJI+dji+KLAu43UWxeLvYhPYvzMwuBdRxDhR MSmN9fOlIa3FY0Nj25hOXmLZSabe/KDiELWHJu/NToRRhyS2TqK6lWpQ0H4bm6l0kgch ylmu3fp1g9nl/RXdKvF9wazUPwBgQXEyH+IdklvS/PSWGH5+/3gHFzqA7rwR1gv6m0sL iPsAaZfd2tMRc8PojXrbEWyo7zJTEkOdmfJHJh7MJ4FyYSXWGB0Boi2cO86awFAGdrgg NU/fSomm954jh2SfIw2d7wiMKxTkenQCSXT7RygKblJZTrCfXK77PeMxWloGgCkE01D/ +XAA== X-Gm-Message-State: AOJu0YzmwBZUzmArmuDGohD5scS4VLqmGq7BIt6rdKHhaHdu9CFksLvj SF9aJ3rIXdPT70IuLsl90iVXV6T1Q7ipcsph3jR/oXuKY0v1bA+jCUvwvKMcZ3sxGryMlUIKCmr VtGjaCBRjZM7XKAWvdSacgGaTbQ5l2AIva09e5tnCIJYD+aJ/zyN+IExk4oPH X-Gm-Gg: ASbGncslTfOGIZI5hGbHd1z+IxqaGG2nubz5fYM43iNkbJxs7XUQcuYUBydyDkRx350 pwRvWNVRtVN0kingdN8T9Cp6sL+OWlky5X9WS1qVwVJtHB8g2QIJnSKXAItwEz3kWuoimtkgady DwaBIagtGQrull2TWN6sUpTx2q9DkdI83hLVAdVWSAqUUr71FoEr3x7xqiTEWihO8bMNWNEqCWb c/56AP8BlEKPmZqCn1Xsf9EFP5V6zeW+KXo5jqSStJvnHErcwZ+iTH5+Revq/QLk0yBXPXQHVeX Laq6I5y5cTIxTQyZ25orpjkHic+bMrbvxkfnU/B79Bfa524Ung== X-Google-Smtp-Source: AGHT+IE9oqeFk4RzFdvFPkqMvpQZAtmHTbpDlBtsIkbS9bjjKgHyXUgtcCqZ7PyvobRqRvrpshCkbu329Eqo X-Received: by 2002:a05:6e02:194e:b0:3dd:a0fc:1990 with SMTP id e9e14a558f8ab-3e2be6c5d27mr99765815ab.3.1753227253798; Tue, 22 Jul 2025 16:34:13 -0700 (PDT) Received: from postal.iol.unh.edu (postal.iol.unh.edu. [2606:4100:3880:1234::84]) by smtp-relay.gmail.com with ESMTPS id 8926c6da1cb9f-5084c8f6e52sm495938173.43.2025.07.22.16.34.13 (version=TLS1_2 cipher=ECDHE-ECDSA-AES128-GCM-SHA256 bits=128/128); Tue, 22 Jul 2025 16:34:13 -0700 (PDT) X-Relaying-Domain: iol.unh.edu Date: Tue, 22 Jul 2025 16:34:13 -0700 (PDT) Message-ID: <68801ff5.050a0220.17dbc9.9557SMTPIN_ADDED_MISSING@mx.google.com> Received: from [172.21.0.2] (unknown [172.18.0.240]) by postal.iol.unh.edu (Postfix) with ESMTP id 158726051830; Tue, 22 Jul 2025 19:34:13 -0400 (EDT) Subject: |SUCCESS| pw155431-155432 [PATCH] [v1,2/2] dts: add exception handli From: dpdklab@iol.unh.edu To: Test Report Cc: dpdk-test-reports@iol.unh.edu In-Reply-To: <20250722172214.202308-2-dmarx@iol.unh.edu> References: <20250722172214.202308-2-dmarx@iol.unh.edu> Content-Type: text/plain X-BeenThere: test-report@dpdk.org X-Mailman-Version: 2.1.29 Precedence: list List-Id: automatic DPDK test reports List-Unsubscribe: , List-Archive: List-Post: List-Help: List-Subscribe: , Errors-To: test-report-bounces@dpdk.org Test-Label: iol-abi-testing Test-Status: SUCCESS http://dpdk.org/patch/155432 _Testing PASS_ Submitter: Dean Marx Date: Tuesday, July 22 2025 17:22:14 DPDK git baseline: Repo:dpdk Branch: master CommitID:f8fb19d5e2fc20798ed0caa292a1538fbbd98f96 155431-155432 --> testing pass Upstream job id: Generic-DPDK-Compile-ABI#135343 Test environment and result as below: +-------------------------------+----------+ | Environment | abi_test | +===============================+==========+ | CentOS Stream 9 | PASS | +-------------------------------+----------+ | Debian GNU/Linux 12 | PASS | +-------------------------------+----------+ | CentOS Stream 10 | PASS | +-------------------------------+----------+ | Fedora Linux 40 | PASS | +-------------------------------+----------+ | Fedora Linux 41 | PASS | +-------------------------------+----------+ | openSUSE Leap 15.6 | PASS | +-------------------------------+----------+ | Red Hat Enterprise Linux 9.5 | PASS | +-------------------------------+----------+ | Ubuntu 24.04 | PASS | +-------------------------------+----------+ | Ubuntu 22.04 | PASS | +-------------------------------+----------+ | Red Hat Enterprise Linux 8.10 | PASS | +-------------------------------+----------+ CentOS Stream 9 Kernel: 5.15 Compiler: gcc gcc (GCC) 11.5.0 20240719 (Red Hat 11.5.0-7) Debian GNU/Linux 12 Kernel: 5.15 Compiler: gcc gcc (Debian 12.2.0-14+deb12u1) 12.2.0 CentOS Stream 10 Kernel: 5.15 Compiler: gcc gcc (GCC) 14.2.1 20250110 (Red Hat 14.2.1-8) Fedora Linux 40 Kernel: 5.15 Compiler: gcc gcc (GCC) 14.2.1 20240912 (Red Hat 14.2.1-3) Fedora Linux 41 Kernel: 5.15 Compiler: gcc gcc (GCC) 14.3.1 20250523 (Red Hat 14.3.1-1) openSUSE Leap 15.6 Kernel: 5.15 Compiler: gcc gcc (SUSE Linux) 7.5.0 Red Hat Enterprise Linux 9.5 Kernel: 5.15 Compiler: gcc gcc (GCC) 11.5.0 20240719 (Red Hat 11.5.0-2) Ubuntu 24.04 Kernel: 5.15 Compiler: gcc gcc (Ubuntu 13.3.0-6ubuntu2~24.04) 13.3.0 Ubuntu 22.04 Kernel: 5.15 Compiler: gcc gcc (Ubuntu 11.4.0-1ubuntu1~22.04) 11.4.0 Red Hat Enterprise Linux 8.10 Kernel: 5.15 Compiler: gcc gcc (GCC) 8.5.0 20210514 (Red Hat 8.5.0-22) To view detailed results, visit: https://lab.dpdk.org/results/dashboard/patchsets/33729/ UNH-IOL DPDK Community Lab To manage your email subscriptions, visit: https://lab.dpdk.org/results/dashboard/preferences/subscriptions/