From mboxrd@z Thu Jan 1 00:00:00 1970 Return-Path: Received: from mails.dpdk.org (mails.dpdk.org [217.70.189.124]) by inbox.dpdk.org (Postfix) with ESMTP id 8404146BE9 for ; Wed, 23 Jul 2025 01:53:31 +0200 (CEST) Received: from mails.dpdk.org (localhost [127.0.0.1]) by mails.dpdk.org (Postfix) with ESMTP id 4D76D4026D; Wed, 23 Jul 2025 01:53:31 +0200 (CEST) Received: from mail-pl1-f226.google.com (mail-pl1-f226.google.com [209.85.214.226]) by mails.dpdk.org (Postfix) with ESMTP id 8496E4026D for ; Wed, 23 Jul 2025 01:53:30 +0200 (CEST) Received: by mail-pl1-f226.google.com with SMTP id d9443c01a7336-234b9dfb842so51455005ad.1 for ; Tue, 22 Jul 2025 16:53:30 -0700 (PDT) DKIM-Signature: v=1; a=rsa-sha256; c=relaxed/relaxed; d=iol.unh.edu; s=unh-iol; t=1753228410; x=1753833210; darn=dpdk.org; h=references:in-reply-to:cc:to:from:subject:message-id:date:from:to :cc:subject:date:message-id:reply-to; bh=owqxQBl0oHmKBpMsvmVV6CtfLlTZYVYsjPpfzKGtcpc=; b=QTohGDqFPC+MGLcdG9I4TLIoKLbzOPfqgc2vPinrC95QevLqwTyVprPNr1KYvFbfEL s/DdmgecAx+LjGkUePavQRGzjotkLrYdmTUnMUYtzcC+Bls8QkmVqlSsq71Gek15+f9W WLb3hUqqy+R8lzqlKqOvDfaOeJtyriFF0r5qQ= X-Google-DKIM-Signature: v=1; a=rsa-sha256; c=relaxed/relaxed; d=1e100.net; s=20230601; t=1753228410; x=1753833210; h=references:in-reply-to:cc:to:from:subject:message-id:date :x-gm-message-state:from:to:cc:subject:date:message-id:reply-to; bh=owqxQBl0oHmKBpMsvmVV6CtfLlTZYVYsjPpfzKGtcpc=; b=tsuPatjhZ/f7U40XV/mQy+WZSHIdnTH7yypUY6/Htx48Bd3pvV6h8pvNpnhc7UHe26 Q6wuntepmbYXCvPeOOoSvp61EK7N1q+mm9tXYbShcmt1NY1Y2nX3hFEdIrQXQKlkNnTJ 4UChEMdzFs7cGq8Jpu0fEzgTqjNiEmc2GNzc5GmCEfydXmagdr2eSTbaPk3EWA6IiR+8 +hqx2WuU8r0HNOPudCA66qVGfT8l8Gu6W054xgIKVyLh1fIHQgw0/yDq/+D7xv3ncn+a sdZL51573oqvWhlhwrm61H9LtbsXyR1/x2PePQ014g19//0VC3bFhBAUjNokqbgsEzHJ 2d/A== X-Gm-Message-State: AOJu0YzswXdH0yspfbK8kzjyabaxeBWuVXp9CI27Dxk6BIQYEjym4qaO zhT2YE+bEVd8Cc1sftYxR+ddVpiLJFAD2gQAwzyKT4PneJkzc3Kx/Eb54jgcXm+NKnCU9vEHeez GRZQxdEh262LdY8Sg7d813HDI6KieXnyj2RMaDbtOssguTEw0VrXsjDHKAFst X-Gm-Gg: ASbGncvWEdZ+iGB2iCngisRPRl0CT6+yARnvp+01w4Ls+ZJ9TntRMXFzDIZYh3KPp42 0defYwJsNaJIF7Kaq2QkRRG7Wk49qntE+g1lhdjaUhF0jlaK0hMyZJEfSV8Jm1752322sU7r8Bh gTXlMxSAqZs8LpHq/ojGhWp+wtV8hVD/Kc1j0seJKf3/gQjCstcv/F+sMQisE6lNNdiLXpMOtI5 VczUgWyZ127N5BLopMf1h+EhJC5nhnGE6RPAySP5F/Jo52KbyNaXW4xYFL+SVHWO3UWg+ENohcS mLCfJpG7zHuzYnxErBBp+zFnE5+KuJFpBLssffQVnfNPqPzwOw== X-Google-Smtp-Source: AGHT+IEvSM3baOUaCMiosGQglrNaz16DpoBXvU/FImJ3TxW6Fd+aGl4JnvNsIZVU9xBS1DcG+LHZmc1FPG+Z X-Received: by 2002:a17:903:32c4:b0:235:7c6:ebdb with SMTP id d9443c01a7336-23f9814047cmr13429565ad.10.1753228409652; Tue, 22 Jul 2025 16:53:29 -0700 (PDT) Received: from postal.iol.unh.edu (postal.iol.unh.edu. [2606:4100:3880:1234::84]) by smtp-relay.gmail.com with ESMTPS id d9443c01a7336-23e3b6f02e4sm5954825ad.100.2025.07.22.16.53.29 (version=TLS1_2 cipher=ECDHE-ECDSA-AES128-GCM-SHA256 bits=128/128); Tue, 22 Jul 2025 16:53:29 -0700 (PDT) X-Relaying-Domain: iol.unh.edu Date: Tue, 22 Jul 2025 16:53:29 -0700 (PDT) Message-ID: <68802479.170a0220.ba61b.e13eSMTPIN_ADDED_MISSING@mx.google.com> Received: from [172.21.0.3] (unknown [172.18.0.240]) by postal.iol.unh.edu (Postfix) with ESMTP id 25B016051830; Tue, 22 Jul 2025 19:53:29 -0400 (EDT) Subject: |SUCCESS| pw155429-155430 [PATCH] [v1,2/2] dts: add steps and verify From: dpdklab@iol.unh.edu To: Test Report Cc: dpdk-test-reports@iol.unh.edu In-Reply-To: <20250722171957.200698-2-dmarx@iol.unh.edu> References: <20250722171957.200698-2-dmarx@iol.unh.edu> Content-Type: text/plain X-BeenThere: test-report@dpdk.org X-Mailman-Version: 2.1.29 Precedence: list List-Id: automatic DPDK test reports List-Unsubscribe: , List-Archive: List-Post: List-Help: List-Subscribe: , Errors-To: test-report-bounces@dpdk.org Test-Label: iol-unit-amd64-testing Test-Status: SUCCESS http://dpdk.org/patch/155430 _Testing PASS_ Submitter: Dean Marx Date: Tuesday, July 22 2025 17:19:57 DPDK git baseline: Repo:dpdk Branch: master CommitID:f8fb19d5e2fc20798ed0caa292a1538fbbd98f96 155429-155430 --> testing pass Upstream job id: Generic-Unit-Test-DPDK#357511 Test environment and result as below: +-------------------------------+----------------+ | Environment | dpdk_unit_test | +===============================+================+ | CentOS Stream 10 | PASS | +-------------------------------+----------------+ | Debian GNU/Linux 12 | PASS | +-------------------------------+----------------+ | CentOS Stream 9 | PASS | +-------------------------------+----------------+ | Fedora Linux 40 | PASS | +-------------------------------+----------------+ | Red Hat Enterprise Linux 9.5 | PASS | +-------------------------------+----------------+ | Fedora Linux 41 | PASS | +-------------------------------+----------------+ | Red Hat Enterprise Linux 8.10 | PASS | +-------------------------------+----------------+ | Ubuntu 20.04 | PASS | +-------------------------------+----------------+ | Ubuntu 22.04 | PASS | +-------------------------------+----------------+ | Ubuntu 24.04 | PASS | +-------------------------------+----------------+ | Windows Server 2022 | PASS | +-------------------------------+----------------+ CentOS Stream 10 Kernel: 5.15 Compiler: gcc gcc (GCC) 14.2.1 20250110 (Red Hat 14.2.1-8) Debian GNU/Linux 12 Kernel: 5.15 Compiler: gcc gcc (Debian 12.2.0-14+deb12u1) 12.2.0 CentOS Stream 9 Kernel: 5.15 Compiler: gcc gcc (GCC) 11.5.0 20240719 (Red Hat 11.5.0-7) Fedora Linux 40 Kernel: 5.15 Compiler: gcc gcc (GCC) 14.2.1 20240912 (Red Hat 14.2.1-3) Red Hat Enterprise Linux 9.5 Kernel: 5.15 Compiler: gcc gcc (GCC) 11.5.0 20240719 (Red Hat 11.5.0-2) Fedora Linux 41 Kernel: 5.15 Compiler: clang gcc (GCC) 14.3.1 20250523 (Red Hat 14.3.1-1) Red Hat Enterprise Linux 8.10 Kernel: 5.15 Compiler: gcc gcc (GCC) 8.5.0 20210514 (Red Hat 8.5.0-22) Ubuntu 20.04 Kernel: 5.15 Compiler: gcc gcc (Ubuntu 9.4.0-1ubuntu1~20.04.2) 9.4.0 Ubuntu 22.04 Kernel: 5.15 Compiler: gcc gcc (Ubuntu 11.4.0-1ubuntu1~22.04) 11.4.0 Ubuntu 24.04 Kernel: 5.15 Compiler: gcc gcc (Ubuntu 13.3.0-6ubuntu2~24.04) 13.3.0 Windows Server 2022 Kernel: 10.0.20348.2031 Compiler: clang 15.0.7, gcc 14.1.0 (MinGW), and MSVC VS 19.39.33521 To view detailed results, visit: https://lab.dpdk.org/results/dashboard/patchsets/33728/ UNH-IOL DPDK Community Lab To manage your email subscriptions, visit: https://lab.dpdk.org/results/dashboard/preferences/subscriptions/