From mboxrd@z Thu Jan 1 00:00:00 1970 Return-Path: Received: from mails.dpdk.org (mails.dpdk.org [217.70.189.124]) by inbox.dpdk.org (Postfix) with ESMTP id 41CFE46BEA for ; Wed, 23 Jul 2025 02:15:04 +0200 (CEST) Received: from mails.dpdk.org (localhost [127.0.0.1]) by mails.dpdk.org (Postfix) with ESMTP id 243834026D; Wed, 23 Jul 2025 02:15:04 +0200 (CEST) Received: from mail-qv1-f98.google.com (mail-qv1-f98.google.com [209.85.219.98]) by mails.dpdk.org (Postfix) with ESMTP id 74EA34026D for ; Wed, 23 Jul 2025 02:15:03 +0200 (CEST) Received: by mail-qv1-f98.google.com with SMTP id 6a1803df08f44-6fac7147cb8so87154226d6.1 for ; Tue, 22 Jul 2025 17:15:03 -0700 (PDT) DKIM-Signature: v=1; a=rsa-sha256; c=relaxed/relaxed; d=iol.unh.edu; s=unh-iol; t=1753229703; x=1753834503; darn=dpdk.org; h=references:in-reply-to:cc:to:from:subject:message-id:date:from:to :cc:subject:date:message-id:reply-to; bh=C7aWixtoeBgPeU0nA/ullg3Kg7FtbJQ6TrdlleKNmVk=; b=ee1fHSasi3j5MGhig+hlsy+D4kn1c9ff7WKhLayrTCJfzt5OVv2szdsLFl3CX0DeZT osXu/roIAd4DdozmhWyEHYt82OEa87yLW+LJ0x4/Xc0mf60A4vAr+/5P9qnnTHQlRofL FMkRsXbzbp5kwTItPzP/fZk3zVVP+NRippLyw= X-Google-DKIM-Signature: v=1; a=rsa-sha256; c=relaxed/relaxed; d=1e100.net; s=20230601; t=1753229703; x=1753834503; h=references:in-reply-to:cc:to:from:subject:message-id:date :x-gm-message-state:from:to:cc:subject:date:message-id:reply-to; bh=C7aWixtoeBgPeU0nA/ullg3Kg7FtbJQ6TrdlleKNmVk=; b=jUQDYI/cEpeDpiDlAxDGYvbyhL+WA18w64+Npxhfv/5oXWNhUkLYDoJtaeVHD1dYqx +Lw2dWxh3v3xGdR1yotqPfOsdp3kRPUFOis2MZOhnV8Zw+9KRrh+KonFruWbYRdK5mkY wOOM/yn/Srapt+oPrQ9h2aWP1+k4WVthlsXJNh5tky8w9hIcoFeweyi6ML1jZNM9lizu GBuUNi48xzG641QNVx8W1nfQNvcdFFFL1ZTFVvnjA7wXfwyjykehxPgAHgiof5LKS9GC kA6unz3+DdDwrMc5Yxo0gxIfSyGIDpuPvZMHwvRXlBKSpKY6iAPEULpgp3sfJnffyYj2 jclg== X-Gm-Message-State: AOJu0Yx5qejoBFHo6gIAmM+7T+CWucTqp21434POA7kyC4O+mTtCT/x/ P0KeikU4MvvHQmE+JisJG9hQ2nO20AtD+VXUsFQKYh1b2YsR+6OgVIjpvqjKBFOTWRB4HzKf75g DZEhoOC8s9C71dKBJCqXeQcOB2Mj0q6nuUPTHvqE6Ux9M X-Gm-Gg: ASbGncv0uF8ZVOYt/a3r2LAAmped4PIrlt8gUMLKNunaWa1OwilaTwZM/HHOeiaDYE/ eVt7tHHm4L5r35jOvxRWnCEzpxD0LLE7uFbflyTNE2EEkq/8lEym6oe0XM0mtAe0XSis3n36dU2 SsSZtYcOb0pwImw4y+rgxjVpomV5E7frQXL8TDCEYPsIrSIBpB/XJGVfqPhwzbGHs05dkVX0vRu u4oUcTk+bz58/A6O8UtO9wPFpFrlWBlhybRS9KYYtEGt5lJsjSVaYidgVEM8iuirvDzdqr5n3M6 uvbdKQZ5TIddye84rzbKN6dEFy1uK7dEysWSv7OuC+QBB8kKgVIg8nsw5vb7lOxWS9syxu1v X-Google-Smtp-Source: AGHT+IE/2ZX6zoqA6fUNNVMSZAOqd0jl9+g6AES3QDoqCghVyO3sv0SvsdZgTgur0ZCg94VOkGzWCIU3dYA2 X-Received: by 2002:a05:6214:1bcc:b0:704:7c55:4ff3 with SMTP id 6a1803df08f44-707005d4672mr14453416d6.4.1753229702742; Tue, 22 Jul 2025 17:15:02 -0700 (PDT) Received: from postal.iol.unh.edu (postal.iol.unh.edu. [132.177.123.84]) by smtp-relay.gmail.com with ESMTPS id 6a1803df08f44-7051bccfe87sm5802376d6.30.2025.07.22.17.15.02 (version=TLS1_2 cipher=ECDHE-ECDSA-AES128-GCM-SHA256 bits=128/128); Tue, 22 Jul 2025 17:15:02 -0700 (PDT) X-Relaying-Domain: iol.unh.edu Date: Tue, 22 Jul 2025 17:15:02 -0700 (PDT) Message-ID: <68802986.050a0220.3b97e1.de09SMTPIN_ADDED_MISSING@mx.google.com> Received: from [172.21.0.2] (unknown [172.18.0.240]) by postal.iol.unh.edu (Postfix) with ESMTP id 7828A6051830; Tue, 22 Jul 2025 20:15:02 -0400 (EDT) Subject: |SUCCESS| pw155429-155430 [PATCH] [v1,2/2] dts: add steps and verify From: dpdklab@iol.unh.edu To: Test Report Cc: dpdk-test-reports@iol.unh.edu In-Reply-To: <20250722171957.200698-2-dmarx@iol.unh.edu> References: <20250722171957.200698-2-dmarx@iol.unh.edu> Content-Type: text/plain X-BeenThere: test-report@dpdk.org X-Mailman-Version: 2.1.29 Precedence: list List-Id: automatic DPDK test reports List-Unsubscribe: , List-Archive: List-Post: List-Help: List-Subscribe: , Errors-To: test-report-bounces@dpdk.org Test-Label: iol-abi-testing Test-Status: SUCCESS http://dpdk.org/patch/155430 _Testing PASS_ Submitter: Dean Marx Date: Tuesday, July 22 2025 17:19:57 DPDK git baseline: Repo:dpdk Branch: master CommitID:f8fb19d5e2fc20798ed0caa292a1538fbbd98f96 155429-155430 --> testing pass Upstream job id: Generic-DPDK-Compile-ABI#135363 Test environment and result as below: +-------------------------------+----------+ | Environment | abi_test | +===============================+==========+ | Fedora Linux 40 | PASS | +-------------------------------+----------+ | CentOS Stream 10 | PASS | +-------------------------------+----------+ | Debian GNU/Linux 12 | PASS | +-------------------------------+----------+ | CentOS Stream 9 | PASS | +-------------------------------+----------+ | openSUSE Leap 15.6 | PASS | +-------------------------------+----------+ | Ubuntu 24.04 | PASS | +-------------------------------+----------+ | Red Hat Enterprise Linux 8.10 | PASS | +-------------------------------+----------+ | Fedora Linux 41 | PASS | +-------------------------------+----------+ | Red Hat Enterprise Linux 9.5 | PASS | +-------------------------------+----------+ | Ubuntu 22.04 | PASS | +-------------------------------+----------+ Fedora Linux 40 Kernel: 5.15 Compiler: clang gcc (GCC) 14.2.1 20240912 (Red Hat 14.2.1-3) CentOS Stream 10 Kernel: 5.15 Compiler: gcc gcc (GCC) 14.2.1 20250110 (Red Hat 14.2.1-8) Debian GNU/Linux 12 Kernel: 5.15 Compiler: gcc gcc (Debian 12.2.0-14+deb12u1) 12.2.0 CentOS Stream 9 Kernel: 5.15 Compiler: gcc gcc (GCC) 11.5.0 20240719 (Red Hat 11.5.0-7) openSUSE Leap 15.6 Kernel: 5.15 Compiler: gcc gcc (SUSE Linux) 7.5.0 Ubuntu 24.04 Kernel: 5.15 Compiler: gcc gcc (Ubuntu 13.3.0-6ubuntu2~24.04) 13.3.0 Red Hat Enterprise Linux 8.10 Kernel: 5.15 Compiler: gcc gcc (GCC) 8.5.0 20210514 (Red Hat 8.5.0-22) Fedora Linux 41 Kernel: 5.15 Compiler: gcc gcc (GCC) 14.3.1 20250523 (Red Hat 14.3.1-1) Red Hat Enterprise Linux 9.5 Kernel: 5.15 Compiler: gcc gcc (GCC) 11.5.0 20240719 (Red Hat 11.5.0-2) Ubuntu 22.04 Kernel: 5.15 Compiler: gcc gcc (Ubuntu 11.4.0-1ubuntu1~22.04) 11.4.0 To view detailed results, visit: https://lab.dpdk.org/results/dashboard/patchsets/33728/ UNH-IOL DPDK Community Lab To manage your email subscriptions, visit: https://lab.dpdk.org/results/dashboard/preferences/subscriptions/