From mboxrd@z Thu Jan 1 00:00:00 1970 Return-Path: Received: from mails.dpdk.org (mails.dpdk.org [217.70.189.124]) by inbox.dpdk.org (Postfix) with ESMTP id 4475946BEA for ; Wed, 23 Jul 2025 02:15:08 +0200 (CEST) Received: from mails.dpdk.org (localhost [127.0.0.1]) by mails.dpdk.org (Postfix) with ESMTP id 3072A4026D; Wed, 23 Jul 2025 02:15:08 +0200 (CEST) Received: from mail-yw1-f226.google.com (mail-yw1-f226.google.com [209.85.128.226]) by mails.dpdk.org (Postfix) with ESMTP id 3E6CB4026D for ; Wed, 23 Jul 2025 02:15:07 +0200 (CEST) Received: by mail-yw1-f226.google.com with SMTP id 00721157ae682-7183d264e55so60739707b3.2 for ; Tue, 22 Jul 2025 17:15:07 -0700 (PDT) DKIM-Signature: v=1; a=rsa-sha256; c=relaxed/relaxed; d=iol.unh.edu; s=unh-iol; t=1753229706; x=1753834506; darn=dpdk.org; h=references:in-reply-to:cc:to:from:subject:message-id:date:from:to :cc:subject:date:message-id:reply-to; bh=UTpDgRoP66Z/9rD/ofoDJcdKnEfH9wPglYH9tu99xqM=; b=MxbAawSoja7xvXM6VTUfbYIKFRuN7xWa42M7HC1lxIGcgOeRMG0D+l2uTX49fW3AKW t3dmmcg+6dmThE119Vzy6b/sUuA4Fxs5dyilRnsI8FOakIZ7RX0/q8oujZXLDVCGbxTF IZRo37pZmDCTAXueTBOWhf6kMSqM60nJFLsns= X-Google-DKIM-Signature: v=1; a=rsa-sha256; c=relaxed/relaxed; d=1e100.net; s=20230601; t=1753229706; x=1753834506; h=references:in-reply-to:cc:to:from:subject:message-id:date :x-gm-message-state:from:to:cc:subject:date:message-id:reply-to; bh=UTpDgRoP66Z/9rD/ofoDJcdKnEfH9wPglYH9tu99xqM=; b=lAFy9SVUwwyLVZcw5b2QLbEXc0G6aW1Yq/K5n6afbOlaKr2d/TV++lk3rgGAkW1FNe R1nqBN1N8XVj6fDrqN/WlI97M13jrlHokzpbkNa/oZyupLqsL3KPJr7ONJI2QS9TtoeC BN/HG5x5I96EqNdCHu4UYUcCSo+G0eIYqP2xXlkpkdlpnqBokKvdo+7NKF2L/+VpxEAG ELQuAaFieJ9izf8sc2Zy1G1/RMFD4GVJN4MlW7XR7kS9TlJRpOUVnQMRPJ5MbCc31xye ZUq1Jbo8G0QG2n0T3pXBOnl5ByqPMRm7PItZySyZNwh2IJD5bIhqSGF82umJk5TLTJMb /+Cw== X-Gm-Message-State: AOJu0YyQSTRIaUA1CcBKQ7fXnWm3iQPppve5uRToc93vKpfA3uMUm44b Hq7c0V0KALqofGfFSZ1umHoJB6Q1l3HlVdZc5tUui6OlH064Ja065xuoDKpM5qSrAMW59Jzubzt Gtl7ikp2mSMtkx7zMa0xjEPrfRus8SmJqk39EUmP5N+LRbJDiXBZ8zu1WRhhK X-Gm-Gg: ASbGncuQ+VZDpXtEDW9JxJR3sXkyNWpNs2KSy+x6tjK3bQeA914JXKzvlnCdmIqp92a g34GgpHQbKGHkXpsqmnUVNdR52FihW/U5frZA+vjWNQdUxmCqr+94M2h5+pbCrTllHuFAb6GQFs 89OHCB/uXGaRO9Rga4WwARO8ch+aXdP0wbXx3Ca3Pd/x0KDfpqGeeMt8N1YF8W1juc3NccGJPQw POtjC6LmocakY0SynsjXoJLM7oSXu7e0HWhkZgG78dL/TCFfLk5eoPdjXnjDjVrFA5ySuSfHWvJ PnrSH0RF0rOa7dYXJKxk908H3k9laRpsZzFHmPU7pGa9j4cOsQ== X-Google-Smtp-Source: AGHT+IFbmfOBvkzHeG+uKc9iXvs9T/kSTOsdthdHO8feM26g1wQVsWhYzdTzj+5GQhl9Itjwai41s5PcIZZQ X-Received: by 2002:a05:690c:640a:b0:70e:2d3d:ace6 with SMTP id 00721157ae682-719b41657cemr14570797b3.15.1753229706536; Tue, 22 Jul 2025 17:15:06 -0700 (PDT) Received: from postal.iol.unh.edu (postal.iol.unh.edu. [2606:4100:3880:1234::84]) by smtp-relay.gmail.com with ESMTPS id 3f1490d57ef6-e8d7ce08595sm636151276.20.2025.07.22.17.15.06 (version=TLS1_2 cipher=ECDHE-ECDSA-AES128-GCM-SHA256 bits=128/128); Tue, 22 Jul 2025 17:15:06 -0700 (PDT) X-Relaying-Domain: iol.unh.edu Date: Tue, 22 Jul 2025 17:15:06 -0700 (PDT) Message-ID: <6880298a.250a0220.392444.04d3SMTPIN_ADDED_MISSING@mx.google.com> Received: from [172.21.0.3] (unknown [172.18.0.240]) by postal.iol.unh.edu (Postfix) with ESMTP id 27D7A6051830; Tue, 22 Jul 2025 20:15:06 -0400 (EDT) Subject: |SUCCESS| pw155429-155430 [PATCH] [v1,2/2] dts: add steps and verify From: dpdklab@iol.unh.edu To: Test Report Cc: dpdk-test-reports@iol.unh.edu In-Reply-To: <20250722171957.200698-2-dmarx@iol.unh.edu> References: <20250722171957.200698-2-dmarx@iol.unh.edu> Content-Type: text/plain X-BeenThere: test-report@dpdk.org X-Mailman-Version: 2.1.29 Precedence: list List-Id: automatic DPDK test reports List-Unsubscribe: , List-Archive: List-Post: List-Help: List-Subscribe: , Errors-To: test-report-bounces@dpdk.org Test-Label: iol-unit-amd64-testing Test-Status: SUCCESS http://dpdk.org/patch/155430 _Testing PASS_ Submitter: Dean Marx Date: Tuesday, July 22 2025 17:19:57 DPDK git baseline: Repo:dpdk Branch: master CommitID:f8fb19d5e2fc20798ed0caa292a1538fbbd98f96 155429-155430 --> testing pass Upstream job id: Generic-VM-Unit-Test-DPDK#30115 Test environment and result as below: +-------------------------------+----------------+ | Environment | dpdk_unit_test | +===============================+================+ | CentOS Stream 10 | PASS | +-------------------------------+----------------+ | Debian GNU/Linux 12 | PASS | +-------------------------------+----------------+ | CentOS Stream 9 | PASS | +-------------------------------+----------------+ | Fedora Linux 40 | PASS | +-------------------------------+----------------+ | Red Hat Enterprise Linux 9.5 | PASS | +-------------------------------+----------------+ | Fedora Linux 41 | PASS | +-------------------------------+----------------+ | Red Hat Enterprise Linux 8.10 | PASS | +-------------------------------+----------------+ | Ubuntu 20.04 | PASS | +-------------------------------+----------------+ | Ubuntu 22.04 | PASS | +-------------------------------+----------------+ | Ubuntu 24.04 | PASS | +-------------------------------+----------------+ | Windows Server 2022 | PASS | +-------------------------------+----------------+ CentOS Stream 10 Kernel: 5.15 Compiler: gcc gcc (GCC) 14.2.1 20250110 (Red Hat 14.2.1-8) Debian GNU/Linux 12 Kernel: 5.15 Compiler: gcc gcc (Debian 12.2.0-14+deb12u1) 12.2.0 CentOS Stream 9 Kernel: 5.15 Compiler: gcc gcc (GCC) 11.5.0 20240719 (Red Hat 11.5.0-7) Fedora Linux 40 Kernel: 5.15 Compiler: gcc gcc (GCC) 14.2.1 20240912 (Red Hat 14.2.1-3) Red Hat Enterprise Linux 9.5 Kernel: 5.15 Compiler: gcc gcc (GCC) 11.5.0 20240719 (Red Hat 11.5.0-2) Fedora Linux 41 Kernel: 5.15 Compiler: clang gcc (GCC) 14.3.1 20250523 (Red Hat 14.3.1-1) Red Hat Enterprise Linux 8.10 Kernel: 5.15 Compiler: gcc gcc (GCC) 8.5.0 20210514 (Red Hat 8.5.0-22) Ubuntu 20.04 Kernel: 5.15 Compiler: gcc gcc (Ubuntu 9.4.0-1ubuntu1~20.04.2) 9.4.0 Ubuntu 22.04 Kernel: 5.15 Compiler: gcc gcc (Ubuntu 11.4.0-1ubuntu1~22.04) 11.4.0 Ubuntu 24.04 Kernel: 5.15 Compiler: gcc gcc (Ubuntu 13.3.0-6ubuntu2~24.04) 13.3.0 Windows Server 2022 Kernel: 10.0.20348.2031 Compiler: clang 15.0.7, gcc 14.1.0 (MinGW), and MSVC VS 19.39.33521 To view detailed results, visit: https://lab.dpdk.org/results/dashboard/patchsets/33728/ UNH-IOL DPDK Community Lab To manage your email subscriptions, visit: https://lab.dpdk.org/results/dashboard/preferences/subscriptions/