From mboxrd@z Thu Jan 1 00:00:00 1970 Return-Path: Received: from mails.dpdk.org (mails.dpdk.org [217.70.189.124]) by inbox.dpdk.org (Postfix) with ESMTP id 9733346BEA for ; Wed, 23 Jul 2025 02:43:32 +0200 (CEST) Received: from mails.dpdk.org (localhost [127.0.0.1]) by mails.dpdk.org (Postfix) with ESMTP id 7CE114026D; Wed, 23 Jul 2025 02:43:32 +0200 (CEST) Received: from mail-il1-f227.google.com (mail-il1-f227.google.com [209.85.166.227]) by mails.dpdk.org (Postfix) with ESMTP id B6DD04026D for ; Wed, 23 Jul 2025 02:43:30 +0200 (CEST) Received: by mail-il1-f227.google.com with SMTP id e9e14a558f8ab-3e059b14cb1so2304935ab.0 for ; Tue, 22 Jul 2025 17:43:30 -0700 (PDT) DKIM-Signature: v=1; a=rsa-sha256; c=relaxed/relaxed; d=iol.unh.edu; s=unh-iol; t=1753231410; x=1753836210; darn=dpdk.org; h=references:in-reply-to:cc:to:from:subject:message-id:date:from:to :cc:subject:date:message-id:reply-to; bh=3BHgRAvqIgnvnk0Xk+bf4Bhcx0zBFWMwFq9/f8/VxSA=; b=GBCrOczcSDHpbVhZpRomvakrnEV1OSPkCTRRw1bHjLv59dLT6jgdXy/jdhewc+tXJA tv3Tfn1PoWJMA5O4PDjTqGs4QviXt5IGzQJUw4Ds66Ybz3h5NIh7poJlti72RaOdY+Ea 7mRPvzqYHSx9j0unRcJGVm8Y/bMlitIEa1GS4= X-Google-DKIM-Signature: v=1; a=rsa-sha256; c=relaxed/relaxed; d=1e100.net; s=20230601; t=1753231410; x=1753836210; h=references:in-reply-to:cc:to:from:subject:message-id:date :x-gm-message-state:from:to:cc:subject:date:message-id:reply-to; bh=3BHgRAvqIgnvnk0Xk+bf4Bhcx0zBFWMwFq9/f8/VxSA=; b=q32AOHCVPq0JCyIMLR/EaahPX97vPzEeGRPkj3+uxOPQjLVjYDPpUG5Sggx6zELwnL OiYEyPgP1xnl3e9uE2T59qPvjY66ga2MWw/GhCfuyb7MB4HgFMcIFDjnhUOjyEiQHSYP fpWN0/33w1IxVXJjjW/ty3iKsnuSTD8kdWUdxeWB6iMvOX54hjubylfg0yAZlCa+gik4 GEzhfOe4glx3AwLws0FxygW+IYOfs5cFAnxF5VlbtQhXTNe95HnSZJKNDp0XCj4nERlr udBHVoWgsmnOcLvVGXb/xHDLlR4wKkX82nr93PJa9XdipknMbHQTmP0/0dHu+1k3oh/T p8OA== X-Gm-Message-State: AOJu0YwG2J/b5KXPmneHjp2ZHIFF5VExn/tzL/1gMiwru/8ubyn+nzEf 3sFlCmUU74T14PKi3zk9mYGgOq389JHPmwKssXGtNbd+9Gkt88yzl66vRRfWCGBzL49ndKMs3rs 4oPOO3rem4KoltMsruKHiOhX8mtGEsHTA9zMBRyRvV+ry X-Gm-Gg: ASbGnct02fd9w8Ev4FBNMeA9d51dWd3rCBq8HO43Qv2mr2QnU8LtoHWWW1O+ZL1VnX8 Z21+BZgwQcNeAOXogYvSxPvWIiJH51Cqukx6b9XoQNp1uimQBNmEMY529KIovv8zjYLHp36VNcG tkSvVA0ctj3yqiWa+rTM3jZtkivmNTLJSte45a/kfLAYPssEI9JStjCyWyWtHkicE/Kt5W83Gp7 FN9LMx1p/0jqO/S99XD8c/p/ALW2A8kHpM7LW2OJblZ+sK5txPZI1Yc5rSo1kTt9U/GiNSQIYAL s72zq2TQouhmfwjIDuHRtVZZkHk4gtzDrpYdO1ffVoRoOf6DomWyrK3cZt39XpLZdrKg2HBy X-Google-Smtp-Source: AGHT+IHfBR7892cA5wOmSJZclO1LiMIAU/2pLQOi7UnMZNDKlR0Lq8kacd6i2/1AOH6BEpu/vuwAcCAeOVSc X-Received: by 2002:a6b:6816:0:b0:876:737:85da with SMTP id ca18e2360f4ac-87c536913a2mr743881939f.0.1753231409926; Tue, 22 Jul 2025 17:43:29 -0700 (PDT) Received: from postal.iol.unh.edu (postal.iol.unh.edu. [132.177.123.84]) by smtp-relay.gmail.com with ESMTPS id 8926c6da1cb9f-5084c7e233asm503789173.30.2025.07.22.17.43.29 (version=TLS1_2 cipher=ECDHE-ECDSA-AES128-GCM-SHA256 bits=128/128); Tue, 22 Jul 2025 17:43:29 -0700 (PDT) X-Relaying-Domain: iol.unh.edu Date: Tue, 22 Jul 2025 17:43:29 -0700 (PDT) Message-ID: <68803031.050a0220.45d01.98e7SMTPIN_ADDED_MISSING@mx.google.com> Received: from [172.21.0.3] (unknown [172.18.0.240]) by postal.iol.unh.edu (Postfix) with ESMTP id 740106051830; Tue, 22 Jul 2025 20:43:29 -0400 (EDT) Subject: |SUCCESS| pw155425 [PATCH] maintainers: update for DTS From: dpdklab@iol.unh.edu To: Test Report Cc: dpdk-test-reports@iol.unh.edu In-Reply-To: <20250722160529.2659392-1-luca.vizzarro@arm.com> References: <20250722160529.2659392-1-luca.vizzarro@arm.com> Content-Type: text/plain X-BeenThere: test-report@dpdk.org X-Mailman-Version: 2.1.29 Precedence: list List-Id: automatic DPDK test reports List-Unsubscribe: , List-Archive: List-Post: List-Help: List-Subscribe: , Errors-To: test-report-bounces@dpdk.org Test-Label: iol-unit-arm64-testing Test-Status: SUCCESS http://dpdk.org/patch/155425 _Testing PASS_ Submitter: Luca Vizzarro Date: Tuesday, July 22 2025 16:05:14 DPDK git baseline: Repo:dpdk Branch: master CommitID:b222395561638f89562e4ef42e1eabf2d6db43dd 155425 --> testing pass Upstream job id: Generic-Unit-Test-DPDK#357369 Test environment and result as below: +------------------------------+----------------+--------------+------------------------------+---------------------------+ | Environment | dpdk_unit_test | lpm_autotest | cryptodev_sw_snow3g_autotest | cryptodev_sw_zuc_autotest | +==============================+================+==============+==============================+===========================+ | Fedora Linux 41 | PASS | SKIPPED | SKIPPED | SKIPPED | +------------------------------+----------------+--------------+------------------------------+---------------------------+ | CentOS Stream 9 | PASS | SKIPPED | SKIPPED | SKIPPED | +------------------------------+----------------+--------------+------------------------------+---------------------------+ | Fedora Linux 40 | PASS | SKIPPED | SKIPPED | SKIPPED | +------------------------------+----------------+--------------+------------------------------+---------------------------+ | Debian GNU/Linux 12 | PASS | SKIPPED | SKIPPED | SKIPPED | +------------------------------+----------------+--------------+------------------------------+---------------------------+ | CentOS Stream 10 | PASS | SKIPPED | SKIPPED | SKIPPED | +------------------------------+----------------+--------------+------------------------------+---------------------------+ | Red Hat Enterprise Linux 9.5 | PASS | SKIPPED | SKIPPED | SKIPPED | +------------------------------+----------------+--------------+------------------------------+---------------------------+ | Ubuntu 20.04 | PASS | PASS | SKIPPED | SKIPPED | +------------------------------+----------------+--------------+------------------------------+---------------------------+ | Ubuntu 24.04 | PASS | SKIPPED | SKIPPED | SKIPPED | +------------------------------+----------------+--------------+------------------------------+---------------------------+ | Ubuntu 22.04 | PASS | SKIPPED | SKIPPED | SKIPPED | +------------------------------+----------------+--------------+------------------------------+---------------------------+ | Debian 12 (arm) | SKIPPED | SKIPPED | PASS | PASS | +------------------------------+----------------+--------------+------------------------------+---------------------------+ Fedora Linux 41 Kernel: 5.4 Compiler: clang gcc (GCC) 14.3.1 20250523 (Red Hat 14.3.1-1) CentOS Stream 9 Kernel: 5.4 Compiler: gcc gcc (GCC) 11.5.0 20240719 (Red Hat 11.5.0-7) Fedora Linux 40 Kernel: 5.4 Compiler: gcc gcc (GCC) 14.2.1 20240912 (Red Hat 14.2.1-3) Debian GNU/Linux 12 Kernel: 5.4 Compiler: gcc gcc (Debian 12.2.0-14+deb12u1) 12.2.0 CentOS Stream 10 Kernel: 5.4 Compiler: gcc gcc (GCC) 14.2.1 20250110 (Red Hat 14.2.1-8) Red Hat Enterprise Linux 9.5 Kernel: 5.4 Compiler: gcc gcc (GCC) 11.5.0 20240719 (Red Hat 11.5.0-2) Ubuntu 20.04 Kernel: 5.4 Compiler: gcc gcc (Ubuntu 9.4.0-1ubuntu1~20.04.2) 9.4.0 Ubuntu 24.04 Kernel: 5.4 Compiler: gcc gcc (Ubuntu 13.3.0-6ubuntu2~24.04) 13.3.0 Ubuntu 22.04 Kernel: 5.4 Compiler: gcc gcc (Ubuntu 11.4.0-1ubuntu1~22.04) 11.4.0 Debian 12 (arm) Kernel: Depends on container host Compiler: gcc (Debian 12.2.0-14) 12.2.0 To view detailed results, visit: https://lab.dpdk.org/results/dashboard/patchsets/33725/ UNH-IOL DPDK Community Lab To manage your email subscriptions, visit: https://lab.dpdk.org/results/dashboard/preferences/subscriptions/