From mboxrd@z Thu Jan 1 00:00:00 1970 Return-Path: Received: from mails.dpdk.org (mails.dpdk.org [217.70.189.124]) by inbox.dpdk.org (Postfix) with ESMTP id 6DEE146BEA for ; Wed, 23 Jul 2025 03:08:33 +0200 (CEST) Received: from mails.dpdk.org (localhost [127.0.0.1]) by mails.dpdk.org (Postfix) with ESMTP id 63A65402DC; Wed, 23 Jul 2025 03:08:33 +0200 (CEST) Received: from mail-pl1-f228.google.com (mail-pl1-f228.google.com [209.85.214.228]) by mails.dpdk.org (Postfix) with ESMTP id 3688A402DC for ; Wed, 23 Jul 2025 03:08:32 +0200 (CEST) Received: by mail-pl1-f228.google.com with SMTP id d9443c01a7336-235f9e87f78so57842825ad.2 for ; Tue, 22 Jul 2025 18:08:32 -0700 (PDT) DKIM-Signature: v=1; a=rsa-sha256; c=relaxed/relaxed; d=iol.unh.edu; s=unh-iol; t=1753232911; x=1753837711; darn=dpdk.org; h=references:in-reply-to:cc:to:from:subject:message-id:date:from:to :cc:subject:date:message-id:reply-to; bh=NjotNhR3ne87S1+Zg6Gxic38fPIJZY3RgB2bOFQdm5Q=; b=XvoqQ/u186BhRUCuqaDlj3ju80wcvn6RoR34dZ2+6m8030B0PvxMSKYTjfKa+vW/m2 NX6Ypx2hbFbyDW+gG+w2ExzG00UNtmWn3I7GYWeW+13fg5olQkBg0CyxH7URLqqj1//b /SMqHm/DattNxu9NNG0D3epFyOm0G7XwcRAHs= X-Google-DKIM-Signature: v=1; a=rsa-sha256; c=relaxed/relaxed; d=1e100.net; s=20230601; t=1753232911; x=1753837711; h=references:in-reply-to:cc:to:from:subject:message-id:date :x-gm-message-state:from:to:cc:subject:date:message-id:reply-to; bh=NjotNhR3ne87S1+Zg6Gxic38fPIJZY3RgB2bOFQdm5Q=; b=ShLnm7wKEZLhIlkJY63o+t2UKYi+R75rrQHnnzul91B4olQI2MDhcFCD0yrcKFghFo M9846VcYGAxix9VcYv/gggwZpMjzMAB1s9zNLcQhh8NDfIfhlNe/NSYIgKPETavU/jc5 qRTDFTdI9vpTvcwVXsHV4AR2eMKzaaf8jETYnB4bWwwafzD4+Xh22BIG8mrgUvqXMqBV nj3z/VGDufgpKESatjV72CE6F0LkDaps3M6yRKH8ptzOE+/exYetU6S9lZf1ToMHYNHE +WCZ+sY+vuqWLRu0pc2vP1ndM7ZkSDxLhFX/Nah0Yx4rhss3T/ErbPbz8FKjnAK49An3 thGA== X-Gm-Message-State: AOJu0YwPbksHcfCmUJPc3BeKwW5DPt3P2b2EUz5mZQsPNICyNyWYqnjc QrVQVWKASibo/681yqjdtXbUKQYE3/nZP5fruYD0RzZi2qQU1j1A/METBdnInziG89UrUsmL+li 8NicCX8Q9po8N5+ik8UdiUpzGG/DeP0PSfy1Z/n97jeQZ X-Gm-Gg: ASbGncvZpBlKdUqVgBVigW5vfo7ZSWJCeZ2gmwl4wiPdO6YkAllzWMjd8lKZ+6alpc+ 3ZRSWVeWYxDHTfR4SfU1m+wPPa7+VmfLPcJfGvrWOBF4jwjmu5cMnNv5/hLXUfP5V4aQMs7w3MX 5PyD8/HkUFaesux1vdIQklG2z22JNXitBQK4DcvEUSWiJlQGs4fZj/gvJuvHh8FY1hmS52bnZfa CwKMZY1hKNWBr1FjMNeV3/EkH1zsrQoa5oE9AL23mzX8oLsMAsyN7i0EwxoUZvmdu7hpopw+vEI dRl3fUj1NgY/vsUtW8WRihbK9Ggwly8SIX/fXfHZBvqyvQ20hExsG+UlJmbHTZ39aQr6LTg9 X-Google-Smtp-Source: AGHT+IHMQszxhaDuaGg63xJP8uyWQyR3NbM5LrusC6cWR0oiWfAcvaXdWy/3T9CjQJHPCw+HEq8IavS1Y6ct X-Received: by 2002:a17:903:13cf:b0:235:f18f:2911 with SMTP id d9443c01a7336-23f981328cemr15485905ad.2.1753232911393; Tue, 22 Jul 2025 18:08:31 -0700 (PDT) Received: from postal.iol.unh.edu (postal.iol.unh.edu. [132.177.123.84]) by smtp-relay.gmail.com with ESMTPS id d9443c01a7336-23e3b5f7ac0sm6275975ad.10.2025.07.22.18.08.31 (version=TLS1_2 cipher=ECDHE-ECDSA-AES128-GCM-SHA256 bits=128/128); Tue, 22 Jul 2025 18:08:31 -0700 (PDT) X-Relaying-Domain: iol.unh.edu Date: Tue, 22 Jul 2025 18:08:31 -0700 (PDT) Message-ID: <6880360f.170a0220.1158bb.f951SMTPIN_ADDED_MISSING@mx.google.com> Received: from [172.21.0.2] (unknown [172.18.0.240]) by postal.iol.unh.edu (Postfix) with ESMTP id A16E36051830; Tue, 22 Jul 2025 21:08:30 -0400 (EDT) Subject: |SUCCESS| pw155429-155430 [PATCH] [v1,2/2] dts: add steps and verify From: dpdklab@iol.unh.edu To: Test Report Cc: dpdk-test-reports@iol.unh.edu In-Reply-To: <20250722171957.200698-2-dmarx@iol.unh.edu> References: <20250722171957.200698-2-dmarx@iol.unh.edu> Content-Type: text/plain X-BeenThere: test-report@dpdk.org X-Mailman-Version: 2.1.29 Precedence: list List-Id: automatic DPDK test reports List-Unsubscribe: , List-Archive: List-Post: List-Help: List-Subscribe: , Errors-To: test-report-bounces@dpdk.org Test-Label: iol-abi-testing Test-Status: SUCCESS http://dpdk.org/patch/155430 _Testing PASS_ Submitter: Dean Marx Date: Tuesday, July 22 2025 17:19:57 DPDK git baseline: Repo:dpdk Branch: master CommitID:f8fb19d5e2fc20798ed0caa292a1538fbbd98f96 155429-155430 --> testing pass Upstream job id: Generic-DPDK-Compile-ABI#135376 Test environment and result as below: +-------------------------------+----------+ | Environment | abi_test | +===============================+==========+ | CentOS Stream 9 | PASS | +-------------------------------+----------+ | CentOS Stream 10 | PASS | +-------------------------------+----------+ | Debian GNU/Linux 12 | PASS | +-------------------------------+----------+ | Fedora Linux 40 | PASS | +-------------------------------+----------+ | Fedora Linux 41 | PASS | +-------------------------------+----------+ | openSUSE Leap 15.6 | PASS | +-------------------------------+----------+ | Red Hat Enterprise Linux 8.10 | PASS | +-------------------------------+----------+ | Red Hat Enterprise Linux 9.5 | PASS | +-------------------------------+----------+ | Ubuntu 22.04 | PASS | +-------------------------------+----------+ | Ubuntu 24.04 | PASS | +-------------------------------+----------+ CentOS Stream 9 Kernel: 5.15 Compiler: gcc gcc (GCC) 11.5.0 20240719 (Red Hat 11.5.0-7) CentOS Stream 10 Kernel: 5.15 Compiler: gcc gcc (GCC) 14.2.1 20250110 (Red Hat 14.2.1-8) Debian GNU/Linux 12 Kernel: 5.15 Compiler: gcc gcc (Debian 12.2.0-14+deb12u1) 12.2.0 Fedora Linux 40 Kernel: 5.15 Compiler: clang gcc (GCC) 14.2.1 20240912 (Red Hat 14.2.1-3) Fedora Linux 41 Kernel: 5.15 Compiler: clang gcc (GCC) 14.3.1 20250523 (Red Hat 14.3.1-1) openSUSE Leap 15.6 Kernel: 5.15 Compiler: gcc gcc (SUSE Linux) 7.5.0 Red Hat Enterprise Linux 8.10 Kernel: 5.15 Compiler: gcc gcc (GCC) 8.5.0 20210514 (Red Hat 8.5.0-22) Red Hat Enterprise Linux 9.5 Kernel: 5.15 Compiler: gcc gcc (GCC) 11.5.0 20240719 (Red Hat 11.5.0-2) Ubuntu 22.04 Kernel: 5.15 Compiler: gcc gcc (Ubuntu 11.4.0-1ubuntu1~22.04) 11.4.0 Ubuntu 24.04 Kernel: 5.15 Compiler: gcc gcc (Ubuntu 13.3.0-6ubuntu2~24.04) 13.3.0 To view detailed results, visit: https://lab.dpdk.org/results/dashboard/patchsets/33728/ UNH-IOL DPDK Community Lab To manage your email subscriptions, visit: https://lab.dpdk.org/results/dashboard/preferences/subscriptions/