From mboxrd@z Thu Jan 1 00:00:00 1970 Return-Path: Received: from mails.dpdk.org (mails.dpdk.org [217.70.189.124]) by inbox.dpdk.org (Postfix) with ESMTP id E5F2346BEA for ; Wed, 23 Jul 2025 03:25:06 +0200 (CEST) Received: from mails.dpdk.org (localhost [127.0.0.1]) by mails.dpdk.org (Postfix) with ESMTP id C5C244026D; Wed, 23 Jul 2025 03:25:06 +0200 (CEST) Received: from mail-qv1-f100.google.com (mail-qv1-f100.google.com [209.85.219.100]) by mails.dpdk.org (Postfix) with ESMTP id 106E14026D for ; Wed, 23 Jul 2025 03:25:06 +0200 (CEST) Received: by mail-qv1-f100.google.com with SMTP id 6a1803df08f44-6fa980d05a8so41350306d6.2 for ; Tue, 22 Jul 2025 18:25:06 -0700 (PDT) DKIM-Signature: v=1; a=rsa-sha256; c=relaxed/relaxed; d=iol.unh.edu; s=unh-iol; t=1753233905; x=1753838705; darn=dpdk.org; h=references:in-reply-to:cc:to:from:subject:message-id:date:from:to :cc:subject:date:message-id:reply-to; bh=bqv0Sr5opPKzALd5pGlGSfvvh1QGERwXnoIRvViKGAo=; b=hRN8//02SBKvjphG1bm7EYQmju8uY8k8xdXoKvq6EHjyKrKp64AxcmaS8L9POzyTbp YgzOw8K12e6/62nAucUeUDF3xkLt6xtfRT/VACJS0fXNJ9d2a8McDJAdngnyTe6c7vz9 ZAwtM41m8Jg3irqcKri+whmd3XJt55fvjDZYk= X-Google-DKIM-Signature: v=1; a=rsa-sha256; c=relaxed/relaxed; d=1e100.net; s=20230601; t=1753233905; x=1753838705; h=references:in-reply-to:cc:to:from:subject:message-id:date :x-gm-message-state:from:to:cc:subject:date:message-id:reply-to; bh=bqv0Sr5opPKzALd5pGlGSfvvh1QGERwXnoIRvViKGAo=; b=BNiZZ3tacjZ32OKggnyl0WkiRXAH5/MEQxwuA4AW/zqhlwZ4oNn28FakT8fJrRdzIn lpKHixhOLBXx4/Jde6s5qTlePWytdKbuyIzwWxRn5uPtG06uVA/oSZ1fI9L7jJ6Vucic CA4nDaoob5Oc1oXH/KNECkuJIPoTNszSvFIt+tIM7TqhczZLkkroVyGcUeAr4EzXwmsL 1N5EFPP0+xe4s3srfsEjk8OShaqFGun+13AzjLdUhlJNeRZdSK3EqAgL6My3WCEJ89+G Q5GXFM9LAWkWKqjhW6eBSja3j7tzDN8zH/XovMwNnFWWims1Qir9LctJcHgd5FA99m/n zrtA== X-Gm-Message-State: AOJu0Ywr6+3k5A9BoU87icKM9Zr7HMFKtxV+/t3jAAJ2TEdr2ZLtsCQ1 kXcEJAxuFhzozLWskpUwkFvpJTRQbi6srX4XAvmd8vsm0gHjCHpkTL/Ip/3wB+0RcCz/HLa14mm 1uyYuwEJnggrj0oJ/8FZkp3zZjBnf/TvxjcQkunjzsPCp X-Gm-Gg: ASbGncsiwA2uLpMMZppcqhyS29AJWgU7cn8ng6GPayqnXY+Jh0NQlGQPJVbOm44MSvn cXn0QFCdOIt3Otq09vATCfYs8r6Dpg8wbYiuCHLeBGOmWjVQ9KEQaDex+X1rqsnvIsT0Q3ho9pz kuxlNFwe9j8NWSukNTHY/B+aUAMEokEanayBtC3eXemSekLBOAj910awJS3AAYEIEHQcOVpp/+L w0i+2sVHiJ2OUpM4tik5daCfkf/18GPSeXIVrjSqwLBe+LmpPlADm4aEWPCa/27kH9UddwkpizC qm4V0Wl5JcE3B7P563IwsV5mGCpugwsgspZokGM/xToxf2LaM/8IH564mQ8hxMqSH3iMr/m/ X-Google-Smtp-Source: AGHT+IFbp9GIYYEc+DKdJD+fwZXvzo+3s4GIJctNhWHbHnHwNru+qSxAJudMTuWmWggwB+ylGmvEowdcQGuv X-Received: by 2002:ad4:5dcf:0:b0:702:d83a:7148 with SMTP id 6a1803df08f44-70700652123mr21558256d6.23.1753233905306; Tue, 22 Jul 2025 18:25:05 -0700 (PDT) Received: from postal.iol.unh.edu (postal.iol.unh.edu. [132.177.123.84]) by smtp-relay.gmail.com with ESMTPS id 6a1803df08f44-706ffcde20bsm419356d6.62.2025.07.22.18.25.05 (version=TLS1_2 cipher=ECDHE-ECDSA-AES128-GCM-SHA256 bits=128/128); Tue, 22 Jul 2025 18:25:05 -0700 (PDT) X-Relaying-Domain: iol.unh.edu Date: Tue, 22 Jul 2025 18:25:05 -0700 (PDT) Message-ID: <688039f1.050a0220.12166c.2127SMTPIN_ADDED_MISSING@mx.google.com> Received: from [172.21.0.6] (unknown [172.18.0.240]) by postal.iol.unh.edu (Postfix) with ESMTP id 053AE6051830; Tue, 22 Jul 2025 21:25:05 -0400 (EDT) Subject: |SUCCESS| pw155426-155427 [PATCH] [v3,2/2] test/strsep: add tests fo From: dpdklab@iol.unh.edu To: Test Report Cc: dpdk-test-reports@iol.unh.edu In-Reply-To: <1753202334-27615-2-git-send-email-andremue@linux.microsoft.com> References: <1753202334-27615-2-git-send-email-andremue@linux.microsoft.com> Content-Type: text/plain X-BeenThere: test-report@dpdk.org X-Mailman-Version: 2.1.29 Precedence: list List-Id: automatic DPDK test reports List-Unsubscribe: , List-Archive: List-Post: List-Help: List-Subscribe: , Errors-To: test-report-bounces@dpdk.org Test-Label: iol-compile-amd64-testing Test-Status: SUCCESS http://dpdk.org/patch/155427 _Testing PASS_ Submitter: Andre Muezerie Date: Tuesday, July 22 2025 16:38:54 DPDK git baseline: Repo:dpdk Branch: master CommitID:b222395561638f89562e4ef42e1eabf2d6db43dd 155426-155427 --> testing pass Upstream job id: Generic-DPDK-Compile-Meson#411165 Test environment and result as below: +-------------------------------+--------------------+-------------------+-------------------------+----------------------+-------------------+------------------+ | Environment | dpdk_meson_compile | dpdk_msvc_compile | dpdk_llvm_clang_compile | dpdk_mingw64_compile | dpdk_compile_spdk | dpdk_compile_ovs | +===============================+====================+===================+=========================+======================+===================+==================+ | Ubuntu 20.04 | PASS | SKIPPED | SKIPPED | SKIPPED | SKIPPED | SKIPPED | +-------------------------------+--------------------+-------------------+-------------------------+----------------------+-------------------+------------------+ | FreeBSD 14.2 | PASS | SKIPPED | SKIPPED | SKIPPED | SKIPPED | SKIPPED | +-------------------------------+--------------------+-------------------+-------------------------+----------------------+-------------------+------------------+ | CentOS Stream 9 | PASS | SKIPPED | SKIPPED | SKIPPED | PASS | SKIPPED | +-------------------------------+--------------------+-------------------+-------------------------+----------------------+-------------------+------------------+ | CentOS Stream 10 | PASS | SKIPPED | SKIPPED | SKIPPED | SKIPPED | SKIPPED | +-------------------------------+--------------------+-------------------+-------------------------+----------------------+-------------------+------------------+ | Debian GNU/Linux 12 | PASS | SKIPPED | SKIPPED | SKIPPED | PASS | SKIPPED | +-------------------------------+--------------------+-------------------+-------------------------+----------------------+-------------------+------------------+ | Fedora Linux 40 | PASS | SKIPPED | SKIPPED | SKIPPED | PASS | SKIPPED | +-------------------------------+--------------------+-------------------+-------------------------+----------------------+-------------------+------------------+ | Fedora Linux 41 | PASS | SKIPPED | SKIPPED | SKIPPED | PASS | PASS | +-------------------------------+--------------------+-------------------+-------------------------+----------------------+-------------------+------------------+ | openSUSE Leap 15.6 | PASS | SKIPPED | SKIPPED | SKIPPED | SKIPPED | SKIPPED | +-------------------------------+--------------------+-------------------+-------------------------+----------------------+-------------------+------------------+ | Red Hat Enterprise Linux 8.10 | PASS | SKIPPED | SKIPPED | SKIPPED | SKIPPED | SKIPPED | +-------------------------------+--------------------+-------------------+-------------------------+----------------------+-------------------+------------------+ | Red Hat Enterprise Linux 9.5 | PASS | SKIPPED | SKIPPED | SKIPPED | SKIPPED | SKIPPED | +-------------------------------+--------------------+-------------------+-------------------------+----------------------+-------------------+------------------+ | Ubuntu 22.04 | PASS | SKIPPED | SKIPPED | SKIPPED | PASS | SKIPPED | +-------------------------------+--------------------+-------------------+-------------------------+----------------------+-------------------+------------------+ | Ubuntu 24.04 | PASS | SKIPPED | SKIPPED | SKIPPED | PASS | PASS | +-------------------------------+--------------------+-------------------+-------------------------+----------------------+-------------------+------------------+ | Alpine Linux 3.22.0 | PASS | SKIPPED | SKIPPED | SKIPPED | SKIPPED | SKIPPED | +-------------------------------+--------------------+-------------------+-------------------------+----------------------+-------------------+------------------+ | Windows Server 2022 | SKIPPED | PASS | PASS | PASS | SKIPPED | SKIPPED | +-------------------------------+--------------------+-------------------+-------------------------+----------------------+-------------------+------------------+ Ubuntu 20.04 Kernel: 4.19 Compiler: gcc gcc (Ubuntu 9.4.0-1ubuntu1~20.04.2) 9.4.0 FreeBSD 14.2 Kernel: 14.2-RELEASE Compiler: clang 18.1.6 CentOS Stream 9 Kernel: 5.15 Compiler: gcc gcc (GCC) 11.5.0 20240719 (Red Hat 11.5.0-7) CentOS Stream 10 Kernel: 5.15 Compiler: gcc gcc (GCC) 14.2.1 20250110 (Red Hat 14.2.1-8) Debian GNU/Linux 12 Kernel: 5.15 Compiler: gcc gcc (Debian 12.2.0-14+deb12u1) 12.2.0 Fedora Linux 40 Kernel: 5.15 Compiler: clang gcc (GCC) 14.2.1 20240912 (Red Hat 14.2.1-3) Fedora Linux 41 Kernel: 5.15 Compiler: clang gcc (GCC) 14.3.1 20250523 (Red Hat 14.3.1-1) openSUSE Leap 15.6 Kernel: 5.15 Compiler: gcc gcc (SUSE Linux) 7.5.0 Red Hat Enterprise Linux 8.10 Kernel: 5.15 Compiler: gcc gcc (GCC) 8.5.0 20210514 (Red Hat 8.5.0-22) Red Hat Enterprise Linux 9.5 Kernel: 5.15 Compiler: gcc gcc (GCC) 11.5.0 20240719 (Red Hat 11.5.0-2) Ubuntu 22.04 Kernel: 5.15 Compiler: gcc gcc (Ubuntu 11.4.0-1ubuntu1~22.04) 11.4.0 Ubuntu 24.04 Kernel: 5.15 Compiler: gcc gcc (Ubuntu 13.3.0-6ubuntu2~24.04) 13.3.0 Alpine Linux 3.22.0 Kernel: 5.15 Compiler: gcc gcc (Alpine 14.2.0) 14.2.0 Windows Server 2022 Kernel: 10.0.20348.2031 Compiler: clang 15.0.7, gcc 14.1.0 (MinGW), and MSVC VS 19.39.33521 To view detailed results, visit: https://lab.dpdk.org/results/dashboard/patchsets/33726/ UNH-IOL DPDK Community Lab To manage your email subscriptions, visit: https://lab.dpdk.org/results/dashboard/preferences/subscriptions/